BEGIN:VCALENDAR
VERSION:2.0
PRODID:-//Club 85 - ECPv6.15.20//NONSGML v1.0//EN
CALSCALE:GREGORIAN
METHOD:PUBLISH
X-WR-CALNAME:Club 85
X-ORIGINAL-URL:https://club-85.co.uk
X-WR-CALDESC:Events for Club 85
REFRESH-INTERVAL;VALUE=DURATION:PT1H
X-Robots-Tag:noindex
X-PUBLISHED-TTL:PT1H
BEGIN:VTIMEZONE
TZID:Europe/London
BEGIN:DAYLIGHT
TZOFFSETFROM:+0000
TZOFFSETTO:+0100
TZNAME:BST
DTSTART:20230326T010000
END:DAYLIGHT
BEGIN:STANDARD
TZOFFSETFROM:+0100
TZOFFSETTO:+0000
TZNAME:GMT
DTSTART:20231029T010000
END:STANDARD
BEGIN:DAYLIGHT
TZOFFSETFROM:+0000
TZOFFSETTO:+0100
TZNAME:BST
DTSTART:20240331T010000
END:DAYLIGHT
BEGIN:STANDARD
TZOFFSETFROM:+0100
TZOFFSETTO:+0000
TZNAME:GMT
DTSTART:20241027T010000
END:STANDARD
BEGIN:DAYLIGHT
TZOFFSETFROM:+0000
TZOFFSETTO:+0100
TZNAME:BST
DTSTART:20250330T010000
END:DAYLIGHT
BEGIN:STANDARD
TZOFFSETFROM:+0100
TZOFFSETTO:+0000
TZNAME:GMT
DTSTART:20251026T010000
END:STANDARD
END:VTIMEZONE
BEGIN:VEVENT
DTSTART;TZID=Europe/London:20240229T200000
DTEND;TZID=Europe/London:20240229T230000
DTSTAMP:20260426T023417
CREATED:20240130T191336Z
LAST-MODIFIED:20240130T191417Z
UID:10000368-1709236800-1709247600@club-85.co.uk
SUMMARY:DAYBREAK/ WKTD/ SHARPER SIDE/ SUNDYE
DESCRIPTION:DAYBREAK\nDaybreak\, a vibrant 6-piece band hailing from Bedfordshire\, fuses raw and gritty tones with a powerful melodic touch\, crafting a captivating auditory experience \nWKTD \nSHARPER SIDE\nSharper Side are a high energy 3-piece pop-punk band based in Herts and North London\, mixing the classic 2000’s alt sound with hard rock elements to keep it fresh for the twenties. \nSUNDYE\nSundye is an indie pop band who are passionate about creating powerful and meaningful music. Our sound is a mixture of fun and energetic pop music\, combined with emotional and powerful songs that convey deep meaning. Our lyrics are reflective of our own experiences and are specifically written to connect with the listener\, bringing them into our world and the complexity of the human experience. Our live performance is truly powerful and we bring our energy and passion to every show. We look forward to sharing our music with you. \nTICKETS: £7 Adv / £9 Door \nFor tickets please (click here) \nDoors: 8pm \n\n\nAge: 16+ (bring ID) Younger patrons can be signed in at the door and accompanied for the duration of the show by a responsible adult.\nEarplugs are available upon request (50p).\nDownstairs bar open until 1am.\nLike all our gigs this show finishes well in time for the last trains North and South to Cambridge/Peterborough and London and we are just a 5 minute stroll from the station.\nFor full up to the minute listings please visit www.club-85.co.uk and consider signing up to our mailing list for information on existing and upcoming gigs straight to you!
URL:https://club-85.co.uk/event/daybreak-wktd-sharper-side-sundye/
LOCATION:Club 85\, 74 Whinbush Road\, Hitchin\, Hertfordshire\, SG5 1PZ\, United Kingdom
ATTACH;FMTTYPE=image/jpeg:https://club-85.co.uk/wp-content/uploads/2024/01/1706641106154-c3e2be73-e55e-4f74-83d3-b1deaa1770db_1.jpg
GEO:51.9528628;-0.2720485
X-APPLE-STRUCTURED-LOCATION;VALUE=URI;X-ADDRESS=Club 85 74 Whinbush Road Hitchin Hertfordshire SG5 1PZ United Kingdom;X-APPLE-RADIUS=500;X-TITLE=74 Whinbush Road:geo:-0.2720485,51.9528628
END:VEVENT
END:VCALENDAR