BEGIN:VCALENDAR
VERSION:2.0
PRODID:-//Club 85 - ECPv6.15.20//NONSGML v1.0//EN
CALSCALE:GREGORIAN
METHOD:PUBLISH
X-ORIGINAL-URL:https://club-85.co.uk
X-WR-CALDESC:Events for Club 85
REFRESH-INTERVAL;VALUE=DURATION:PT1H
X-Robots-Tag:noindex
X-PUBLISHED-TTL:PT1H
BEGIN:VTIMEZONE
TZID:Europe/London
BEGIN:DAYLIGHT
TZOFFSETFROM:+0000
TZOFFSETTO:+0100
TZNAME:BST
DTSTART:20230326T010000
END:DAYLIGHT
BEGIN:STANDARD
TZOFFSETFROM:+0100
TZOFFSETTO:+0000
TZNAME:GMT
DTSTART:20231029T010000
END:STANDARD
BEGIN:DAYLIGHT
TZOFFSETFROM:+0000
TZOFFSETTO:+0100
TZNAME:BST
DTSTART:20240331T010000
END:DAYLIGHT
BEGIN:STANDARD
TZOFFSETFROM:+0100
TZOFFSETTO:+0000
TZNAME:GMT
DTSTART:20241027T010000
END:STANDARD
BEGIN:DAYLIGHT
TZOFFSETFROM:+0000
TZOFFSETTO:+0100
TZNAME:BST
DTSTART:20250330T010000
END:DAYLIGHT
BEGIN:STANDARD
TZOFFSETFROM:+0100
TZOFFSETTO:+0000
TZNAME:GMT
DTSTART:20251026T010000
END:STANDARD
END:VTIMEZONE
BEGIN:VEVENT
DTSTART;TZID=Europe/London:20240503T194500
DTEND;TZID=Europe/London:20240503T233000
DTSTAMP:20260425T223731
CREATED:20240103T165718Z
LAST-MODIFIED:20240103T165805Z
UID:10000359-1714765500-1714779000@club-85.co.uk
SUMMARY:The Pad Presents... THE ORB + Guests
DESCRIPTION:The Pad Presents…\n\nTHE ORB + Guests\n\nVery pleased to announce we are bringing THE ORB to Club 85 in Hitchin for an intimate show on Friday 3rd May.\n\nThirty-five years since Alex Paterson lit the multi-coloured touchpaper on The Orb’s interstellar space odyssey\, he continues to swerve\, becoming his own tribute act by never standing still and preparing a cluster of fresh new projects. \n\n\nSETI\, the latest collaboration between Alex Paterson and Andy Falconer of The Orb\, takes listeners on an enchanting nighttime voyage through the cosmos. It’s an “ambient unplugged” experience filled with acoustic instruments and nostalgic samples\, bridging the realms of old-world charm and uncharted territories. The album presents a harmonious blend of glacial-paced melodies\, Nyabinghi percussion\, mandolin\, and acoustic guitar\, offering a unique fusion of elements. \n\n\nSETI\, which stands for Search For Extra terrestrial Intelligence\, not only explores the universe but also provides a comfortable\, chill-out space within its musical ambience. This record is a testament to the creative synergy between Paterson and Falconer\, who effortlessly navigate uncharted musical territory\, building on decades of trust and shared curiosity. \n\n\nWhat’s more\, 2024 will be graced by an up-to-date Best of The Orb set. \n\n\nTickets priced £25 are on sale from Seetickets from 10am on Friday 5th January and available locally from Saturday 6th January. \n\n\n14+ only. 14s to 16s must be accompanied by an adult. No refunds will be given for incorrectly booked tickets. \nTicket link: https://www.seetickets.com/event/the-orb/club-85 \nDoors: 7:45pm \nAge: 16+ Younger patrons can be signed in at the door and accompanied for the duration of the show by a responsible adult.\nEarplugs are available upon request (50p).\nDownstairs bar open until 1am.\nLike all our gigs this show finishes well in time for the last trains North and South to Cambridge/Peterborough and London and we are just a 5 minute stroll from the station.\nFor full up to the minute listings please visit www.club-85.co.uk and consider signing up to our mailing list for information on existing and upcoming gigs straight to you!\nAnd remember… Club 85 loves you! x
URL:https://club-85.co.uk/event/the-pad-presents-the-orb-guests/
LOCATION:Club 85\, 74 Whinbush Road\, Hitchin\, Hertfordshire\, SG5 1PZ\, United Kingdom
ATTACH;FMTTYPE=image/jpeg:https://club-85.co.uk/wp-content/uploads/2024/01/The-Orb-Square-copy-1.jpg
GEO:51.9528628;-0.2720485
X-APPLE-STRUCTURED-LOCATION;VALUE=URI;X-ADDRESS=Club 85 74 Whinbush Road Hitchin Hertfordshire SG5 1PZ United Kingdom;X-APPLE-RADIUS=500;X-TITLE=74 Whinbush Road:geo:-0.2720485,51.9528628
END:VEVENT
END:VCALENDAR