BEGIN:VCALENDAR
VERSION:2.0
PRODID:-//Club 85 - ECPv6.15.20//NONSGML v1.0//EN
CALSCALE:GREGORIAN
METHOD:PUBLISH
X-ORIGINAL-URL:https://club-85.co.uk
X-WR-CALDESC:Events for Club 85
REFRESH-INTERVAL;VALUE=DURATION:PT1H
X-Robots-Tag:noindex
X-PUBLISHED-TTL:PT1H
BEGIN:VTIMEZONE
TZID:Europe/London
BEGIN:DAYLIGHT
TZOFFSETFROM:+0000
TZOFFSETTO:+0100
TZNAME:BST
DTSTART:20230326T010000
END:DAYLIGHT
BEGIN:STANDARD
TZOFFSETFROM:+0100
TZOFFSETTO:+0000
TZNAME:GMT
DTSTART:20231029T010000
END:STANDARD
BEGIN:DAYLIGHT
TZOFFSETFROM:+0000
TZOFFSETTO:+0100
TZNAME:BST
DTSTART:20240331T010000
END:DAYLIGHT
BEGIN:STANDARD
TZOFFSETFROM:+0100
TZOFFSETTO:+0000
TZNAME:GMT
DTSTART:20241027T010000
END:STANDARD
BEGIN:DAYLIGHT
TZOFFSETFROM:+0000
TZOFFSETTO:+0100
TZNAME:BST
DTSTART:20250330T010000
END:DAYLIGHT
BEGIN:STANDARD
TZOFFSETFROM:+0100
TZOFFSETTO:+0000
TZNAME:GMT
DTSTART:20251026T010000
END:STANDARD
END:VTIMEZONE
BEGIN:VEVENT
DTSTART;TZID=Europe/London:20240505T183000
DTEND;TZID=Europe/London:20240505T230000
DTSTAMP:20260425T223623
CREATED:20240206T190437Z
LAST-MODIFIED:20240501T182633Z
UID:10000238-1714933800-1714950000@club-85.co.uk
SUMMARY:Bloodstock Metal 2 the Masses – Hitchin – Heat 2.
DESCRIPTION:Bloodstock Metal 2 the Masses – Hitchin – Heat 2.\nwww.facebook.com/M2TMHITCHIN\n\n\nClub 85 and Bloodstock M2TM are uniting again for 2023\, giving more of your favourite unsigned bands a chance to play Bloodstock Open Air and get there names out there!\n\nCome on Hitchin\, lets show ’em what we’re made of! Get down here and show your local musicians some love; they’ve done their bit for us and now it’s our turn!\n\nEach heat will consist a special guest headliner and 4 competing bands! \n\n\nLine up as follows \n\nSpecial guest headliners:\nVoidwalker\nTechnical death meatloaf band from Leicester UK. Slams may or may not be included.\nhttps://www.facebook.com/voidwalkerband\n\nCompeting bands in no particular order: \nThe Basement Puppets https://www.facebook.com/profile.php?id=100091415137355 \n\n\nBuried On Sunday\nWe are a band that aims to create the most ruthless music in the industry. We have a burning desire to make songs that connect with our audience on a deeply personal and emotional level while pushing the boundaries of the hard rock genre. We’re not a funeral service but we will roll your body up in a carpet and throw it from a moving car if you pay us.\nhttps://www.facebook.com/BuriedOnSundayUK\n \nKodama\nUK Metal\nhttps://www.facebook.com/kodamauk\n \nBlack River Dogs\nUK Heavy Rock Band\nhttps://www.facebook.com/BlackRiverDogs \n  \nHOW IT WORKS: \n\n\n-All heats and will be 50% audience vote and 50% judges vote.\n-2 bands from each heat will go through to June SEMI finals.\n-SEMI finals voting will be 70% judges vote and 30% audience vote.\n-2 from each semi then go through to the 29th June GRAND final!\n-GRAND final voting is 100% judges vote!\n\n\nTickets: £8 + 10% booking fee or £9 on the door\nPlease scroll down this page to purchase tickets.Doors: 6:30pm\nAge: 16+ with photo ID – younger patrons can be signed in at the door and accompanied for the duration of the show by a responsible adult.\nEarplugs are available upon request (50p).\nDownstairs bar open until 11pm.\nLike all our gigs this show finishes well in time for the last trains North and South to Cambridge/Peterborough and London and we are just a 5 minute stroll from the station.\nFor full up to the minute listings please visit www.club-85.co.uk and consider signing up to our mailing list for information on existing and upcoming gigs straight to you!\nAnd remember… Club 85 loves you! xo
URL:https://club-85.co.uk/event/bloodstock-metal-2-the-masses-hitchin-heat-2/
LOCATION:Club 85\, 74 Whinbush Road\, Hitchin\, Hertfordshire\, SG5 1PZ\, United Kingdom
ATTACH;FMTTYPE=image/png:https://club-85.co.uk/wp-content/uploads/2024/02/438099479_945374254258497_6392519972864157126_n.png
GEO:51.9528628;-0.2720485
X-APPLE-STRUCTURED-LOCATION;VALUE=URI;X-ADDRESS=Club 85 74 Whinbush Road Hitchin Hertfordshire SG5 1PZ United Kingdom;X-APPLE-RADIUS=500;X-TITLE=74 Whinbush Road:geo:-0.2720485,51.9528628
END:VEVENT
END:VCALENDAR