BEGIN:VCALENDAR
VERSION:2.0
PRODID:-//Club 85 - ECPv6.15.20//NONSGML v1.0//EN
CALSCALE:GREGORIAN
METHOD:PUBLISH
X-ORIGINAL-URL:https://club-85.co.uk
X-WR-CALDESC:Events for Club 85
REFRESH-INTERVAL;VALUE=DURATION:PT1H
X-Robots-Tag:noindex
X-PUBLISHED-TTL:PT1H
BEGIN:VTIMEZONE
TZID:Europe/London
BEGIN:DAYLIGHT
TZOFFSETFROM:+0000
TZOFFSETTO:+0100
TZNAME:BST
DTSTART:20230326T010000
END:DAYLIGHT
BEGIN:STANDARD
TZOFFSETFROM:+0100
TZOFFSETTO:+0000
TZNAME:GMT
DTSTART:20231029T010000
END:STANDARD
BEGIN:DAYLIGHT
TZOFFSETFROM:+0000
TZOFFSETTO:+0100
TZNAME:BST
DTSTART:20240331T010000
END:DAYLIGHT
BEGIN:STANDARD
TZOFFSETFROM:+0100
TZOFFSETTO:+0000
TZNAME:GMT
DTSTART:20241027T010000
END:STANDARD
BEGIN:DAYLIGHT
TZOFFSETFROM:+0000
TZOFFSETTO:+0100
TZNAME:BST
DTSTART:20250330T010000
END:DAYLIGHT
BEGIN:STANDARD
TZOFFSETFROM:+0100
TZOFFSETTO:+0000
TZNAME:GMT
DTSTART:20251026T010000
END:STANDARD
END:VTIMEZONE
BEGIN:VEVENT
DTSTART;TZID=Europe/London:20240511T194500
DTEND;TZID=Europe/London:20240511T233000
DTSTAMP:20260425T223726
CREATED:20240209T185702Z
LAST-MODIFIED:20240209T185745Z
UID:10000248-1715456700-1715470200@club-85.co.uk
SUMMARY:Mark Chadwick (Levellers) + Guests
DESCRIPTION:One of the UK’s most successful songwriters\, Mark Chadwick\, has co-written 20 chart singles and 6 Top 40 albums (including a Number 1) as part of the Levellers\, the band he has fronted for over 25 years.Still going strong\, the Levellers are festival favourites and have cemented their cherished status with headline performances at Glastonbury\, Isle Of Wight\, Cambridge Folk Festival\, Bestival and Boomtown and many European and UK events and in 2003 they successfully created their own annual Beautiful Days Festival which takes place in August at Escot Park in Devon. \nDuring this time Mark has released two solo albums ‘All the Pieces’ and ‘Moment’ and his upfront and personal solo performance will see him play a mixture of material from these albums and Levellers classics. Be warned\, Mark will have you up dancing! \nTickets priced £20 are on sale from Seetickets from Monday 12thFebruary and available from Our Favourite Shop\, Bar85 Hitchin and Davids Book Shop Letchworth. \nTickets in the post / ticket link below: \nTickets: https://www.seetickets.com/event/mark-chadwick/club-85/2942461 \nDoors: 7:45pm \nAge: 16+ with photo ID – younger patrons can be signed in at the door and accompanied for the duration of the show by a responsible adult.\nEarplugs are available upon request (50p).\nDownstairs bar open until 11pm.\nLike all our gigs this show finishes well in time for the last trains North and South to Cambridge/Peterborough and London and we are just a 5 minute stroll from the station.\nFor full up to the minute listings please visit www.club-85.co.uk and consider signing up to our mailing list for information on existing and upcoming gigs straight to you!\nAnd remember… Club 85 loves you! xo
URL:https://club-85.co.uk/event/mark-chadwick-levellers-guests/
LOCATION:Club 85\, 74 Whinbush Road\, Hitchin\, Hertfordshire\, SG5 1PZ\, United Kingdom
ATTACH;FMTTYPE=image/jpeg:https://club-85.co.uk/wp-content/uploads/2024/02/Mark-Chadwick-Poster-2024-copy.jpg
GEO:51.9528628;-0.2720485
X-APPLE-STRUCTURED-LOCATION;VALUE=URI;X-ADDRESS=Club 85 74 Whinbush Road Hitchin Hertfordshire SG5 1PZ United Kingdom;X-APPLE-RADIUS=500;X-TITLE=74 Whinbush Road:geo:-0.2720485,51.9528628
END:VEVENT
END:VCALENDAR