BEGIN:VCALENDAR
VERSION:2.0
PRODID:-//Club 85 - ECPv6.15.20//NONSGML v1.0//EN
CALSCALE:GREGORIAN
METHOD:PUBLISH
X-ORIGINAL-URL:https://club-85.co.uk
X-WR-CALDESC:Events for Club 85
REFRESH-INTERVAL;VALUE=DURATION:PT1H
X-Robots-Tag:noindex
X-PUBLISHED-TTL:PT1H
BEGIN:VTIMEZONE
TZID:Europe/London
BEGIN:DAYLIGHT
TZOFFSETFROM:+0000
TZOFFSETTO:+0100
TZNAME:BST
DTSTART:20230326T010000
END:DAYLIGHT
BEGIN:STANDARD
TZOFFSETFROM:+0100
TZOFFSETTO:+0000
TZNAME:GMT
DTSTART:20231029T010000
END:STANDARD
BEGIN:DAYLIGHT
TZOFFSETFROM:+0000
TZOFFSETTO:+0100
TZNAME:BST
DTSTART:20240331T010000
END:DAYLIGHT
BEGIN:STANDARD
TZOFFSETFROM:+0100
TZOFFSETTO:+0000
TZNAME:GMT
DTSTART:20241027T010000
END:STANDARD
BEGIN:DAYLIGHT
TZOFFSETFROM:+0000
TZOFFSETTO:+0100
TZNAME:BST
DTSTART:20250330T010000
END:DAYLIGHT
BEGIN:STANDARD
TZOFFSETFROM:+0100
TZOFFSETTO:+0000
TZNAME:GMT
DTSTART:20251026T010000
END:STANDARD
END:VTIMEZONE
BEGIN:VEVENT
DTSTART;TZID=Europe/London:20240512T183000
DTEND;TZID=Europe/London:20240512T233000
DTSTAMP:20260425T223729
CREATED:20240327T202516Z
LAST-MODIFIED:20240327T202553Z
UID:10000381-1715538600-1715556600@club-85.co.uk
SUMMARY:Bloodstock Metal 2 the Masses - Hitchin - Heat 3.
DESCRIPTION:Bloodstock Metal 2 the Masses – Hitchin – Heat 3.\n\nwww.facebook.com/M2TMHITCHIN \n\n\nClub 85 and Bloodstock M2TM are uniting again for 2024\, giving more of your favourite unsigned bands a chance to play Bloodstock Open Air and get their names out there! \nThis will be the last M2TM to be hosted at our current location – please come help us give it a good send-off! \n\n\nEach heat will consist of a special guest headliner and 4 competing bands – line-up as follows: \n\n\nSpecial guest headliners: Must Kill https://www.facebook.com/MustKillBand \n\n\nCompeting bands in no particular order: \nPlanet Fatale – https://www.facebook.com/planetfatale\n“The Cycle Repeats” Album Out Now http://linktr.ee/planetfatale\nHeavy riffs\, rhythmic groove and fierce\, melodic vocals. Planet Fatale occupy the darker side of heavy rock\, fused with blues/stoner rock and alternative metal influences. \nEstranger – https://www.facebook.com/estranger2\nPost hardcore / experimental / math quartet from Hertfordshire & London\, UK \nTempest Saint – https://www.facebook.com/tempestsaintband\nHeavy Metal band new for 2023\, for fans of Dio\, Iron Maiden\, Lynch Mob\, Judas Priest \nBroken States – https://www.facebook.com/brokenstatesuk\nWe’re “In-It-For-The-Beer-Core”. Debut single “History” out soon! \n\nHOW IT WORKS:\n-All heats and quarters will be 50% audience vote and 50% judges vote\n-2 bands from each heat will go through to the June SEMI finals\n-2 bands from each semi will then go through to the June GRAND final\n-SEMI finals voting will be 70% judges vote and 30% audience vote\n-GRAND final voting is 100% judges vote \n\nTickets: £8 + 10% booking fee or £9 on the door \n\n\nDoors: 6:30pm \nAge: 16+ with photo ID – younger patrons can be signed in at the door and accompanied for the duration of the show by a responsible adult.\nEarplugs are available upon request (50p).\nDownstairs bar open until 11pm. \n\nLike all our gigs this show finishes well in time for the last trains North and South to Cambridge/Peterborough and London and we are just a 5 minute stroll from the station.\nFor full up to the minute listings please visit www.club-85.co.uk and consider signing up to our mailing list for information on existing and upcoming gigs straight to you!\nAnd remember… Club 85 loves you!
URL:https://club-85.co.uk/event/bloodstock-metal-2-the-masses-hitchin-heat-3/
LOCATION:Club 85\, 74 Whinbush Road\, Hitchin\, Hertfordshire\, SG5 1PZ\, United Kingdom
ATTACH;FMTTYPE=image/jpeg:https://club-85.co.uk/wp-content/uploads/2024/03/434421676_331518023250591_1526588282027267113_n.jpg
GEO:51.9528628;-0.2720485
X-APPLE-STRUCTURED-LOCATION;VALUE=URI;X-ADDRESS=Club 85 74 Whinbush Road Hitchin Hertfordshire SG5 1PZ United Kingdom;X-APPLE-RADIUS=500;X-TITLE=74 Whinbush Road:geo:-0.2720485,51.9528628
END:VEVENT
END:VCALENDAR