BEGIN:VCALENDAR
VERSION:2.0
PRODID:-//Club 85 - ECPv6.15.20//NONSGML v1.0//EN
CALSCALE:GREGORIAN
METHOD:PUBLISH
X-ORIGINAL-URL:https://club-85.co.uk
X-WR-CALDESC:Events for Club 85
REFRESH-INTERVAL;VALUE=DURATION:PT1H
X-Robots-Tag:noindex
X-PUBLISHED-TTL:PT1H
BEGIN:VTIMEZONE
TZID:Europe/London
BEGIN:DAYLIGHT
TZOFFSETFROM:+0000
TZOFFSETTO:+0100
TZNAME:BST
DTSTART:20230326T010000
END:DAYLIGHT
BEGIN:STANDARD
TZOFFSETFROM:+0100
TZOFFSETTO:+0000
TZNAME:GMT
DTSTART:20231029T010000
END:STANDARD
BEGIN:DAYLIGHT
TZOFFSETFROM:+0000
TZOFFSETTO:+0100
TZNAME:BST
DTSTART:20240331T010000
END:DAYLIGHT
BEGIN:STANDARD
TZOFFSETFROM:+0100
TZOFFSETTO:+0000
TZNAME:GMT
DTSTART:20241027T010000
END:STANDARD
BEGIN:DAYLIGHT
TZOFFSETFROM:+0000
TZOFFSETTO:+0100
TZNAME:BST
DTSTART:20250330T010000
END:DAYLIGHT
BEGIN:STANDARD
TZOFFSETFROM:+0100
TZOFFSETTO:+0000
TZNAME:GMT
DTSTART:20251026T010000
END:STANDARD
END:VTIMEZONE
BEGIN:VEVENT
DTSTART;TZID=Europe/London:20240518T193000
DTEND;TZID=Europe/London:20240518T233000
DTSTAMP:20260425T223623
CREATED:20240319T200139Z
LAST-MODIFIED:20240319T200139Z
UID:10000378-1716060600-1716075000@club-85.co.uk
SUMMARY:BERETTA
DESCRIPTION:20 years\, a bit less hair\, seven kids and one global pandemic after they split\, Beretta are back for a one-off reunion gig at the place where it all started – Club 85 in Hitchin\, before the venue (hopefully) relocates at the end of 2024. \n\nWe’ll be sharing the stage with some old friends\, with an acoustic set from James “Jimbo” Aplin\, followed by some fuzzy depravity from new trio\, Death Hymns.\nPlus special guest DJ Whitetrash (AKA\, Chris\, our former Manager) filling in the gaps with the best Indie anthems around. \n\nCheers\,\nLew\, Si\, Adem\, Budgie & Russ.\n£10 entry on the door. \n\n16+ (bring photo ID).\nYounger patrons can be signed in at the door and accompanied for the duration of the show by a responsible adult.\n\n#MeetYouAtTheLights
URL:https://club-85.co.uk/event/beretta/
LOCATION:Club 85\, 74 Whinbush Road\, Hitchin\, Hertfordshire\, SG5 1PZ\, United Kingdom
ATTACH;FMTTYPE=image/jpeg:https://club-85.co.uk/wp-content/uploads/2024/03/417835279_1117269639709622_8141162997418493450_n.jpg
GEO:51.9528628;-0.2720485
X-APPLE-STRUCTURED-LOCATION;VALUE=URI;X-ADDRESS=Club 85 74 Whinbush Road Hitchin Hertfordshire SG5 1PZ United Kingdom;X-APPLE-RADIUS=500;X-TITLE=74 Whinbush Road:geo:-0.2720485,51.9528628
END:VEVENT
END:VCALENDAR