BEGIN:VCALENDAR
VERSION:2.0
PRODID:-//Club 85 - ECPv6.15.20//NONSGML v1.0//EN
CALSCALE:GREGORIAN
METHOD:PUBLISH
X-ORIGINAL-URL:https://club-85.co.uk
X-WR-CALDESC:Events for Club 85
REFRESH-INTERVAL;VALUE=DURATION:PT1H
X-Robots-Tag:noindex
X-PUBLISHED-TTL:PT1H
BEGIN:VTIMEZONE
TZID:Europe/London
BEGIN:DAYLIGHT
TZOFFSETFROM:+0000
TZOFFSETTO:+0100
TZNAME:BST
DTSTART:20230326T010000
END:DAYLIGHT
BEGIN:STANDARD
TZOFFSETFROM:+0100
TZOFFSETTO:+0000
TZNAME:GMT
DTSTART:20231029T010000
END:STANDARD
BEGIN:DAYLIGHT
TZOFFSETFROM:+0000
TZOFFSETTO:+0100
TZNAME:BST
DTSTART:20240331T010000
END:DAYLIGHT
BEGIN:STANDARD
TZOFFSETFROM:+0100
TZOFFSETTO:+0000
TZNAME:GMT
DTSTART:20241027T010000
END:STANDARD
BEGIN:DAYLIGHT
TZOFFSETFROM:+0000
TZOFFSETTO:+0100
TZNAME:BST
DTSTART:20250330T010000
END:DAYLIGHT
BEGIN:STANDARD
TZOFFSETFROM:+0100
TZOFFSETTO:+0000
TZNAME:GMT
DTSTART:20251026T010000
END:STANDARD
END:VTIMEZONE
BEGIN:VEVENT
DTSTART;TZID=Europe/London:20240530T194500
DTEND;TZID=Europe/London:20240530T233000
DTSTAMP:20260425T211648
CREATED:20240518T171357Z
LAST-MODIFIED:20240530T155518Z
UID:10000396-1717098300-1717111800@club-85.co.uk
SUMMARY:LIQUID RIOT/ BELLZZZ/ LEFT VENTRICLE
DESCRIPTION:LIQUID RIOTLiquid Riot\, are an up and coming London and Herts based 4-piece band whose electrifying sound and high energy performances have been making waves since their formation in 2023.\n\nDrawing inspiration from bands like Arctic Monkeys and the post punk sound of Fontaines DC\, Liquid Riot developed a signature sound blending high-energy riffs\, anthemic melodies\, and dynamic vocals\, born out of Callum’s past demos. \n\n\nWith a growing following of fans who resonate with their playful commentary on the mundane and trials of everyday life\, Liquid Riot has quickly gained momentum in the music industry. Having played iconic venues including Amersham Arms\, The Horn\, and most recently\, a sell-out show at The Star in Shoreditch\, Liquid Riot is now gearing up for their biggest gig to date – a performance at the O2 Academy Islington and the upcoming release of their debut single. \n\n\nBELLZZZ19 year old Bellzzz fuses dark cinematic pop soundscapes with lyrical vignettes that veer from the darkly comic to the downright macabre. With a clarity of voice and lyrical maturity that it’s becoming easy to expect from the graduating class of first generation\, post-internet\, singer songwriters\, she invites us into dream pop landscapes where it’s just as easy to bump into yourself as it is your worst nightmares. \n\n\nAlready performing on impressive line ups alongside bands like Picture Parlour\, Mary In The Junkyard etc. her as yet unreleased songs are quickly gathering an industry buzz. Displaying an astute ability to connect stories about local misfits\, and small town mentalities with wider pop-culture and social references. \n\n\nHer lyrical gaze turns inward and captures us all there\, under the irrepressible gaze of a childhood basked in the unending blue-light of the internets doomscape utopia\, her stripped back and raw vocals cut directly into the interrupted trance of our post-pandemic\, post-capitalism wasteland and demand of us that we dream bigger\, weirder and better than we ever did before. \n\nLEFT VENTRICLELeft Ventricle are a dynamic alternative rock three piece band from Hertfordshire\, also based in Brighton.\n\nDrawing influences from Royal Blood\, QOTSA\, Jack White and Nirvana\, their infectious melodies combined with the unique song writing of Stan Cooper\, the guitarist and lead vocals\, speaks directly of their generation fusing both melancholy with attack. \n\n\nStan’s raw vocals and soaring guitar riffs united with Danny Butler on bass and Rowan Scourfield on drums driving the energy that fuels their live performances of their truly original material. \n\nTICKETS: £7 Adv / £9 Door\nTicket link: https://www.ticketweb.uk/event/liquid-riot-bellzzz-left-ventricle-club-85-ticketsDoors: 8pm \n\nAges 16+ with photo ID – younger patrons can be signed in at the door and accompanied for the duration of the show by a responsible adult.\nEarplugs are available upon request (50p).\nDownstairs bar open until 11pm.\nLike all our gigs this show finishes well in time for the last trains North and South to Cambridge/Peterborough and London and we are just a 5 minute stroll from the station.
URL:https://club-85.co.uk/event/liquid-riot-bellzzz-left-ventricle/
LOCATION:Club 85\, 74 Whinbush Road\, Hitchin\, Hertfordshire\, SG5 1PZ\, United Kingdom
ATTACH;FMTTYPE=image/png:https://club-85.co.uk/wp-content/uploads/2024/05/LiquidRiotPoster.png
GEO:51.9528628;-0.2720485
X-APPLE-STRUCTURED-LOCATION;VALUE=URI;X-ADDRESS=Club 85 74 Whinbush Road Hitchin Hertfordshire SG5 1PZ United Kingdom;X-APPLE-RADIUS=500;X-TITLE=74 Whinbush Road:geo:-0.2720485,51.9528628
END:VEVENT
END:VCALENDAR