BEGIN:VCALENDAR
VERSION:2.0
PRODID:-//Club 85 - ECPv6.15.20//NONSGML v1.0//EN
CALSCALE:GREGORIAN
METHOD:PUBLISH
X-ORIGINAL-URL:https://club-85.co.uk
X-WR-CALDESC:Events for Club 85
REFRESH-INTERVAL;VALUE=DURATION:PT1H
X-Robots-Tag:noindex
X-PUBLISHED-TTL:PT1H
BEGIN:VTIMEZONE
TZID:Europe/London
BEGIN:DAYLIGHT
TZOFFSETFROM:+0000
TZOFFSETTO:+0100
TZNAME:BST
DTSTART:20230326T010000
END:DAYLIGHT
BEGIN:STANDARD
TZOFFSETFROM:+0100
TZOFFSETTO:+0000
TZNAME:GMT
DTSTART:20231029T010000
END:STANDARD
BEGIN:DAYLIGHT
TZOFFSETFROM:+0000
TZOFFSETTO:+0100
TZNAME:BST
DTSTART:20240331T010000
END:DAYLIGHT
BEGIN:STANDARD
TZOFFSETFROM:+0100
TZOFFSETTO:+0000
TZNAME:GMT
DTSTART:20241027T010000
END:STANDARD
BEGIN:DAYLIGHT
TZOFFSETFROM:+0000
TZOFFSETTO:+0100
TZNAME:BST
DTSTART:20250330T010000
END:DAYLIGHT
BEGIN:STANDARD
TZOFFSETFROM:+0100
TZOFFSETTO:+0000
TZNAME:GMT
DTSTART:20251026T010000
END:STANDARD
END:VTIMEZONE
BEGIN:VEVENT
DTSTART;TZID=Europe/London:20240531T194500
DTEND;TZID=Europe/London:20240531T233000
DTSTAMP:20260425T211629
CREATED:20240119T183644Z
LAST-MODIFIED:20240227T173713Z
UID:10000363-1717184700-1717198200@club-85.co.uk
SUMMARY:DJ YODA - 50 YEARS OF HIP HOP - AUDIO VISUAL SHOW
DESCRIPTION:The Pad Presents\nwww.thepadpresents.com \nDJ YODA – 50 YEARS OF HIP HOP – AUDIO VISUAL SHOW \nThe legendary DJ Yoda males his debut at Club 85 in Hitchin as part of his huge tour the ’50th Anniversary of Hip-Hop’ AV show! This is no ordinary club night\, as Yoda gives a visual representation of the music and culture on screen\, alongside some of the greatest Hip Hop tracks ever made. This is the first time a proper AV set will have ever been brought to the Club 85 and probably Hitchin! \nDJ Yoda is a multi-award-winning hip-hop DJ and producer\, headlining festivals and clubs around the world. No typical club DJ\, his interests lie in finding fresh and unique ways to bring turntables out of the club and getting involved in bespoke collaborations. Working with classical composers to neuroscientists; brass bands to film directors; Dr Dre to Dame Evelyn Glennie; Banksy to Mark Ronson; BBC Radio 4 to the BFI\, he reinvigorates his craft with wry invention and humorous intent. \nInternationally respected for his turntablism\, the viral success of his Stranger Things Mix racked up more than a half million plays on Soundcloud\, culminating in his UK Tour of Stranger Things The Mixtape Live. He was Dr Dre’s first choice to record a guest mix on his inaugural Beats 1 show for Apple Music in 2015\, and was one of a select band of artists to perform at Banksy’s pop-up Bemusement Park\, Dismaland. His eclectic series of How to Cut & Paste mixtapes offer a uniquely British take on hip-hop music and culture. \nDJ Yoda pioneered a new form of audio-visual entertainment\, unifying hands-in-the-air clubbing with a night at the movies\, chopping and splicing classic movies with the same exceptional style that he repurposes music samples. One of the first DJs to master the art of re-scoring classic films\, in 2014 he was commissioned to create DJ Yoda Goes to the Sci- Fi Movies as part of the BFI’s Sonic Cinema event. BBC Radio 6 Music gave him the platform to make history with the world’s first audio- visual radio mix\, and\, as part of their BBC Music Day\, Radio 4 invited Yoda to mash-up the entire station\, remixing The Archers\, The Shipping Forecast\, John Humphries and more in one of his most sublime and surreal adventures yet. \nEver pushing the boundaries of live audio-visual performance his journey into popular culture – DJ Yoda: A History of Gaming – premiered at the London Film Festival on the UK’s largest screen at the prestigious IMAX\, charting best loved and most fondly remembered games from the early 1980s to the present. \nSupport from Bedford-Town’s finest\, MASS C \n——- \nTickets are on sale 10am\, Monday 22nd January from Seetickets and will be available from local outlets from Sat 27th January – This event is for over 18s only. \nTicket link:https://www.thepadpresents.com/events/dj-yoda-50-years-of-hip-hop-audio-visual-show-2/ \nDoors: 7:45pm \nAge: 18+ with photo ID – younger patrons can be signed in at the door and accompanied for the duration of the show by a responsible adult.\nEarplugs are available upon request (50p).\nDownstairs bar open until 11pm.\nLike all our gigs this show finishes well in time for the last trains North and South to Cambridge/Peterborough and London and we are just a 5 minute stroll from the station.\nFor full up to the minute listings please visit www.club-85.co.uk and consider signing up to our mailing list for information on existing and upcoming gigs straight to you!\nAnd remember… Club 85 loves you! x
URL:https://club-85.co.uk/event/dj-yoda-50-years-of-hip-hop-audio-visual-show/
LOCATION:Club 85\, 74 Whinbush Road\, Hitchin\, Hertfordshire\, SG5 1PZ\, United Kingdom
ATTACH;FMTTYPE=image/jpeg:https://club-85.co.uk/wp-content/uploads/2024/01/DJ-Yoda-Multi-Poster-copy.jpg
GEO:51.9528628;-0.2720485
X-APPLE-STRUCTURED-LOCATION;VALUE=URI;X-ADDRESS=Club 85 74 Whinbush Road Hitchin Hertfordshire SG5 1PZ United Kingdom;X-APPLE-RADIUS=500;X-TITLE=74 Whinbush Road:geo:-0.2720485,51.9528628
END:VEVENT
END:VCALENDAR