BEGIN:VCALENDAR
VERSION:2.0
PRODID:-//Club 85 - ECPv6.15.20//NONSGML v1.0//EN
CALSCALE:GREGORIAN
METHOD:PUBLISH
X-ORIGINAL-URL:https://club-85.co.uk
X-WR-CALDESC:Events for Club 85
REFRESH-INTERVAL;VALUE=DURATION:PT1H
X-Robots-Tag:noindex
X-PUBLISHED-TTL:PT1H
BEGIN:VTIMEZONE
TZID:Europe/London
BEGIN:DAYLIGHT
TZOFFSETFROM:+0000
TZOFFSETTO:+0100
TZNAME:BST
DTSTART:20230326T010000
END:DAYLIGHT
BEGIN:STANDARD
TZOFFSETFROM:+0100
TZOFFSETTO:+0000
TZNAME:GMT
DTSTART:20231029T010000
END:STANDARD
BEGIN:DAYLIGHT
TZOFFSETFROM:+0000
TZOFFSETTO:+0100
TZNAME:BST
DTSTART:20240331T010000
END:DAYLIGHT
BEGIN:STANDARD
TZOFFSETFROM:+0100
TZOFFSETTO:+0000
TZNAME:GMT
DTSTART:20241027T010000
END:STANDARD
BEGIN:DAYLIGHT
TZOFFSETFROM:+0000
TZOFFSETTO:+0100
TZNAME:BST
DTSTART:20250330T010000
END:DAYLIGHT
BEGIN:STANDARD
TZOFFSETFROM:+0100
TZOFFSETTO:+0000
TZNAME:GMT
DTSTART:20251026T010000
END:STANDARD
END:VTIMEZONE
BEGIN:VEVENT
DTSTART;TZID=Europe/London:20240601T180000
DTEND;TZID=Europe/London:20240601T233000
DTSTAMP:20260425T224156
CREATED:20240425T195509Z
LAST-MODIFIED:20240601T132319Z
UID:10000387-1717264800-1717284600@club-85.co.uk
SUMMARY:Jack Alexander/  Optimist/  Full House/  Mel Quinn +TBA
DESCRIPTION:Jack Alexander\nIntroducing Jack Alexander\, a dynamic five-piece alternative rock band hailing from the heart of Hertfordshire.\nWith anthems like “Falling” and “We Owe It To The Night” under their belt\, they’ve graced prestigious stages including the O2 Academy Islington and have supported Toploader at Islington Assembly Hall. \nKnown for their emotionally charged lyrics\, powerhouse vocals\, electrifying riffs and solos\, and infectious melodies\, Jack Alexander seamlessly blends genres while incorporating elements of rap too!\nTheir live shows are legendary for their audience participation and interaction\, fueled by the charismatic presence of their lead singer. \nGet ready to be swept away by the raw energy and captivating sound of Jack Alexander. \nOptimist\nOPTIMIST are a 4 piece ambient rock band based in herts/ beds\, consisting of karl eckert( guitar) boo sells ( guitar\, vocals) Alan Young ( drums) Chris Rowland ( bass)\, concentrating on their own original songs bringing together a great rock feel along with great dynamics to bring a unique sound to the songs they perform\,With their long awaited album being released mid summer and after 2 successful festival seasons they finally play club 85. Full House Welcome to Full House\, a stylish five-piece band representing the vibrant music scene of Hertfordshire.\nWith captivating harmonies and infectious rhythms\, they bring a fresh sound that’s both soulful and dynamic. Known for their trendsetting style and unmatched talent. \nMel Quinn Duo\nIntroducing the Mel Quinn Duo\, a dynamic musical act fueled by the quirky energy of Mel herself. Renowned for hits like “Tiny Little Den\,” Mel is a local legend\, captivating audiences on the vibrant local circuit. Her unique charm and catchy tunes make every performance an unforgettable experience. \nSpecial guest:\nDani Elle\nIntroducing special guest Dani Elle\, a singer-songwriter from Bedfordshire whose music is a journey of raw emotions and heartfelt storytelling. With a knack for crafting honest and soul-stirring lyrics drawn from her own experiences.\nDani Elle’s debut album ‘Honestly’\, released in 2023\, invites listeners into her world through captivating melodies and poignant narratives. \nTickets: £7 + 10% booking fee or £8 OTD\nPlease scroll down this page to purchase tickets. \n  \nDoors: 6pm \nAge: 16+ with photo ID – younger patrons can be signed in at the door and accompanied for the duration of the show by a responsible adult.\nEarplugs are available upon request (50p).\nDownstairs bar open until 1am.\nLike all our gigs this show finishes well in time for the last trains North and South to Cambridge/Peterborough and London and we are just a 5 minute stroll from the station.\nFor full up to the minute listings please visit www.club-85.co.uk and consider signing up to our mailing list for information on existing and upcoming gigs straight to you!\nAnd remember… Club 85 loves you! xo
URL:https://club-85.co.uk/event/jack-alexander-optimist-full-house-mel-quinn/
LOCATION:Hertfordshire
ATTACH;FMTTYPE=image/png:https://club-85.co.uk/wp-content/uploads/2024/04/Jack-Alexander-2.png
END:VEVENT
END:VCALENDAR