BEGIN:VCALENDAR
VERSION:2.0
PRODID:-//Club 85 - ECPv6.15.20//NONSGML v1.0//EN
CALSCALE:GREGORIAN
METHOD:PUBLISH
X-ORIGINAL-URL:https://club-85.co.uk
X-WR-CALDESC:Events for Club 85
REFRESH-INTERVAL;VALUE=DURATION:PT1H
X-Robots-Tag:noindex
X-PUBLISHED-TTL:PT1H
BEGIN:VTIMEZONE
TZID:Europe/London
BEGIN:DAYLIGHT
TZOFFSETFROM:+0000
TZOFFSETTO:+0100
TZNAME:BST
DTSTART:20230326T010000
END:DAYLIGHT
BEGIN:STANDARD
TZOFFSETFROM:+0100
TZOFFSETTO:+0000
TZNAME:GMT
DTSTART:20231029T010000
END:STANDARD
BEGIN:DAYLIGHT
TZOFFSETFROM:+0000
TZOFFSETTO:+0100
TZNAME:BST
DTSTART:20240331T010000
END:DAYLIGHT
BEGIN:STANDARD
TZOFFSETFROM:+0100
TZOFFSETTO:+0000
TZNAME:GMT
DTSTART:20241027T010000
END:STANDARD
BEGIN:DAYLIGHT
TZOFFSETFROM:+0000
TZOFFSETTO:+0100
TZNAME:BST
DTSTART:20250330T010000
END:DAYLIGHT
BEGIN:STANDARD
TZOFFSETFROM:+0100
TZOFFSETTO:+0000
TZNAME:GMT
DTSTART:20251026T010000
END:STANDARD
END:VTIMEZONE
BEGIN:VEVENT
DTSTART;TZID=Europe/London:20240607T194500
DTEND;TZID=Europe/London:20240607T233000
DTSTAMP:20260425T211438
CREATED:20240430T150942Z
LAST-MODIFIED:20240604T165416Z
UID:10000392-1717789500-1717803000@club-85.co.uk
SUMMARY:GUNS 2 ROSES + THE HOT ONE TWO
DESCRIPTION:GUNS 2 ROSES + Guests(THE ULTIMATE GUNS & ROSES TRIBUTE BAND) \n\n\nIf you’re a GN’R fan then this is the night for you!! One of the only tribute bands to have actually played live on stage with 4 members of Guns N’Roses themselves!!!! \n\n\n6 USA TOURS Multiple tours in INDIA\, DUBAI\, FRANCE\, HOLLAND\, BELGIUM\, ROMANIA\, IRELAND\, CZECH REPUBLIC\, MALTA\, ITALY\, SLOVENIA\, HUNGARY\, PORTUGAL\, GERMANY\, GREECE\, NORWAY\, BAHRAIN\, MEXICO. \n\nTHE ONLY GNR TRIBUTE TO PLAY LIVE WITH 4 DIFFERENT MEMBERS OF GUNS N ROSES.\n\nTV & RADIO APPEARANCES ON : ‘BBC’ Culture Show 2007 Question Of Sport 2008 The One Show 2016 Even Better Than The Real Thing 2017 Radio 2\, Radio 5 ‘ITV’ Tipping Point ‘CHANNEL 5’ Fifth Gear TOTAL ROCK RADIO. \n\n\nGUNS 2 ROSES ARE THE LONGEST RUNNING\, CLOSEST LOOKING AND MOST INTERNATIONALLY RECOGNIZED GN’R TRIBUTE IN THE WORLD. ONE OF THE FEW TRIBUTE BANDS OF ANY TYPE TO CROSS OVER FROM THE MERE TRIBUTE BAND CIRCUIT TO MAINSTREAM MEDIA AND CLOSE ASSOCIATION WITH THE REAL GUNS N’ ROSES. \nSpecial guest support comes from THE HOT ONE TWO\nhttps://www.facebook.com/thehotonetwo \n\n\n\nEntry £13 in advance at 10am on Wednesday 1st May from See Tickets and local outlets. \nDoors: 7:45pm \nTicket link: https://www.seetickets.com/event/guns-2-roses/club-85/ \nAge: 16+ with photo ID – younger patrons can be signed in at the door and accompanied for the duration of the show by a responsible adult.\nEarplugs are available upon request (50p).\nDownstairs bar open until 1am.\nLike all our gigs this show finishes well in time for the last trains North and South to Cambridge/Peterborough and London and we are just a 5 minute stroll from the station.
URL:https://club-85.co.uk/event/guns-2-roses-guests/
LOCATION:Club 85\, 74 Whinbush Road\, Hitchin\, Hertfordshire\, SG5 1PZ\, United Kingdom
ATTACH;FMTTYPE=image/png:https://club-85.co.uk/wp-content/uploads/2024/04/Guns-2-Roses-Hitchin-Poster.png
GEO:51.9528628;-0.2720485
X-APPLE-STRUCTURED-LOCATION;VALUE=URI;X-ADDRESS=Club 85 74 Whinbush Road Hitchin Hertfordshire SG5 1PZ United Kingdom;X-APPLE-RADIUS=500;X-TITLE=74 Whinbush Road:geo:-0.2720485,51.9528628
END:VEVENT
END:VCALENDAR