BEGIN:VCALENDAR
VERSION:2.0
PRODID:-//Club 85 - ECPv6.15.20//NONSGML v1.0//EN
CALSCALE:GREGORIAN
METHOD:PUBLISH
X-ORIGINAL-URL:https://club-85.co.uk
X-WR-CALDESC:Events for Club 85
REFRESH-INTERVAL;VALUE=DURATION:PT1H
X-Robots-Tag:noindex
X-PUBLISHED-TTL:PT1H
BEGIN:VTIMEZONE
TZID:Europe/London
BEGIN:DAYLIGHT
TZOFFSETFROM:+0000
TZOFFSETTO:+0100
TZNAME:BST
DTSTART:20230326T010000
END:DAYLIGHT
BEGIN:STANDARD
TZOFFSETFROM:+0100
TZOFFSETTO:+0000
TZNAME:GMT
DTSTART:20231029T010000
END:STANDARD
BEGIN:DAYLIGHT
TZOFFSETFROM:+0000
TZOFFSETTO:+0100
TZNAME:BST
DTSTART:20240331T010000
END:DAYLIGHT
BEGIN:STANDARD
TZOFFSETFROM:+0100
TZOFFSETTO:+0000
TZNAME:GMT
DTSTART:20241027T010000
END:STANDARD
BEGIN:DAYLIGHT
TZOFFSETFROM:+0000
TZOFFSETTO:+0100
TZNAME:BST
DTSTART:20250330T010000
END:DAYLIGHT
BEGIN:STANDARD
TZOFFSETFROM:+0100
TZOFFSETTO:+0000
TZNAME:GMT
DTSTART:20251026T010000
END:STANDARD
END:VTIMEZONE
BEGIN:VEVENT
DTSTART;TZID=Europe/London:20240608T194500
DTEND;TZID=Europe/London:20240608T233000
DTSTAMP:20260425T211428
CREATED:20240425T221449Z
LAST-MODIFIED:20240425T221547Z
UID:10000389-1717875900-1717889400@club-85.co.uk
SUMMARY:Mr and Mrs Hooligan invite you to their 60th Birthday rehearsal barrel bashing extravaganza..
DESCRIPTION:Mr and Mrs Hooligan invite you to their 60th Birthday rehearsal barrel bashing extravaganza.. \nPet Needs https://www.facebook.com/wearepetneeds Pet Needs are a young four-piece indie-punk band from Colchester in Essex and you could say they’re prolific\, as their third album in four years\, Intermittent Fast Living hitting No 17 in the UK’s official album chart midweek update. Pet Needs will get your head nodding and foot tapping until your head banging and jumping. Catchy tunes to a punk-rock beat to get your blood pumping! \nBrocker https://www.facebook.com/brockermusic Rock n’ Roll tunes with Punk Rock attitude. Skimmington Ride https://www.facebook.com/Skimmingtonrider Rowdy Traditional Scottish\, English & Irish Band – Singing\, Dancing\, Drinking\, Shouting – an almighty Criac will ensue. \nJesus Hooligan https://www.facebook.com/jesus.hooligan The delightful combination of bellowing and growling soppy love songs over the thunderous backing of a herd of elephants.HIT IT! \nTickets: £10 + 10% booking fee or £12 OTD\nPlease scroll down this page to purchase tickets. \nDoors: 7:45pm \nAge: 16+ with photo ID – younger patrons can be signed in at the door and accompanied for the duration of the show by a responsible adult.\nEarplugs are available upon request (50p).\nDownstairs bar open until 1am.\nLike all our gigs this show finishes well in time for the last trains North and South to Cambridge/Peterborough and London and we are just a 5 minute stroll from the station.\nFor full up to the minute listings please visit www.club-85.co.uk and consider signing up to our mailing list for information on existing and upcoming gigs straight to you!\nAnd remember… Club 85 loves you! xo
URL:https://club-85.co.uk/event/mr-and-mrs-hooligan-invite-you-to-their-60th-birthday-rehearsal-barrel-bashing-extravaganza/
LOCATION:Club 85\, 74 Whinbush Road\, Hitchin\, Hertfordshire\, SG5 1PZ\, United Kingdom
ATTACH;FMTTYPE=image/png:https://club-85.co.uk/wp-content/uploads/2024/04/Unknown-1.png
GEO:51.9528628;-0.2720485
X-APPLE-STRUCTURED-LOCATION;VALUE=URI;X-ADDRESS=Club 85 74 Whinbush Road Hitchin Hertfordshire SG5 1PZ United Kingdom;X-APPLE-RADIUS=500;X-TITLE=74 Whinbush Road:geo:-0.2720485,51.9528628
END:VEVENT
END:VCALENDAR