BEGIN:VCALENDAR
VERSION:2.0
PRODID:-//Club 85 - ECPv6.15.20//NONSGML v1.0//EN
CALSCALE:GREGORIAN
METHOD:PUBLISH
X-ORIGINAL-URL:https://club-85.co.uk
X-WR-CALDESC:Events for Club 85
REFRESH-INTERVAL;VALUE=DURATION:PT1H
X-Robots-Tag:noindex
X-PUBLISHED-TTL:PT1H
BEGIN:VTIMEZONE
TZID:Europe/London
BEGIN:DAYLIGHT
TZOFFSETFROM:+0000
TZOFFSETTO:+0100
TZNAME:BST
DTSTART:20230326T010000
END:DAYLIGHT
BEGIN:STANDARD
TZOFFSETFROM:+0100
TZOFFSETTO:+0000
TZNAME:GMT
DTSTART:20231029T010000
END:STANDARD
BEGIN:DAYLIGHT
TZOFFSETFROM:+0000
TZOFFSETTO:+0100
TZNAME:BST
DTSTART:20240331T010000
END:DAYLIGHT
BEGIN:STANDARD
TZOFFSETFROM:+0100
TZOFFSETTO:+0000
TZNAME:GMT
DTSTART:20241027T010000
END:STANDARD
BEGIN:DAYLIGHT
TZOFFSETFROM:+0000
TZOFFSETTO:+0100
TZNAME:BST
DTSTART:20250330T010000
END:DAYLIGHT
BEGIN:STANDARD
TZOFFSETFROM:+0100
TZOFFSETTO:+0000
TZNAME:GMT
DTSTART:20251026T010000
END:STANDARD
END:VTIMEZONE
BEGIN:VEVENT
DTSTART;TZID=Europe/London:20240621T190000
DTEND;TZID=Europe/London:20240621T233000
DTSTAMP:20260425T224515
CREATED:20240201T191955Z
LAST-MODIFIED:20240213T181532Z
UID:10000234-1718996400-1719012600@club-85.co.uk
SUMMARY:WRONG JOVI ... 10 YEAR ANNIVERSARY!!!
DESCRIPTION:Its 10 years to the day since Wrong Jovi played their first ever gig and it was right here at Club 85!\nIn celebration the band is bringing us a very special show with a few surprises up their sleeves.grial The Multi-Award-Winning Wrong Jovi are widely considered to be “the best Bon Jovi tribute band in the\nworld!” So much so\, that even the former Bon Jovi guitarist\, Richie Sambora\, has personally thanked the\nband for their hard work and unforgettable performances. \nIn their 9 years of touring\, the band have\nperformed across the world and featured on the BBC prime-time TV show\, Even Better Than The Real\nThing. In 2022 the band were announced as winners of the “Best Tribute Artist” Award at the National\nEntertainment Awards\, having previously won the “Best Tribute Artist Award” at the Northern Entertainment\nAwards.\nWrong Jovi have sold out shows in music venues and theatres across the UK\, whilst also\nheadlining festivals in Malta\, Abu Dhabi and Bahrain\, as well as back home in the UK – including a headline\nslot on the Electro Love stage at 2019 and 2022’s prestigious Isle Of Wight Festival. Performing a set of\ngreatest hits\, live favourites and rarities\, the band ensure that there is something for the casual follower and even the most die hard of Bon Jovi fans. \nAlly Ward takes on the role of Jon Bon Jovi\, baring a striking resemblance to one of rocks most iconic\nshowmen. Not only does he look like Jon\, Ally unleashes a vocal so strong that audience members actually\nbelieve they are watching Bon Jovi at their very peak – some say he is even better than the real Jon Bon\nJovi. Mark Harding takes on the role of Richie Sambora\, reproducing the his fiery licks and riffs as well as\nSambora’s smooth vocal lines with flare and precision that is unrivalled – he is also a dead ringer for one of\nRock N’ Roll’s most recognisable guitarists.\nOn keyboards is Jon Paul as David Bryan – one of the UK’s\nfinest musicians\, Jon performs the songs with precision like no other and is a key factor in ensuring Wrong\nJovi are top of the tribute tree.\nJames Houghton\, Wrong Jovi’s Hugh McDonald\, has performed with acts\nsuch as Phil Collins\, Mott The Hoople and Dumpy’s Rusty Nuts\, opening for acts such as Guns N’ Roses\nand Rod Stewart – his bass lines and experience are invaluable to the band. Alex Sturgeon completes the\nline up as drummer\, Tico Torres. Alex is one of the UK’s best young drummers and provides the thunderous drumming that drives the Wrong Jovi show. \nIn 2022 the band will be embarking on a tour of theatres and large music venues in the UK\, as well as taking\nthe show out to Europe and beyond. The hit singles\, Livin’ On A Prayer\, Always\, You Give Love A Bad Name\nand Wanted Dead Or Alive are joined by live favourites and rarities such as Blood On Blood\, Dry County\,\nWild Is The Wind and This Ain’t A Love Song\, ensuring that a Wrong Jovi show is the ultimate tribute to New Jersey’s finest stadium rock band! \nSo\, are you ready for One Wild Night of Bon Jovi hits\, live favourites and rarities? Wrong Jovi will transform\nvenues and theatres into stadiums for the ultimate Bon Jovi tribute show. Get your dose of Bad Medicine with Wrong Jovi – “The Best Bon Jovi Tribute Band In The World!” \n\nTickets: £14 + 10% Booking fee Advance or £17 OTD\n(Please scroll down to purchase tickets) \nDoors: 7pm. \n16+ (bring ID).\nYounger patrons can be signed in at the door and accompanied for the duration of the show by a responsible adult.\nEarplugs are available upon request (50p).\nDownstairs bar open until 1am.\nLike all our gigs this show finishes well in time for the last trains North and South to Cambridge/Peterborough and London and we are just a 5 minute stroll from the station.\nFor full up to the minute listings please visit www.club-85.co.uk and consider signing up to our mailing list for information on existing and upcoming gigs straight to you!\nAnd remember… Club 85 loves you! xo
URL:https://club-85.co.uk/event/wrong-jovi-10-year-anniversary/
LOCATION:Hertfordshire
ATTACH;FMTTYPE=image/jpeg:https://club-85.co.uk/wp-content/uploads/2024/02/420464765_227597763753409_8739344426733234618_n-2.jpg
END:VEVENT
END:VCALENDAR