BEGIN:VCALENDAR
VERSION:2.0
PRODID:-//Club 85 - ECPv6.15.20//NONSGML v1.0//EN
CALSCALE:GREGORIAN
METHOD:PUBLISH
X-ORIGINAL-URL:https://club-85.co.uk
X-WR-CALDESC:Events for Club 85
REFRESH-INTERVAL;VALUE=DURATION:PT1H
X-Robots-Tag:noindex
X-PUBLISHED-TTL:PT1H
BEGIN:VTIMEZONE
TZID:Europe/London
BEGIN:DAYLIGHT
TZOFFSETFROM:+0000
TZOFFSETTO:+0100
TZNAME:BST
DTSTART:20230326T010000
END:DAYLIGHT
BEGIN:STANDARD
TZOFFSETFROM:+0100
TZOFFSETTO:+0000
TZNAME:GMT
DTSTART:20231029T010000
END:STANDARD
BEGIN:DAYLIGHT
TZOFFSETFROM:+0000
TZOFFSETTO:+0100
TZNAME:BST
DTSTART:20240331T010000
END:DAYLIGHT
BEGIN:STANDARD
TZOFFSETFROM:+0100
TZOFFSETTO:+0000
TZNAME:GMT
DTSTART:20241027T010000
END:STANDARD
BEGIN:DAYLIGHT
TZOFFSETFROM:+0000
TZOFFSETTO:+0100
TZNAME:BST
DTSTART:20250330T010000
END:DAYLIGHT
BEGIN:STANDARD
TZOFFSETFROM:+0100
TZOFFSETTO:+0000
TZNAME:GMT
DTSTART:20251026T010000
END:STANDARD
END:VTIMEZONE
BEGIN:VEVENT
DTSTART;TZID=Europe/London:20240816T194500
DTEND;TZID=Europe/London:20240816T233000
DTSTAMP:20260425T183403
CREATED:20230923T192447Z
LAST-MODIFIED:20240326T142458Z
UID:10000337-1723837500-1723851000@club-85.co.uk
SUMMARY:THE 900 – The Tony Hawk Pro Skater Covers Band + Guests
DESCRIPTION:**Please note this show had been moved from Saturday 13th April\, all tickets remain valid for the new date**\n  \n  \nPicture this… It’s August 1999\, people are getting excited about Red and Blue Pills\, Star Wars have embarked on the first of their many prequel films\, frosted tips & Sea Monkeys are all the rage and the Dalek-esque tones of Dial-Up fill the airwaves and landlines… But none of that is important because Tony Hawk’s Pro Skater has just entered the world of video games with a Soundtrack that we simply weren’t ready for! \n  \nThe 900 are the UK’s first and only Tony Hawk’s Pro Skater cover band. Formed by their mutual understanding that no other soundtrack could ever top THPS\, The 900 gives you a reason for your back to hurt in the morning. With the approval of the Birdman himself they’re ready to kickflip into every big banger from THPS1 to American Wasteland. \n  \nSo roll back the years\, get in the pit and come thrash around to some of the best Punk Rock and Ska tracks from Tony Hawk’s legendary series featuring tracks from the likes of Rage Against The Machine\, Nirvana\, Dead Kennedys\, Millencolin\, Bodyjar\, Green Day\, Alien Ant Farm\, Refused\, Ramones\, AFI\, Johnny Cash\, Black Flag\, Misfits\, Adolescents\, Agent Orange\, Goldfinger\, Less Than Jake\, Flogging Molly\, No FX\, CKY\, Motorhead\, Suicidal Tendacies\, Papa Roach\, Bad Religion\, Fu Manchu\, System Of A Down\, Lagwagon\, My Chemical Romance\, Powerman 5000\, Queens of the Stone Age\, Swingin’ Utters\, Zebrahead\, Kiss and many more. \n  \nTickets priced £12 are on sale from Wednesday 27th September from Seetickets and available locally from Bar 85\, H Town Rags and Davids Music \nTicket Link: https://www.seetickets.com/event/the-900/club-85/ \nDoors: 7:45pm \nAge: 16+ (bring ID) Younger patrons can be signed in at the door and accompanied for the duration of the show by a responsible adult. \n\nEarplugs are available upon request (50p).\n\nDownstairs bar open until 1am.\n\nLike all our gigs this show finishes well in time for the last trains North and South to Cambridge/Peterborough and London and we are just a 5 minute stroll from the station.\n\nFor full up to the minute listings please visit www.club-85.co.uk and consider signing up to our mailing list for information on existing and upcoming gigs straight to you!\n\nAnd remember… Club 85 loves you! xo
URL:https://club-85.co.uk/event/the-900-the-tony-hawk-pro-skater-covers-band-guests/
LOCATION:Club 85\, 74 Whinbush Road\, Hitchin\, Hertfordshire\, SG5 1PZ\, United Kingdom
ATTACH;FMTTYPE=image/jpeg:https://club-85.co.uk/wp-content/uploads/2023/09/THE-900-Hitchin-16-Aug-Poster.jpg
GEO:51.9528628;-0.2720485
X-APPLE-STRUCTURED-LOCATION;VALUE=URI;X-ADDRESS=Club 85 74 Whinbush Road Hitchin Hertfordshire SG5 1PZ United Kingdom;X-APPLE-RADIUS=500;X-TITLE=74 Whinbush Road:geo:-0.2720485,51.9528628
END:VEVENT
END:VCALENDAR