BEGIN:VCALENDAR
VERSION:2.0
PRODID:-//Club 85 - ECPv6.15.20//NONSGML v1.0//EN
CALSCALE:GREGORIAN
METHOD:PUBLISH
X-ORIGINAL-URL:https://club-85.co.uk
X-WR-CALDESC:Events for Club 85
REFRESH-INTERVAL;VALUE=DURATION:PT1H
X-Robots-Tag:noindex
X-PUBLISHED-TTL:PT1H
BEGIN:VTIMEZONE
TZID:Europe/London
BEGIN:DAYLIGHT
TZOFFSETFROM:+0000
TZOFFSETTO:+0100
TZNAME:BST
DTSTART:20230326T010000
END:DAYLIGHT
BEGIN:STANDARD
TZOFFSETFROM:+0100
TZOFFSETTO:+0000
TZNAME:GMT
DTSTART:20231029T010000
END:STANDARD
BEGIN:DAYLIGHT
TZOFFSETFROM:+0000
TZOFFSETTO:+0100
TZNAME:BST
DTSTART:20240331T010000
END:DAYLIGHT
BEGIN:STANDARD
TZOFFSETFROM:+0100
TZOFFSETTO:+0000
TZNAME:GMT
DTSTART:20241027T010000
END:STANDARD
BEGIN:DAYLIGHT
TZOFFSETFROM:+0000
TZOFFSETTO:+0100
TZNAME:BST
DTSTART:20250330T010000
END:DAYLIGHT
BEGIN:STANDARD
TZOFFSETFROM:+0100
TZOFFSETTO:+0000
TZNAME:GMT
DTSTART:20251026T010000
END:STANDARD
END:VTIMEZONE
BEGIN:VEVENT
DTSTART;TZID=Europe/London:20240817T194500
DTEND;TZID=Europe/London:20240817T233000
DTSTAMP:20260425T182547
CREATED:20240417T104952Z
LAST-MODIFIED:20240417T140625Z
UID:10000385-1723923900-1723937400@club-85.co.uk
SUMMARY:The Sambroso All Stars + Deadbeat DJs
DESCRIPTION:The Sambroso All Stars make their Club85 debut on Saturday 17th August!\n\nIs there a more iconic Cuban album than Buena Vista Social Club’s eponymous debut? Winning the Grammy for Best Traditional Tropical Latin Album\, it remains a high watermark not just for Cuban music but world music as a whole\, having been only one of two non-English speaking albums to be included in Rolling Stone’s 500 greatest albums of all time list.\n\nDoing this album any sort of justice is no easy task\, but there isn’t anyone better than Sambroso Noda\, the beating heart of London’s Cuban community and flourishing music scene. He has whipped up a bonafide ‘all star’ group of Cuban musicians who will pay their own unique and loving tribute to the landmark album.\n\n\nThe 7-piece all star band promise to mesmerise the crowd with their combination of Cuban Son\, Latin Jazz and Rumba\, from Cuba’s Golden era. \nOn Sale: Friday 19th April – 10am \nTicket link: https://www.seetickets.com/event/sambroso-all-stars-buena-vista-social-club/club-85/ \nDoors: 7:45pmpm \nAge: 16+ with photo ID – younger patrons can be signed in at the door and accompanied for the duration of the show by a responsible adult.\nEarplugs are available upon request (50p).\nDownstairs bar open until 1am.\nLike all our gigs this show finishes well in time for the last trains North and South to Cambridge/Peterborough and London and we are just a 5 minute stroll from the station.\nFor full up to the minute listings please visit www.club-85.co.uk and consider signing up to our mailing list for information on existing and upcoming gigs straight to you!\nAnd remember… Club 85 loves you! xo
URL:https://club-85.co.uk/event/the-sambroso-all-stars-deadbeat-djs/
LOCATION:Club 85\, 74 Whinbush Road\, Hitchin\, Hertfordshire\, SG5 1PZ\, United Kingdom
ATTACH;FMTTYPE=image/jpeg:https://club-85.co.uk/wp-content/uploads/2024/04/Sambroso-Allstars-Poster-Hitchin-copy.jpg
GEO:51.9528628;-0.2720485
X-APPLE-STRUCTURED-LOCATION;VALUE=URI;X-ADDRESS=Club 85 74 Whinbush Road Hitchin Hertfordshire SG5 1PZ United Kingdom;X-APPLE-RADIUS=500;X-TITLE=74 Whinbush Road:geo:-0.2720485,51.9528628
END:VEVENT
END:VCALENDAR