BEGIN:VCALENDAR
VERSION:2.0
PRODID:-//Club 85 - ECPv6.15.20//NONSGML v1.0//EN
CALSCALE:GREGORIAN
METHOD:PUBLISH
X-ORIGINAL-URL:https://club-85.co.uk
X-WR-CALDESC:Events for Club 85
REFRESH-INTERVAL;VALUE=DURATION:PT1H
X-Robots-Tag:noindex
X-PUBLISHED-TTL:PT1H
BEGIN:VTIMEZONE
TZID:Europe/London
BEGIN:DAYLIGHT
TZOFFSETFROM:+0000
TZOFFSETTO:+0100
TZNAME:BST
DTSTART:20230326T010000
END:DAYLIGHT
BEGIN:STANDARD
TZOFFSETFROM:+0100
TZOFFSETTO:+0000
TZNAME:GMT
DTSTART:20231029T010000
END:STANDARD
BEGIN:DAYLIGHT
TZOFFSETFROM:+0000
TZOFFSETTO:+0100
TZNAME:BST
DTSTART:20240331T010000
END:DAYLIGHT
BEGIN:STANDARD
TZOFFSETFROM:+0100
TZOFFSETTO:+0000
TZNAME:GMT
DTSTART:20241027T010000
END:STANDARD
BEGIN:DAYLIGHT
TZOFFSETFROM:+0000
TZOFFSETTO:+0100
TZNAME:BST
DTSTART:20250330T010000
END:DAYLIGHT
BEGIN:STANDARD
TZOFFSETFROM:+0100
TZOFFSETTO:+0000
TZNAME:GMT
DTSTART:20251026T010000
END:STANDARD
END:VTIMEZONE
BEGIN:VEVENT
DTSTART;TZID=Europe/London:20241005T194500
DTEND;TZID=Europe/London:20241005T233000
DTSTAMP:20260425T152818
CREATED:20240302T163839Z
LAST-MODIFIED:20240511T203039Z
UID:10000376-1728157500-1728171000@club-85.co.uk
SUMMARY:* SOLD OUT* NOASIS ‘The Definitive Oasis Tribute Band’ + Guests + Rich Winchester DJ set
DESCRIPTION:NOASIS ‘The Definitive Oasis Tribute Band’ + Guests + Rich Winchester DJ set \nThe mighty Noasis touch down in Hitchin with their 3rd show of the year at Club 85 on Saturday 5th October for one giant party and a celebration of one of the greatest bands this country has ever produced. \nNoasis is the definitive tribute band to Manchester’s five-piece super group Oasis. Since their formation in 2006 and with over 900 performances to date Noasis has justly earned its reputation as the best tribute on the circuit packing out venues up and down the UK. \nWith an obsessive attention to detail the band recreates the real Oasis experience with amazing energy playing all the classic songs as if they were their own. This is more than a tribute band this is Oasis from a parallel universe. With a huge back catalogue from Oasis to choose from the band create huge crowd-pleasing sets taking tracks Definitely Maybe\, (What’s the Story) Morning Glory\, Be Here Now\, Standing on the Shoulder of Giants\, Heathen Chemistry\, Don’t Believe the Truth\, & Dig Out Your Own Soul delivering a supersonic show of the very best Oasis anthems. \nFrom playing the Vic for Mick on Eastenders to the biggest festivals around the UK including Y Not & The Isle Of Wight FestivaL\, hitting the national headlines when they got snowed in at the highest pub in the UK for 3 days NOASIS are the in demand doppelgangers\, there are other tributes\, there are other venues but when it comes to the sound of Oasis no one does it better than Noasis at Club 85. \nDJ sounds supplied by The Winchester Collective. \nGuest support TBC \nTickets on sale now priced £14 from Seetickets and available from local outlets of Bar 85\, Our Favourite Shop & David’s Music in Letchworth. \n*WARNING – Don’t sit on the fence if you are thinking of buying a ticket\, this show will sell out in advance* \nTicket link: https://www.seetickets.com/event/noasis/club-85/2900172 \nDoors: 7:45pm \nAge: 16+ with photo ID – younger patrons can be signed in at the door and accompanied for the duration of the show by a responsible adult. \nEarplugs are available upon request (50p).\nDownstairs bar open until 11pm.\nLike all our gigs this show finishes well in time for the last trains North and South to Cambridge/Peterborough and London and we are just a 5 minute stroll from the station.\nFor full up to the minute listings please visit www.club-85.co.uk and consider signing up to our mailing list for information on existing and upcoming gigs straight to you!\nAnd remember… Club 85 loves you! xo
URL:https://club-85.co.uk/event/noasis-the-definitive-oasis-tribute-band-guests-rich-winchester-dj-set-3/
LOCATION:Club 85\, 74 Whinbush Road\, Hitchin\, Hertfordshire\, SG5 1PZ\, United Kingdom
ATTACH;FMTTYPE=image/jpeg:https://club-85.co.uk/wp-content/uploads/2024/03/Noasis-Poster-Hitchin-SATURDAY-2024-copy.jpg
GEO:51.9528628;-0.2720485
X-APPLE-STRUCTURED-LOCATION;VALUE=URI;X-ADDRESS=Club 85 74 Whinbush Road Hitchin Hertfordshire SG5 1PZ United Kingdom;X-APPLE-RADIUS=500;X-TITLE=74 Whinbush Road:geo:-0.2720485,51.9528628
END:VEVENT
END:VCALENDAR