BEGIN:VCALENDAR
VERSION:2.0
PRODID:-//Club 85 - ECPv6.15.20//NONSGML v1.0//EN
CALSCALE:GREGORIAN
METHOD:PUBLISH
X-ORIGINAL-URL:https://club-85.co.uk
X-WR-CALDESC:Events for Club 85
REFRESH-INTERVAL;VALUE=DURATION:PT1H
X-Robots-Tag:noindex
X-PUBLISHED-TTL:PT1H
BEGIN:VTIMEZONE
TZID:Europe/London
BEGIN:DAYLIGHT
TZOFFSETFROM:+0000
TZOFFSETTO:+0100
TZNAME:BST
DTSTART:20230326T010000
END:DAYLIGHT
BEGIN:STANDARD
TZOFFSETFROM:+0100
TZOFFSETTO:+0000
TZNAME:GMT
DTSTART:20231029T010000
END:STANDARD
BEGIN:DAYLIGHT
TZOFFSETFROM:+0000
TZOFFSETTO:+0100
TZNAME:BST
DTSTART:20240331T010000
END:DAYLIGHT
BEGIN:STANDARD
TZOFFSETFROM:+0100
TZOFFSETTO:+0000
TZNAME:GMT
DTSTART:20241027T010000
END:STANDARD
BEGIN:DAYLIGHT
TZOFFSETFROM:+0000
TZOFFSETTO:+0100
TZNAME:BST
DTSTART:20250330T010000
END:DAYLIGHT
BEGIN:STANDARD
TZOFFSETFROM:+0100
TZOFFSETTO:+0000
TZNAME:GMT
DTSTART:20251026T010000
END:STANDARD
END:VTIMEZONE
BEGIN:VEVENT
DTSTART;TZID=Europe/London:20241012T194500
DTEND;TZID=Europe/London:20241012T233000
DTSTAMP:20260425T152905
CREATED:20231206T192218Z
LAST-MODIFIED:20240618T202819Z
UID:10000351-1728762300-1728775800@club-85.co.uk
SUMMARY:*SOLD OUT* ABSOLUTE BOWIE
DESCRIPTION:Pleased to announce Absolute Bowie make their debut at Club 85 in Hitchin on Sat 12th October. \nNow in their 17th year of touring\, the UKs ‘Best Tribute Band’ and ‘Best Bowie’ act\, would like to come and meet you and they might just blow your mind… With an electrifying performance from our main Starman\, and theatrical mid-set costume ch-ch-ch-anges\, Absolute Bowie will take you on a musical journey through the greatest hits of David Bowie with their huge stage show. \n“A lovingly crafted Bowie show” says NME\, and “an unmissable tribute act” hails the Times\, the band will leave you wanting more from the most genuine David Bowie tribute out there. Is it any wonder when you are too cool to fool. \nDavid Bowie’s evolving image has mesmerised fans since the early 70’s and for the first time ever Absolute Bowie will take audiences on a trip that presents all his best-loved personas in all their glory. Performed by a world class five-piece band\, this unique concert features two long sets and more costume changes than any other show. A true extravaganza of the wonder that is Bowie’s work. \nThe band have listened to fans and evolved the show’s setlist to really give an all-killer performance and no Bowie fan is left out. All of the Starman’s greatest hits are performed plus the band perform tracks from the albums David Bowie\, Ziggy Stardust & The Spiders From Mars\, Heroes\, Aladdin Sane\, Hunky Dory\, Let’s Dance and Young Americans through to the hits of later albums. \nFeaturing the incredible vocals of John O’Neill as David Bowie\, with our very own Ronno\, Andy Marr on guitar\, Sam Gino on bass\, Varo Sisti on keyboards\, Alex Riccardi on drums and\, when possible\, Fiona Asbury on saxophone. The band perform with incredible musicianship and attention to detail. \nPrepare to be taken from A to Z (Absolute Beginners to Ziggy!) with Stations to Station in between. So don’t miss out – don your glittery dancing boots\, paint a flash on your face and buy your tickets now because the planet Earth is blue and there’s nothing else left to do… \nTickets priced £17 in advance are available now from Seetickets and the regular outlets of Bar 85\, H Town Wax and Rags and Davids Music in Letchworth \n\nAge: 16+ with photo ID – younger patrons can be signed in at the door and accompanied for the duration of the show by a responsible adult.\nEarplugs are available upon request (50p).\nDownstairs bar open until 11pm.\nLike all our gigs this show finishes well in time for the last trains North and South to Cambridge/Peterborough and London and we are just a 5 minute stroll from the station.\nFor full up to the minute listings please visit www.club-85.co.uk and consider signing up to our mailing list for information on existing and upcoming gigs straight to you!\nAnd remember… Club 85 loves you! xo
URL:https://club-85.co.uk/event/absolute-bowie/
LOCATION:Club 85\, 74 Whinbush Road\, Hitchin\, Hertfordshire\, SG5 1PZ\, United Kingdom
ATTACH;FMTTYPE=image/jpeg:https://club-85.co.uk/wp-content/uploads/2023/12/Absolute-Bowie-HITCHIN-Poster-copy.jpg
GEO:51.9528628;-0.2720485
X-APPLE-STRUCTURED-LOCATION;VALUE=URI;X-ADDRESS=Club 85 74 Whinbush Road Hitchin Hertfordshire SG5 1PZ United Kingdom;X-APPLE-RADIUS=500;X-TITLE=74 Whinbush Road:geo:-0.2720485,51.9528628
END:VEVENT
END:VCALENDAR