BEGIN:VCALENDAR
VERSION:2.0
PRODID:-//Club 85 - ECPv6.15.20//NONSGML v1.0//EN
CALSCALE:GREGORIAN
METHOD:PUBLISH
X-WR-CALNAME:Club 85
X-ORIGINAL-URL:https://club-85.co.uk
X-WR-CALDESC:Events for Club 85
REFRESH-INTERVAL;VALUE=DURATION:PT1H
X-Robots-Tag:noindex
X-PUBLISHED-TTL:PT1H
BEGIN:VTIMEZONE
TZID:Europe/London
BEGIN:DAYLIGHT
TZOFFSETFROM:+0000
TZOFFSETTO:+0100
TZNAME:BST
DTSTART:20230326T010000
END:DAYLIGHT
BEGIN:STANDARD
TZOFFSETFROM:+0100
TZOFFSETTO:+0000
TZNAME:GMT
DTSTART:20231029T010000
END:STANDARD
BEGIN:DAYLIGHT
TZOFFSETFROM:+0000
TZOFFSETTO:+0100
TZNAME:BST
DTSTART:20240331T010000
END:DAYLIGHT
BEGIN:STANDARD
TZOFFSETFROM:+0100
TZOFFSETTO:+0000
TZNAME:GMT
DTSTART:20241027T010000
END:STANDARD
BEGIN:DAYLIGHT
TZOFFSETFROM:+0000
TZOFFSETTO:+0100
TZNAME:BST
DTSTART:20250330T010000
END:DAYLIGHT
BEGIN:STANDARD
TZOFFSETFROM:+0100
TZOFFSETTO:+0000
TZNAME:GMT
DTSTART:20251026T010000
END:STANDARD
END:VTIMEZONE
BEGIN:VEVENT
DTSTART;TZID=Europe/London:20241017T193000
DTEND;TZID=Europe/London:20241017T233000
DTSTAMP:20260425T152640
CREATED:20240730T170908Z
LAST-MODIFIED:20240730T170908Z
UID:10000410-1729193400-1729207800@club-85.co.uk
SUMMARY:HAYSEED DIXIE + GUESTS
DESCRIPTION:We’re very excited to be bringing the purveyors of ‘maximum rockgrass’\, Hayseed Dixie to Club 85\, Hitchin for the first and (possibly) last time on Thursday 17th October. \n\nHayseed Dixie began one innocent Summer day in 2000 when John Wheeler and Mike Daly drank roughly enough whiskey to float a battleship from the Florida Coast over to Portugal and back and decided to play around in John’s studio. Having spent the previous few years touring around with assorted country hat-acts\, John had assembled a proper pile of recording equipment. Thus when he and Mike discovered in their drunken epiphany that the Lost Highway of Reverend Hank Williams and the Highway to Hell of Bishop Bon Scott were indeed the same identical stretch of tarmac\, they were well and truly prepared to document this revelation in situ. \nEast Nashville\, Tennessee in the Summer of 2000 was a proper Bohemian party place\, and a few friends stopped by\, drank some of John’s whiskey\, and played and sang on this recording here and there\, as was the custom of the times. And ten AC/DC songs were suddenly reimagined and recorded forever anew\, entirely reinvented as Appalachian Mountain hillbilly rave-ups. Everyone danced (oh how they danced!) around the studio room and out onto the porch and drank more whiskey. (You should have been there. Really. You should have.) \n\nTickets are on sale right now from Seetickets:\nhttps://www.seetickets.com/…/hayseed-dixie/club-85/3085311 \nAlso available from select\, local Club 85 outlets \nDoors open 7.30pm \nFull support line up TBA \n\nAge: 16+ (bring ID) Younger patrons can be signed in at the door and accompanied for the duration of the show by a responsible adult. \n\nEarplugs are available upon request (50p).\n\nDownstairs bar open until 1am.\n\nLike all our gigs this show finishes well in time for the last trains North and South to Cambridge/Peterborough and London and we are just a 5 minute stroll from the station.\n\nFor full up to the minute listings please visit www.club-85.co.uk and consider signing up to our mailing list for information on existing and upcoming gigs straight to you!\n\nAnd remember… Club 85 loves you! xo
URL:https://club-85.co.uk/event/hayseed-dixie-guests/
LOCATION:Club 85\, 74 Whinbush Road\, Hitchin\, Hertfordshire\, SG5 1PZ\, United Kingdom
ATTACH;FMTTYPE=image/png:https://club-85.co.uk/wp-content/uploads/2024/07/Hayseed-Dixie-Hitchin-Poster.png
GEO:51.9528628;-0.2720485
X-APPLE-STRUCTURED-LOCATION;VALUE=URI;X-ADDRESS=Club 85 74 Whinbush Road Hitchin Hertfordshire SG5 1PZ United Kingdom;X-APPLE-RADIUS=500;X-TITLE=74 Whinbush Road:geo:-0.2720485,51.9528628
END:VEVENT
END:VCALENDAR