BEGIN:VCALENDAR
VERSION:2.0
PRODID:-//Club 85 - ECPv6.15.20//NONSGML v1.0//EN
CALSCALE:GREGORIAN
METHOD:PUBLISH
X-ORIGINAL-URL:https://club-85.co.uk
X-WR-CALDESC:Events for Club 85
REFRESH-INTERVAL;VALUE=DURATION:PT1H
X-Robots-Tag:noindex
X-PUBLISHED-TTL:PT1H
BEGIN:VTIMEZONE
TZID:Europe/London
BEGIN:DAYLIGHT
TZOFFSETFROM:+0000
TZOFFSETTO:+0100
TZNAME:BST
DTSTART:20230326T010000
END:DAYLIGHT
BEGIN:STANDARD
TZOFFSETFROM:+0100
TZOFFSETTO:+0000
TZNAME:GMT
DTSTART:20231029T010000
END:STANDARD
BEGIN:DAYLIGHT
TZOFFSETFROM:+0000
TZOFFSETTO:+0100
TZNAME:BST
DTSTART:20240331T010000
END:DAYLIGHT
BEGIN:STANDARD
TZOFFSETFROM:+0100
TZOFFSETTO:+0000
TZNAME:GMT
DTSTART:20241027T010000
END:STANDARD
BEGIN:DAYLIGHT
TZOFFSETFROM:+0000
TZOFFSETTO:+0100
TZNAME:BST
DTSTART:20250330T010000
END:DAYLIGHT
BEGIN:STANDARD
TZOFFSETFROM:+0100
TZOFFSETTO:+0000
TZNAME:GMT
DTSTART:20251026T010000
END:STANDARD
END:VTIMEZONE
BEGIN:VEVENT
DTSTART;TZID=Europe/London:20241026T194500
DTEND;TZID=Europe/London:20241026T233000
DTSTAMP:20260425T152901
CREATED:20241009T164538Z
LAST-MODIFIED:20241015T172949Z
UID:10000423-1729971900-1729985400@club-85.co.uk
SUMMARY:JAZZ UP! presents…  T BONE AFRIKA ALLSTARS + DJ Sten King
DESCRIPTION:JAZZ UP! presents… \nT BONE AFRIKA ALLSTARS \nOur second gig into the new JAZZ UP season\, and it’s going to be a stormer! \nGet ready to immerse yourself in the rich and rhythmic sounds of Southern Africa with T-BONE AFRIKA ALL STARS\, an upbeat Afro Beat High Life band that’s bringing a fresh wave of Afro-fusion music to UK stages. Known for their pulsating rhythms\, joyful traditional songs\, and mesmerising harmonies\, T-BONE AFRIKA ALL STARS are set to capture the hearts and souls of lovers of great music and live gigs. \nDrawing inspiration from legendary artists like Hugh Masekela\, T-BONE AFRIKA ALLSTARS blend the best of old-school and modern Afro Beat with the irresistible grooves of High Life music. Their songs are deeply rooted in Africa’s tribal stories and mythical legends\, creating a sound that is undeniably Afrika! With music that speaks to the soul and rhythms that make your feet move with freedom\, the band offers an unforgettable musical experience. \nThe band recently announced the release of their new EP\, CITY OF KINGS. This highly anticipated project showcases the band’s unique Afro-fusion sound in full glory. Each track on the EP celebrates the vibrant spirit of Southern Africa\, weaving together sumptuous Afro Groove music with melodies that leave listeners both energized and uplifted. CITY OF KINGS is more than just music—it’s a journey through African rhythms\, traditions\, and timeless stories. \nLINKS \n \nhttps://music.apple.com/gb/artist/t-bone-afrika-all-stars/1756308854 \n+ DJ Sten King \nOur resident JazzUP DJ Sten King delivers that unique JazzUp vibe. Sten is well known as a presenter of acclaimed hip hop radio shows such as ‘The Boom Bap Boutique’\, and has built a reputation as the DJ that the musicians love as much as the audience. \nTicket details\n£17 standard price + 10% booking fee \n£14 with JazzUp Loyalty Card + 10% booking fee \nOnline tickets available from: \nwww.club-85.co.uk \nwww.jazzupuk.com \nTickets may also be purchased on the door but please be aware that JazzUp can sometimes be very busy. \n16+ with photo ID – younger patrons can be signed in at the door by a responsible adult. Like all our gigs\, this show finishes well in time for the last trains North and South to Cambridge/Peterborough and London and we are just a 5 minute stroll from the station. \nMore JAZZ UP! details here: \nWEBSITE https://jazzupuk.com \nFACEBOOK https://www.facebook.com/JazzUpC85 \nINSTAGRAM https://instagram.com/jazzuphitchin \nTWITTER @JazzUpHitchin \nAny further questions please contact robin@robincampbell.org \nJAZZ UP! is sponsored by: \nRobin Campbell Music – https://robincampbell.org/ \nKeechdesign UK Ltd. – https://www.keechdesign.co.uk/
URL:https://club-85.co.uk/event/jazz-up-presents-t-bone-afrika-allstars-dj-sten-king/
LOCATION:Club 85\, 74 Whinbush Road\, Hitchin\, Hertfordshire\, SG5 1PZ\, United Kingdom
ATTACH;FMTTYPE=image/png:https://club-85.co.uk/wp-content/uploads/2024/10/Jazz-Up-57-A3-Poster-WEB.png
GEO:51.9528628;-0.2720485
X-APPLE-STRUCTURED-LOCATION;VALUE=URI;X-ADDRESS=Club 85 74 Whinbush Road Hitchin Hertfordshire SG5 1PZ United Kingdom;X-APPLE-RADIUS=500;X-TITLE=74 Whinbush Road:geo:-0.2720485,51.9528628
END:VEVENT
END:VCALENDAR