BEGIN:VCALENDAR
VERSION:2.0
PRODID:-//Club 85 - ECPv6.15.20//NONSGML v1.0//EN
CALSCALE:GREGORIAN
METHOD:PUBLISH
X-ORIGINAL-URL:https://club-85.co.uk
X-WR-CALDESC:Events for Club 85
REFRESH-INTERVAL;VALUE=DURATION:PT1H
X-Robots-Tag:noindex
X-PUBLISHED-TTL:PT1H
BEGIN:VTIMEZONE
TZID:Europe/London
BEGIN:DAYLIGHT
TZOFFSETFROM:+0000
TZOFFSETTO:+0100
TZNAME:BST
DTSTART:20230326T010000
END:DAYLIGHT
BEGIN:STANDARD
TZOFFSETFROM:+0100
TZOFFSETTO:+0000
TZNAME:GMT
DTSTART:20231029T010000
END:STANDARD
BEGIN:DAYLIGHT
TZOFFSETFROM:+0000
TZOFFSETTO:+0100
TZNAME:BST
DTSTART:20240331T010000
END:DAYLIGHT
BEGIN:STANDARD
TZOFFSETFROM:+0100
TZOFFSETTO:+0000
TZNAME:GMT
DTSTART:20241027T010000
END:STANDARD
BEGIN:DAYLIGHT
TZOFFSETFROM:+0000
TZOFFSETTO:+0100
TZNAME:BST
DTSTART:20250330T010000
END:DAYLIGHT
BEGIN:STANDARD
TZOFFSETFROM:+0100
TZOFFSETTO:+0000
TZNAME:GMT
DTSTART:20251026T010000
END:STANDARD
END:VTIMEZONE
BEGIN:VEVENT
DTSTART;TZID=Europe/London:20241107T193000
DTEND;TZID=Europe/London:20241107T230000
DTSTAMP:20260425T135333
CREATED:20240918T170921Z
LAST-MODIFIED:20240918T171046Z
UID:10000418-1731007800-1731020400@club-85.co.uk
SUMMARY:The Bluetones + The Loose Cut
DESCRIPTION:The Bluetones + The Loose Cut \n“The Bluetones are a band tied to their Brit Pop past but with tunes that begin to transcend it too” – Louder Than War \nThe Bluetones first came to prominence in 1995\, when their debut release ‘Are You Blue Or Are You Blind’ broke into the Top 40. The single proved to be the launching pad for a run that saw 14 hit singles and 6 albums follow on from it. From thereon\, the band\, made up of brothers Mark & Scott Morriss alongside Adam Devlin and Eds Chesters\, enjoyed considerable UK and Ireland successes\, extending out across into Europe and Japan\, before taking a hiatus in 2011 that lasted for 4 years. Since then they have re-established themselves as one of the UK’s most consistently entertaining live acts\, regularly touring their extensive catalogue to their army of devoted fans. \n2024 will see the release of the first new Bluetones material in 14 years\, and promises to be as exciting a year for the group as they’ve ever enjoyed. A renaissance that will see the four original band members take in the summer festivals before a full UK tour in the autumn/winter of 2024. \n“The Bluetones run the gamut from classic indie-pop to psychadelictinged rock with unselfconscious ease” – The Scotsman \nGuest support comes from The Loose Cut. \nTickets priced £25 are on sale from Seetickets and the venue website from Wednesday 11th September \nTicket link: https://tinyurl.com/2p8x92na \nDoors: 7:30pm \nAge: 16+ with photo ID – younger patrons can be signed in at the door and accompanied for the duration of the show by a responsible adult. \nEarplugs are available upon request (50p).\nDownstairs bar open until 11pm.\nLike all our gigs this show finishes well in time for the last trains North and South to Cambridge/Peterborough and London and we are just a 5 minute stroll from the station.\nFor full up to the minute listings please visit www.club-85.co.uk and consider signing up to our mailing list for information on existing and upcoming gigs straight to you!\nAnd remember… Club 85 loves you! xo
URL:https://club-85.co.uk/event/the-bluetones-the-loose-cut/
LOCATION:Club 85\, 74 Whinbush Road\, Hitchin\, Hertfordshire\, SG5 1PZ\, United Kingdom
ATTACH;FMTTYPE=image/png:https://club-85.co.uk/wp-content/uploads/2024/09/The-Bluetones-Hitchin-Poster.png
GEO:51.9528628;-0.2720485
X-APPLE-STRUCTURED-LOCATION;VALUE=URI;X-ADDRESS=Club 85 74 Whinbush Road Hitchin Hertfordshire SG5 1PZ United Kingdom;X-APPLE-RADIUS=500;X-TITLE=74 Whinbush Road:geo:-0.2720485,51.9528628
END:VEVENT
END:VCALENDAR