BEGIN:VCALENDAR
VERSION:2.0
PRODID:-//Club 85 - ECPv6.15.20//NONSGML v1.0//EN
CALSCALE:GREGORIAN
METHOD:PUBLISH
X-ORIGINAL-URL:https://club-85.co.uk
X-WR-CALDESC:Events for Club 85
REFRESH-INTERVAL;VALUE=DURATION:PT1H
X-Robots-Tag:noindex
X-PUBLISHED-TTL:PT1H
BEGIN:VTIMEZONE
TZID:Europe/London
BEGIN:DAYLIGHT
TZOFFSETFROM:+0000
TZOFFSETTO:+0100
TZNAME:BST
DTSTART:20230326T010000
END:DAYLIGHT
BEGIN:STANDARD
TZOFFSETFROM:+0100
TZOFFSETTO:+0000
TZNAME:GMT
DTSTART:20231029T010000
END:STANDARD
BEGIN:DAYLIGHT
TZOFFSETFROM:+0000
TZOFFSETTO:+0100
TZNAME:BST
DTSTART:20240331T010000
END:DAYLIGHT
BEGIN:STANDARD
TZOFFSETFROM:+0100
TZOFFSETTO:+0000
TZNAME:GMT
DTSTART:20241027T010000
END:STANDARD
BEGIN:DAYLIGHT
TZOFFSETFROM:+0000
TZOFFSETTO:+0100
TZNAME:BST
DTSTART:20250330T010000
END:DAYLIGHT
BEGIN:STANDARD
TZOFFSETFROM:+0100
TZOFFSETTO:+0000
TZNAME:GMT
DTSTART:20251026T010000
END:STANDARD
END:VTIMEZONE
BEGIN:VEVENT
DTSTART;TZID=Europe/London:20241123T194500
DTEND;TZID=Europe/London:20241123T233000
DTSTAMP:20260425T135138
CREATED:20240208T170902Z
LAST-MODIFIED:20240208T170902Z
UID:10000246-1732391100-1732404600@club-85.co.uk
SUMMARY:Moretallica - UK Metallica Tribute Band
DESCRIPTION:Following a fully sold out show in 2023 we are pleased to announce the return of Moretallica to Club 85 in Hitchin on Sat 23rd November. \n2024 is Moretallica’s 11th year of touring. To celebrate this\, we will be playing songs from all 11 of Metallica’s original studio albums. At this show\, there will be at least one song from every album in the set! \nMoretallica is the most exciting Metallica Tribute in the UK\, delivering an authentic performance and the most energetic show! Formed in 2012\, and determined to perform the music of heavy metal legends Metallica to the highest standard\, Moretallica is at the top level of UK tribute bands. \nA Moretallica show is the most hard-hitting spectacle and display of high quality musicianship\, as you’d expect from a band with 60+ years of combined gigging experience across the UK and Europe. \nThis will probably be the very last time to catch Moretallica at Club 85 so an early ticket purchase is essential. \nTickets priced £13.00 are on sale from Seetickets and available in person from Our Favourite Shop\, Bar85 Hitchin and Davids Book Shop Letchworth. \nTicket link: https://www.seetickets.com/event/moretallica/club-85/2926964 \nDoors: 7:45pm \nAge: 16+ with photo ID – younger patrons can be signed in at the door and accompanied for the duration of the show by a responsible adult.\nEarplugs are available upon request (50p).\nDownstairs bar open until 11pm.\nLike all our gigs this show finishes well in time for the last trains North and South to Cambridge/Peterborough and London and we are just a 5 minute stroll from the station.\nFor full up to the minute listings please visit www.club-85.co.uk and consider signing up to our mailing list for information on existing and upcoming gigs straight to you!\nAnd remember… Club 85 loves you! xo
URL:https://club-85.co.uk/event/moretallica-uk-metallica-tribute-band/
LOCATION:Club 85\, 74 Whinbush Road\, Hitchin\, Hertfordshire\, SG5 1PZ\, United Kingdom
ATTACH;FMTTYPE=image/jpeg:https://club-85.co.uk/wp-content/uploads/2024/02/Mortallica-Club-85-Hitchin-a3-poster.jpg
GEO:51.9528628;-0.2720485
X-APPLE-STRUCTURED-LOCATION;VALUE=URI;X-ADDRESS=Club 85 74 Whinbush Road Hitchin Hertfordshire SG5 1PZ United Kingdom;X-APPLE-RADIUS=500;X-TITLE=74 Whinbush Road:geo:-0.2720485,51.9528628
END:VEVENT
END:VCALENDAR