BEGIN:VCALENDAR
VERSION:2.0
PRODID:-//Club 85 - ECPv6.15.20//NONSGML v1.0//EN
CALSCALE:GREGORIAN
METHOD:PUBLISH
X-ORIGINAL-URL:https://club-85.co.uk
X-WR-CALDESC:Events for Club 85
REFRESH-INTERVAL;VALUE=DURATION:PT1H
X-Robots-Tag:noindex
X-PUBLISHED-TTL:PT1H
BEGIN:VTIMEZONE
TZID:Europe/London
BEGIN:DAYLIGHT
TZOFFSETFROM:+0000
TZOFFSETTO:+0100
TZNAME:BST
DTSTART:20230326T010000
END:DAYLIGHT
BEGIN:STANDARD
TZOFFSETFROM:+0100
TZOFFSETTO:+0000
TZNAME:GMT
DTSTART:20231029T010000
END:STANDARD
BEGIN:DAYLIGHT
TZOFFSETFROM:+0000
TZOFFSETTO:+0100
TZNAME:BST
DTSTART:20240331T010000
END:DAYLIGHT
BEGIN:STANDARD
TZOFFSETFROM:+0100
TZOFFSETTO:+0000
TZNAME:GMT
DTSTART:20241027T010000
END:STANDARD
BEGIN:DAYLIGHT
TZOFFSETFROM:+0000
TZOFFSETTO:+0100
TZNAME:BST
DTSTART:20250330T010000
END:DAYLIGHT
BEGIN:STANDARD
TZOFFSETFROM:+0100
TZOFFSETTO:+0000
TZNAME:GMT
DTSTART:20251026T010000
END:STANDARD
END:VTIMEZONE
BEGIN:VEVENT
DTSTART;TZID=Europe/London:20241124T160000
DTEND;TZID=Europe/London:20241124T200000
DTSTAMP:20260425T134933
CREATED:20240608T172719Z
LAST-MODIFIED:20241123T013115Z
UID:10000401-1732464000-1732478400@club-85.co.uk
SUMMARY:HENGE + Special Guests – 4pm (Matinee show)
DESCRIPTION:Attention Humans! This is HENGE. \nWe are not from this world. \nWe bring you music from distant planets. \nWe offer this gift for the edification of humankind… so that eventually your species may put an end to war and set up new homes in space. \nExtra-terrestrial joymongers – HENGE – have been delighting audiences in the UK and Europe since they landed on Planet Earth nine years ago. Their scintillating live performances earned them ‘Best Live Act’ at the Independent Festival Awards and they have since cemented their reputation with three acclaimed albums\, numerous tours and regular main-stage festival appearances. \nTheir music escapes definition\, but occupies a space between rave and prog rock that nobody knew existed. It is energetic\, subversive and invigoratingly playful\, jovially breaking new ground. Ultimately\, these intrepid creatures are spreading a message of hope which leaves audiences feeling amused and uplifted in equal measures. \nTickets priced £15 are on sale now from Seetickets and local outlets \nTicket link: https://www.seetickets.com/event/henge/club-85/3045109 \nDoors: 4pm \nAge: 16+ (bring ID) Younger patrons can be signed in at the door and accompanied for the duration of the show by a responsible adult. (21+) \n\nEarplugs are available upon request (50p). \n\n\nAll under 16s are supplied earplugs free of charge and children 5yrs and under MUST wear appropriate hearing protection. \nWe advise to bring your own hearing protection for your children  5 years and under as we have very limited stock of over ear hearing protection. \n\n\n\n\nDownstairs bar open until 11pm.\n\nLike all our gigs this show finishes well in time for the last trains North and South to Cambridge/Peterborough and London and we are just a 5 minute stroll from the station.\n\nFor full up to the minute listings please visit www.club-85.co.uk and consider signing up to our mailing list for information on existing and upcoming gigs straight to you!\n\nAnd remember… Club 85 loves you! xo
URL:https://club-85.co.uk/event/henge-special-guests-4pm-matinee-show/
LOCATION:Club 85\, 74 Whinbush Road\, Hitchin\, Hertfordshire\, SG5 1PZ\, United Kingdom
ATTACH;FMTTYPE=image/png:https://club-85.co.uk/wp-content/uploads/2024/06/Henge-Club-85-Poster.png
GEO:51.9528628;-0.2720485
X-APPLE-STRUCTURED-LOCATION;VALUE=URI;X-ADDRESS=Club 85 74 Whinbush Road Hitchin Hertfordshire SG5 1PZ United Kingdom;X-APPLE-RADIUS=500;X-TITLE=74 Whinbush Road:geo:-0.2720485,51.9528628
END:VEVENT
END:VCALENDAR