BEGIN:VCALENDAR
VERSION:2.0
PRODID:-//Club 85 - ECPv6.15.16//NONSGML v1.0//EN
CALSCALE:GREGORIAN
METHOD:PUBLISH
X-ORIGINAL-URL:https://club-85.co.uk
X-WR-CALDESC:Events for Club 85
REFRESH-INTERVAL;VALUE=DURATION:PT1H
X-Robots-Tag:noindex
X-PUBLISHED-TTL:PT1H
BEGIN:VTIMEZONE
TZID:Europe/London
BEGIN:DAYLIGHT
TZOFFSETFROM:+0000
TZOFFSETTO:+0100
TZNAME:BST
DTSTART:20230326T010000
END:DAYLIGHT
BEGIN:STANDARD
TZOFFSETFROM:+0100
TZOFFSETTO:+0000
TZNAME:GMT
DTSTART:20231029T010000
END:STANDARD
BEGIN:DAYLIGHT
TZOFFSETFROM:+0000
TZOFFSETTO:+0100
TZNAME:BST
DTSTART:20240331T010000
END:DAYLIGHT
BEGIN:STANDARD
TZOFFSETFROM:+0100
TZOFFSETTO:+0000
TZNAME:GMT
DTSTART:20241027T010000
END:STANDARD
BEGIN:DAYLIGHT
TZOFFSETFROM:+0000
TZOFFSETTO:+0100
TZNAME:BST
DTSTART:20250330T010000
END:DAYLIGHT
BEGIN:STANDARD
TZOFFSETFROM:+0100
TZOFFSETTO:+0000
TZNAME:GMT
DTSTART:20251026T010000
END:STANDARD
END:VTIMEZONE
BEGIN:VEVENT
DTSTART;TZID=Europe/London:20241207T194500
DTEND;TZID=Europe/London:20241207T233000
DTSTAMP:20260423T134903
CREATED:20240201T174453Z
LAST-MODIFIED:20241206T191622Z
UID:10000370-1733600700-1733614200@club-85.co.uk
SUMMARY:(SOLD OUT) SPECIAL KINDA MADNESS!
DESCRIPTION:Special Kinda Madness make a welcome return to Club 85 on Saturday 7th December with their classic take on Madness and The Specials. \nHere’s the lowdown; SPECIAL KINDA MADNESS perform a truly authentic set from each band\, combining the phenomenally energetic stage presence of The Specials with the wonderful iconic tunes of the Madness ‘Nutty Boys’. Playing a set from each band and producing a show that will have the audience up and dancing from the off\, Special Kinda Madness will have everyone hankering after that exciting era of 2-Tone and ska. \nOn 21st July 1979 at the Electric Ballroom in London\, the Specials played a gig with Madness\, Dexy’s Midnight Runners and Selecter. That’s a gig that all 2-Tone rude boys and rude girls would die to see\, and thought would never happen. The Specials and Madness on the same bill! \nWe know it will never happen now … but you can get the next best thing with Special Kinda Madness!\n2 Bands … 2-Tone … 1 Fantastic Night! \nThere is no support on the night as the band play 2 sets with the running order of Specials or Madness to be decided on the night. Doors open at 7.45pm with the band taking to the stage for their first set around 8.30pm. \nThis will probably be the last time SPECIAL KINDA MADNESS get to play the venue before the doors close for good so let’s make it a good one. \nTickets priced £15 are on sale from Seetickets from Friday 2nd Feb and the local outlets of Bar 85\, H Town Rags and David’s Music Letchworth. \nTicket link: https://www.seetickets.com/event/special-kinda-madness/club-85/2856693 \nDoors: 7:45pm \n\n\nAge: 16+ (bring ID) Younger patrons can be signed in at the door and accompanied for the duration of the show by a responsible adult.\nEarplugs are available upon request (50p).\nDownstairs bar open until 1am.\nLike all our gigs this show finishes well in time for the last trains North and South to Cambridge/Peterborough and London and we are just a 5 minute stroll from the station.\nFor full up to the minute listings please visit www.club-85.co.uk and consider signing up to our mailing list for information on existing and upcoming gigs straight to you! \n\nAnd remember… Club 85 loves you! xo
URL:https://club-85.co.uk/event/special-kinda-madness-3/
LOCATION:Club 85\, 74 Whinbush Road\, Hitchin\, Hertfordshire\, SG5 1PZ\, United Kingdom
ATTACH;FMTTYPE=image/jpeg:https://club-85.co.uk/wp-content/uploads/2024/02/SKM-Poster-Hitchin.jpg
GEO:51.9528628;-0.2720485
X-APPLE-STRUCTURED-LOCATION;VALUE=URI;X-ADDRESS=Club 85 74 Whinbush Road Hitchin Hertfordshire SG5 1PZ United Kingdom;X-APPLE-RADIUS=500;X-TITLE=74 Whinbush Road:geo:-0.2720485,51.9528628
END:VEVENT
END:VCALENDAR