BEGIN:VCALENDAR
VERSION:2.0
PRODID:-//Club 85 - ECPv6.15.20//NONSGML v1.0//EN
CALSCALE:GREGORIAN
METHOD:PUBLISH
X-WR-CALNAME:Club 85
X-ORIGINAL-URL:https://club-85.co.uk
X-WR-CALDESC:Events for Club 85
REFRESH-INTERVAL;VALUE=DURATION:PT1H
X-Robots-Tag:noindex
X-PUBLISHED-TTL:PT1H
BEGIN:VTIMEZONE
TZID:Europe/London
BEGIN:DAYLIGHT
TZOFFSETFROM:+0000
TZOFFSETTO:+0100
TZNAME:BST
DTSTART:20230326T010000
END:DAYLIGHT
BEGIN:STANDARD
TZOFFSETFROM:+0100
TZOFFSETTO:+0000
TZNAME:GMT
DTSTART:20231029T010000
END:STANDARD
BEGIN:DAYLIGHT
TZOFFSETFROM:+0000
TZOFFSETTO:+0100
TZNAME:BST
DTSTART:20240331T010000
END:DAYLIGHT
BEGIN:STANDARD
TZOFFSETFROM:+0100
TZOFFSETTO:+0000
TZNAME:GMT
DTSTART:20241027T010000
END:STANDARD
BEGIN:DAYLIGHT
TZOFFSETFROM:+0000
TZOFFSETTO:+0100
TZNAME:BST
DTSTART:20250330T010000
END:DAYLIGHT
BEGIN:STANDARD
TZOFFSETFROM:+0100
TZOFFSETTO:+0000
TZNAME:GMT
DTSTART:20251026T010000
END:STANDARD
END:VTIMEZONE
BEGIN:VEVENT
DTSTART;TZID=Europe/London:20241215T130000
DTEND;TZID=Europe/London:20241215T210000
DTSTAMP:20260425T123912
CREATED:20241116T162051Z
LAST-MODIFIED:20241206T191314Z
UID:10000437-1734267600-1734296400@club-85.co.uk
SUMMARY:(CANCELLED) Imajica Theatre Presents!!! Spicy Disco & Family Grotto Christmas Party
DESCRIPTION:Imajica Theatre have come together with Club85 & Diamond Roadshow Discos to host a Spicy Christmas party and grotto. Come  along and dance your sparkly boots off this Dec at our cheesy Christmas Disco and meet Santa in his Grotto. \nOur spicy club\, hosted by Our North Pole Elves is an  event created with  SEN and Neurodivergent families in mind with an open door policy. The event is a fundraiser as part of the Save Club 85 with Imajica Theatre donating their time for free so grab your party dress\, bring your teddy (if you wish) and let’s have lots of fun! So you can all enjoy the event the music levels are lowered\, but feel free to bring your ear defenders. \nThere will be  lots of rainbow bubbles and sensory props with lots of opportunities to sing along\, Dance and join in with us! \nOur first sessions is aimed at under 14 and the early evening for those 14+ but everyone is welcome to both sessions. If you need a sensory access guide before the event let us know! \nSee you there Sparkles\, Tinsel and Mittons \nTickets £12 + 10% booking fee\n(Please scroll down to purchase tickets) \n\nDoors:\nSession one 1pm-4pm\nSession two 6pm-9pm \n16+ (bring ID).\nYounger patrons can be signed in at the door and accompanied for the duration of the show by a responsible adult.\nCarers get in free.\nEarplugs are available upon request (50p).\nDownstairs bar open until 11pm. \n\nLike all our gigs this show finishes well in time for the last trains North and South to Cambridge/Peterborough and Londonand we are just a 5 minute stroll from the station.\nFor full up to the minute listings please visit www.club-85.co.uk and consider signing up to our mailing list forinformation on existing and upcoming gigs straight to you!And remember… Club 85 loves you! xo
URL:https://club-85.co.uk/event/imajica-theatre-presents-spicy-disco-family-grotto-christmas-party/
LOCATION:Club 85\, 74 Whinbush Road\, Hitchin\, Hertfordshire\, SG5 1PZ\, United Kingdom
ATTACH;FMTTYPE=image/png:https://club-85.co.uk/wp-content/uploads/2024/11/462640281_1277690266573287_8720460586976083167_n.png
GEO:51.9528628;-0.2720485
X-APPLE-STRUCTURED-LOCATION;VALUE=URI;X-ADDRESS=Club 85 74 Whinbush Road Hitchin Hertfordshire SG5 1PZ United Kingdom;X-APPLE-RADIUS=500;X-TITLE=74 Whinbush Road:geo:-0.2720485,51.9528628
END:VEVENT
END:VCALENDAR