BEGIN:VCALENDAR
VERSION:2.0
PRODID:-//Club 85 - ECPv6.15.16//NONSGML v1.0//EN
CALSCALE:GREGORIAN
METHOD:PUBLISH
X-ORIGINAL-URL:https://club-85.co.uk
X-WR-CALDESC:Events for Club 85
REFRESH-INTERVAL;VALUE=DURATION:PT1H
X-Robots-Tag:noindex
X-PUBLISHED-TTL:PT1H
BEGIN:VTIMEZONE
TZID:Europe/London
BEGIN:DAYLIGHT
TZOFFSETFROM:+0000
TZOFFSETTO:+0100
TZNAME:BST
DTSTART:20230326T010000
END:DAYLIGHT
BEGIN:STANDARD
TZOFFSETFROM:+0100
TZOFFSETTO:+0000
TZNAME:GMT
DTSTART:20231029T010000
END:STANDARD
BEGIN:DAYLIGHT
TZOFFSETFROM:+0000
TZOFFSETTO:+0100
TZNAME:BST
DTSTART:20240331T010000
END:DAYLIGHT
BEGIN:STANDARD
TZOFFSETFROM:+0100
TZOFFSETTO:+0000
TZNAME:GMT
DTSTART:20241027T010000
END:STANDARD
BEGIN:DAYLIGHT
TZOFFSETFROM:+0000
TZOFFSETTO:+0100
TZNAME:BST
DTSTART:20250330T010000
END:DAYLIGHT
BEGIN:STANDARD
TZOFFSETFROM:+0100
TZOFFSETTO:+0000
TZNAME:GMT
DTSTART:20251026T010000
END:STANDARD
END:VTIMEZONE
BEGIN:VEVENT
DTSTART;TZID=Europe/London:20241219T194500
DTEND;TZID=Europe/London:20241219T233000
DTSTAMP:20260423T134931
CREATED:20241216T155951Z
LAST-MODIFIED:20241216T182603Z
UID:10000448-1734637500-1734651000@club-85.co.uk
SUMMARY:The Skive/ Left Ventricle/ Black Carrot/ Second Choice Steve
DESCRIPTION:Jucebox precents \nThe Skive are a three-piece punk/garage racket straight outta Stevenage\, which is genuinely the 42nd worst town in the UK. These guys are all about filthy\, in-your-face energy and no-bullshit\, politically charged chaos. They’ve got a reputation for blowing the roof off every joint they play with blistering speed\, reckless anthems\, and lyrics that hit harder than a hangover. Their brand of punk? Pure\, unfiltered\, punch-you-in-the-guts madness. The lineup’s a family affair: Fred on guitar and vocals\, his brother Kyle on drums\, and their mate Joe on bass. These three aren’t just a band\, they’re a fucking force. They’re taking a hard\, unflinching look at the UK\, screaming their way through the mess the higher ups are making\, and demanding we do better. It’s all about unity\, and they’re dragging you along for the ride whether you’re ready or not. \nLeft Ventricle are a dynamic alternative rock three piece band from Hertfordshire\, also based in Brighton.\nDrawing influences from Royal Blood\, QOTSA\, Jack White and Nirvana\, their infectious melodies combined with the unique song writing of Stan Cooper\, the guitarist and lead vocals\, speaks directly of their generation fusing both melancholy with attack.\nStan’s raw vocals and soaring guitar riffs united with Danny Butler on bass and Rowan Scourfield on drums driving the energy that fuels their live performances of their truly original material. \nBlack Carrot are a 3 piece Punk/Pop Punk/Rock group from Hertfordshire. Drawing on influences from American Bands such as Greenday\, Weezer & The Ramones. To UK Bands such as The Wildhearts & The Almighty. BLACK CARROT delivers upbeat original material. Songs with big infectious choruses\, written in such a way that any fat is edited out to deliver instantly. Their sound although thick in its influence also has its own style. A mix of old school punk rock & the more modern pop punk. Their songs cover a wide range of topics from past experiences\, toxic relationships\, girls\, cars\, and never saying never. \nSecond Choice Steve has extensive experience in the music industry\, having played in multiple Bands over the years\, including live TV\, and playing well known London Venues such\, the Rock Garden\, Dingwalls & ULU.\nMore recently\, Steve has concentrated on solo acoustic guitar & vocals\, with the emphasis on songwriting.\nSteve makes regular appearances on the Hertfordshire music scene\, and is looking for opportunities to expand on this. \nTickets: http://www.juiceboxindie.com/listings/juicebox-c85 \nDoors: 7:45pm \nAge: 16+ with photo ID – younger patrons can be signed in at the door and accompanied for the duration of the show by a responsible adult. \n\nEarplugs are available upon request (50p).\nDownstairs bar open until 11pm.
URL:https://club-85.co.uk/event/the-skive-left-ventricle-black-carrot-second-choice-steve/
LOCATION:Club 85\, 74 Whinbush Road\, Hitchin\, Hertfordshire\, SG5 1PZ\, United Kingdom
ATTACH;FMTTYPE=image/png:https://club-85.co.uk/wp-content/uploads/2024/12/IMG_1450.png
GEO:51.9528628;-0.2720485
X-APPLE-STRUCTURED-LOCATION;VALUE=URI;X-ADDRESS=Club 85 74 Whinbush Road Hitchin Hertfordshire SG5 1PZ United Kingdom;X-APPLE-RADIUS=500;X-TITLE=74 Whinbush Road:geo:-0.2720485,51.9528628
END:VEVENT
END:VCALENDAR