BEGIN:VCALENDAR
VERSION:2.0
PRODID:-//Club 85 - ECPv6.15.16//NONSGML v1.0//EN
CALSCALE:GREGORIAN
METHOD:PUBLISH
X-WR-CALNAME:Club 85
X-ORIGINAL-URL:https://club-85.co.uk
X-WR-CALDESC:Events for Club 85
REFRESH-INTERVAL;VALUE=DURATION:PT1H
X-Robots-Tag:noindex
X-PUBLISHED-TTL:PT1H
BEGIN:VTIMEZONE
TZID:Europe/London
BEGIN:DAYLIGHT
TZOFFSETFROM:+0000
TZOFFSETTO:+0100
TZNAME:BST
DTSTART:20230326T010000
END:DAYLIGHT
BEGIN:STANDARD
TZOFFSETFROM:+0100
TZOFFSETTO:+0000
TZNAME:GMT
DTSTART:20231029T010000
END:STANDARD
BEGIN:DAYLIGHT
TZOFFSETFROM:+0000
TZOFFSETTO:+0100
TZNAME:BST
DTSTART:20240331T010000
END:DAYLIGHT
BEGIN:STANDARD
TZOFFSETFROM:+0100
TZOFFSETTO:+0000
TZNAME:GMT
DTSTART:20241027T010000
END:STANDARD
BEGIN:DAYLIGHT
TZOFFSETFROM:+0000
TZOFFSETTO:+0100
TZNAME:BST
DTSTART:20250330T010000
END:DAYLIGHT
BEGIN:STANDARD
TZOFFSETFROM:+0100
TZOFFSETTO:+0000
TZNAME:GMT
DTSTART:20251026T010000
END:STANDARD
END:VTIMEZONE
BEGIN:VEVENT
DTSTART;TZID=Europe/London:20241230T190000
DTEND;TZID=Europe/London:20241230T233000
DTSTAMP:20260423T122319
CREATED:20240407T232804Z
LAST-MODIFIED:20241230T174639Z
UID:10000382-1735585200-1735601400@club-85.co.uk
SUMMARY:Club 85 - End of Year Fundraiser
DESCRIPTION:It gives us great pleasure to announce that your headline act for the evening will be The Hot One Two!!\n\nAfter the huge success of their debut album “Superbia” and a run of huge festivals\, including opening Stonedead for Saxon\, These boys are a band not to be missed. \n\n\nMain Support:\nElectric Black – hometown Hitchin boys\, who recently landed at #10 in the UK Rock Charts with their album –\nLate Night Lightning\n\nSupport:\nTONYT\n\nThe Forsaken \n  \n\n\nDoors: 7.00pm \nAge: 16+ \n\n**Ticket Info**\nEarly bird ticket on sale date: 8/04/2024\nEarly bird tickets will go on sale at 9am on Monday 8th April.\nThere will only be 50 pre sale tickets available. These will be on a first come first served basis and will only be available through the club 85 website.\nEarly bird tickets will be priced at £10 each.\n\nGeneral sale tickets on sale date: 01/05/2024\nGeneral sale tickets will go on sale at 9am on 1st May. There will be 150 general sale tickets available. These will be on a first come first served basis and will only be available through the Club 85 website.\nGeneral sale tickets will be priced at £15 each.\n\nIn the unlikely event of these tickets not selling\, tickets will be available on the door at £20 each. These will be on a first come first served basis.\n\n\nPlease scroll down this page to purchase tickets. \n  \n\n16+ (bring ID)\nYounger patrons can be signed in at the door and accompanied for the duration of the show by a responsible adult. \n\nEarplugs are available upon request (50p).\nDownstairs bar open until 1am.\nFor full up to the minute listings please visit www.club-85.co.uk and consider signing up to our mailing list for\ninformation on existing and upcoming gigs straight to you!\nAnd remember… Club 85 loves you!
URL:https://club-85.co.uk/event/club-85-farewell-live-show/
LOCATION:Club 85\, 74 Whinbush Road\, Hitchin\, Hertfordshire\, SG5 1PZ\, United Kingdom
ATTACH;FMTTYPE=image/jpeg:https://club-85.co.uk/wp-content/uploads/2024/04/Last-gig-at-Club-85.jpg
GEO:51.9528628;-0.2720485
X-APPLE-STRUCTURED-LOCATION;VALUE=URI;X-ADDRESS=Club 85 74 Whinbush Road Hitchin Hertfordshire SG5 1PZ United Kingdom;X-APPLE-RADIUS=500;X-TITLE=74 Whinbush Road:geo:-0.2720485,51.9528628
END:VEVENT
END:VCALENDAR