BEGIN:VCALENDAR
VERSION:2.0
PRODID:-//Club 85 - ECPv6.15.16//NONSGML v1.0//EN
CALSCALE:GREGORIAN
METHOD:PUBLISH
X-ORIGINAL-URL:https://club-85.co.uk
X-WR-CALDESC:Events for Club 85
REFRESH-INTERVAL;VALUE=DURATION:PT1H
X-Robots-Tag:noindex
X-PUBLISHED-TTL:PT1H
BEGIN:VTIMEZONE
TZID:Europe/London
BEGIN:DAYLIGHT
TZOFFSETFROM:+0000
TZOFFSETTO:+0100
TZNAME:BST
DTSTART:20240331T010000
END:DAYLIGHT
BEGIN:STANDARD
TZOFFSETFROM:+0100
TZOFFSETTO:+0000
TZNAME:GMT
DTSTART:20241027T010000
END:STANDARD
BEGIN:DAYLIGHT
TZOFFSETFROM:+0000
TZOFFSETTO:+0100
TZNAME:BST
DTSTART:20250330T010000
END:DAYLIGHT
BEGIN:STANDARD
TZOFFSETFROM:+0100
TZOFFSETTO:+0000
TZNAME:GMT
DTSTART:20251026T010000
END:STANDARD
BEGIN:DAYLIGHT
TZOFFSETFROM:+0000
TZOFFSETTO:+0100
TZNAME:BST
DTSTART:20260329T010000
END:DAYLIGHT
BEGIN:STANDARD
TZOFFSETFROM:+0100
TZOFFSETTO:+0000
TZNAME:GMT
DTSTART:20261025T010000
END:STANDARD
END:VTIMEZONE
BEGIN:VEVENT
DTSTART;TZID=Europe/London:20250222T194500
DTEND;TZID=Europe/London:20250222T233000
DTSTAMP:20260423T123231
CREATED:20250121T170217Z
LAST-MODIFIED:20250121T171257Z
UID:10000457-1740253500-1740267000@club-85.co.uk
SUMMARY:JAZZ UP! Presents…  nova.sol + Dj Sten King
DESCRIPTION:JAZZ UP! Presents… \nnova.sol \nSaturday\, 22nd February 2025 | Club85\, Hitchin \nThe Future of UK Jazz Hits Hitchin! \nA band on the rise. A gig you can’t afford to miss. \nHitchin’s JazzUp is back with another unmissable night\, bringing you nova.sol – the Leeds-based six-piece alternative jazz outfit taking the UK scene by storm. If you’re into Ezra Collective\, Alfa Mist\, or corto.alto\, this is the band you need to see right now. \nFusing jazz\, dance grooves\, and high-energy improvisation\, nova.sol are shaping the sound of UK jazz’s next generation. Their live shows are fast becoming legendary – expect pulsating rhythms\, deep musicality\, and blistering solos that keep the energy sky-high. \nA Rising Force in UK Jazz \nnova.sol aren’t just making music – they’re making history. They’ve already: \n• Sold out their debut headline show at Hyde Park Book Club (Leeds) in October 2024 \n• Supported UK jazz heavyweights like Steam Down\, Ife Ogunjobi (Ezra Collective)\, and TC and The Groove Family \n• Lit up major festivals\, including We Out Here and Leeds Jazz Festival \nSerious Radio Play & Press Recognition \nTheir debut single ‘Sanguine’ and follow-up ‘In Between’ have earned airplay on BBC Introducing Leeds\, BBC Radio 3 with Soweto Kinch\, Jazz FM (Tony Minvielle & Chris Phillips)\, Soho Radio\, Reprezent Radio\, One Jazz Radio\, Amazing Radio\, and more. \nAcclaimed broadcaster Tina Edwards even added nova.sol to her sought-after ‘Jazz UK’ playlist. \nWhat the Experts Are Saying \n“A band to keep an eye on.” – Soweto Kinch\, BBC Radio 3 \n“This track is brilliant\, love their energy.” – Tina Edwards\, DJ & Broadcaster \n“Their reputation for killer live shows is growing. Nova.sol are leading the next generation. Definitely ones to watch in 2025.” – Lubi Jovanovic\, One Jazz Radio \nFresh Music\, New Energy\, Future Stars \nWith their debut EP dropping in May 2025\, nova.sol are gaining serious momentum. This is your chance to catch them before they break onto the national stage. Expect anelectrifying performance filled with deep grooves\, fierce solos\, and an atmosphere that will have you moving from the first note to the last beat. \nPLUS: JazzUp’s resident DJ\, the mighty Sten King\, will be on the decks\, spinning deep jazz\, funk\, and cutting-edge sounds to keep the vibes flowing all night long. \nLinks to music: \nhttps://nova-sol.bandcamp.com/ \n \nLinks to video: \nDON’T WAIT – GET YOUR TICKETS NOW! \nwww.club-85.co.uk \nwww.jazzupuk.com \nABOUT JAZZUP \nSince its inception in 2014\, JazzUp has become a cornerstone of the UK jazz scene\, championing both established and emerging talent. Hosted monthly at Club85 in Hitchin\, \nJazzUp is dedicated to showcasing the vibrant diversity of UK jazz music covering everything from classic to cutting-edge contemporary.TICKET DETAILS \n• £17 standard price + 10% Booking fee \n• £14 with JazzUp Loyalty Card 10% Booking fee \nOnline tickets available from: \nwww.club-85.co.uk\n(Scroll down to purchase tickets) \nwww.jazzupuk.com \nTickets may also be purchased on the door\, but please be aware that JazzUp can sometimes be very busy. \nAge Restriction:\n16+ with photo ID – younger patrons can be signed in at the door by a responsible adult. \nLike all our gigs\, this show finishes well in time for the last trains North and South to Cambridge/Peterborough and London. Club85 is just a 5-minute stroll from the station. \nMORE JAZZUP! DETAILS \nWEBSITE: https://jazzupuk.com \nFACEBOOK: https://www.facebook.com/JazzUpC85 \nINSTAGRAM: https://instagram.com/jazzuphitchin \nFor any further questions\, please contact robin@robincampbell.org \nJAZZUP! IS SPONSORED BY: \nRobin Campbell Music – https://robincampbell.org/ \nKeechdesign UK Ltd. – https://www.keechdesign.co.uk/
URL:https://club-85.co.uk/event/jazz-up-presents-nova-sol/
LOCATION:Club 85\, 74 Whinbush Road\, Hitchin\, Hertfordshire\, SG5 1PZ\, United Kingdom
ATTACH;FMTTYPE=image/png:https://club-85.co.uk/wp-content/uploads/2025/01/Jazz-Up-60-A3-Poster-WEB.png
GEO:51.9528628;-0.2720485
X-APPLE-STRUCTURED-LOCATION;VALUE=URI;X-ADDRESS=Club 85 74 Whinbush Road Hitchin Hertfordshire SG5 1PZ United Kingdom;X-APPLE-RADIUS=500;X-TITLE=74 Whinbush Road:geo:-0.2720485,51.9528628
END:VEVENT
END:VCALENDAR