BEGIN:VCALENDAR
VERSION:2.0
PRODID:-//Club 85 - ECPv6.15.16//NONSGML v1.0//EN
CALSCALE:GREGORIAN
METHOD:PUBLISH
X-ORIGINAL-URL:https://club-85.co.uk
X-WR-CALDESC:Events for Club 85
REFRESH-INTERVAL;VALUE=DURATION:PT1H
X-Robots-Tag:noindex
X-PUBLISHED-TTL:PT1H
BEGIN:VTIMEZONE
TZID:Europe/London
BEGIN:DAYLIGHT
TZOFFSETFROM:+0000
TZOFFSETTO:+0100
TZNAME:BST
DTSTART:20240331T010000
END:DAYLIGHT
BEGIN:STANDARD
TZOFFSETFROM:+0100
TZOFFSETTO:+0000
TZNAME:GMT
DTSTART:20241027T010000
END:STANDARD
BEGIN:DAYLIGHT
TZOFFSETFROM:+0000
TZOFFSETTO:+0100
TZNAME:BST
DTSTART:20250330T010000
END:DAYLIGHT
BEGIN:STANDARD
TZOFFSETFROM:+0100
TZOFFSETTO:+0000
TZNAME:GMT
DTSTART:20251026T010000
END:STANDARD
BEGIN:DAYLIGHT
TZOFFSETFROM:+0000
TZOFFSETTO:+0100
TZNAME:BST
DTSTART:20260329T010000
END:DAYLIGHT
BEGIN:STANDARD
TZOFFSETFROM:+0100
TZOFFSETTO:+0000
TZNAME:GMT
DTSTART:20261025T010000
END:STANDARD
END:VTIMEZONE
BEGIN:VEVENT
DTSTART;TZID=Europe/London:20250228T193000
DTEND;TZID=Europe/London:20250228T233000
DTSTAMP:20260421T140655
CREATED:20241203T200255Z
LAST-MODIFIED:20250118T143726Z
UID:10000444-1740771000-1740785400@club-85.co.uk
SUMMARY:BOLD AS LOVE – ‘The Jimi Hendrix Experience Tribute’ + Omnivibes
DESCRIPTION:  \nBOLD AS LOVE are a dynamic 3 piece dedicated to celebrating the legendary music and spirit of Jimi Hendrix. Formed in 2024\, we faithfully pay homage to the unparalleled creativity and electric energy of one of music’s greatest icons. \nComprising passionate and talented musicians\, Bold As Love capture the essence of Hendrix’s iconic sound\, from the explosive riffs of “Purple Haze” to the soulful melodies of “Little Wing” and way beyond! With an authentic vintage aesthetic and a commitment to delivering an unforgettable live\, raw experience\, we aim to transport audiences back to the golden era of rock and roll. \nThe bands performances are filled with the energy and improvisation that Hendrix was renowned for. Join BOLD AS LOVE as they honour the legacy of Jimi Hendrix and keep the spirit of his music alive for new generations to enjoy! \nSpecial guest support comes from OMNIVIBES\, the one man sitar machine. \nDoors: 7:30pm \nTickets priced £12 are on sale from Seetickets from Thursday 5th December from Seetickets and local outlets \nTicket link: https://www.seetickets.com/event/bold-as-love-the-jimi-hendrix-experience-tribute/club-85/3249998 \nAge: 16+ with photo ID – younger patrons can be signed in at the door and accompanied for the duration of the show by a responsible adult. \n\nEarplugs are available upon request (50p).\nDownstairs bar open until 11pm.\nLike all our gigs this show finishes well in time for the last trains North and South to Cambridge/Peterborough and London and we are just a 5 minute stroll from the station.\nFor full up to the minute listings please visit www.club-85.co.uk and consider signing up to our mailing list for information on existing and upcoming gigs straight to you!\nAnd remember… Club 85 loves you! xo
URL:https://club-85.co.uk/event/bold-as-love-the-jimi-hendix-experience-tribute-omnivibes/
LOCATION:Club 85\, 74 Whinbush Road\, Hitchin\, Hertfordshire\, SG5 1PZ\, United Kingdom
ATTACH;FMTTYPE=image/png:https://club-85.co.uk/wp-content/uploads/2024/12/Bold-As-Love-Poster-copy.png
GEO:51.9528628;-0.2720485
X-APPLE-STRUCTURED-LOCATION;VALUE=URI;X-ADDRESS=Club 85 74 Whinbush Road Hitchin Hertfordshire SG5 1PZ United Kingdom;X-APPLE-RADIUS=500;X-TITLE=74 Whinbush Road:geo:-0.2720485,51.9528628
END:VEVENT
END:VCALENDAR