BEGIN:VCALENDAR
VERSION:2.0
PRODID:-//Club 85 - ECPv6.15.16//NONSGML v1.0//EN
CALSCALE:GREGORIAN
METHOD:PUBLISH
X-WR-CALNAME:Club 85
X-ORIGINAL-URL:https://club-85.co.uk
X-WR-CALDESC:Events for Club 85
REFRESH-INTERVAL;VALUE=DURATION:PT1H
X-Robots-Tag:noindex
X-PUBLISHED-TTL:PT1H
BEGIN:VTIMEZONE
TZID:Europe/London
BEGIN:DAYLIGHT
TZOFFSETFROM:+0000
TZOFFSETTO:+0100
TZNAME:BST
DTSTART:20250330T010000
END:DAYLIGHT
BEGIN:STANDARD
TZOFFSETFROM:+0100
TZOFFSETTO:+0000
TZNAME:GMT
DTSTART:20251026T010000
END:STANDARD
BEGIN:DAYLIGHT
TZOFFSETFROM:+0000
TZOFFSETTO:+0100
TZNAME:BST
DTSTART:20260329T010000
END:DAYLIGHT
BEGIN:STANDARD
TZOFFSETFROM:+0100
TZOFFSETTO:+0000
TZNAME:GMT
DTSTART:20261025T010000
END:STANDARD
BEGIN:DAYLIGHT
TZOFFSETFROM:+0000
TZOFFSETTO:+0100
TZNAME:BST
DTSTART:20270328T010000
END:DAYLIGHT
BEGIN:STANDARD
TZOFFSETFROM:+0100
TZOFFSETTO:+0000
TZNAME:GMT
DTSTART:20271031T010000
END:STANDARD
END:VTIMEZONE
BEGIN:VEVENT
DTSTART;TZID=Europe/London:20260207T193000
DTEND;TZID=Europe/London:20260207T230000
DTSTAMP:20260423T120613
CREATED:20251031T193752Z
LAST-MODIFIED:20251031T193911Z
UID:10000532-1770492600-1770505200@club-85.co.uk
SUMMARY:THE 2 TONES SKA BAND!
DESCRIPTION:THE 2 TONES SKA BAND!\n7.30pm | Sat 7th February | Hitchin\, Club 85. \n  \nWe are pleased to welcome Northampton’s legendary Ska outfit The 2 Tones back to Club 85 once again! \nFormed in 2007\, this powerhouse 8-piece band has been firing up dancefloors across the UK with their infectious energy and unique spin on the classics. With over a decades worth of gigs under their belts\, The 2 Tones have perfected the art of getting a crowd jumping from the very first note. Whether it’s a packed pub\, a festival stage\, or right here at Club 85\, their live shows are guaranteed to lift your spirits and leave you grinning from ear to ear. Expect a high-octane set packed with hits from the Trojan and 2 Tone labels\, plus a few cheeky modern twists thrown in for good measure. \nIf the soundtrack of your life has featured any of these classics\, then you’re in for a good ‘moon-stomping’ night out: \n– Gangsters\, Sally Brown\, Tears of a Clown. Rat Race\, Baggy Trousers\, Pig Bag\, Message to you Rudy\, Ska Train\, Town Called Malice\, Red Red Wine\, This Is Ska\, 3 Little Birds\, Night boat to Cairo\, Rat Race & Pressure Drop to name but a few… \nHaving built a huge following across the region for their energetic performances and their unmistakable blend of ska\, reggae\, and soul\, every show is a party. Whether you’re a lifelong rude boy or just love a good dance\, get your boots polished and your feet ready- because once The 2 Tones start\, there’s no stopping the rhythm! Expect brass\, sweat\, and non-stop moonstomping madness from start to finish. \nTickets are on sale NOW from SeeTickets – tickets will also be available locally soon – watch this space! \n  \nENTRY £15 advance (plus online booking fee)/more on the door.\nDOORS 7.30pm \n  \nAge: persons aged 16+ may attend without a chaperone provided they have photo ID – younger patrons can be signed in at the door and accompanied for the duration of the show by a responsible adult. \nEarplugs are available upon request. \nDownstairs bar open until 1am. \nWe are just a 5-minute stroll from the station.; like all our gigs this show finishes well in time for the last trains North and South to Cambridge\, Peterborough and London. \nFor full up to the minute listings please consider signing up to our mailing list for information on existing and upcoming gigs straight to you! \nAnd remember… Club 85 loves you! xo
URL:https://club-85.co.uk/event/the-2-tones-ska-band/
LOCATION:Club 85\, 74 Whinbush Road\, Hitchin\, Hertfordshire\, SG5 1PZ\, United Kingdom
ATTACH;FMTTYPE=image/jpeg:https://club-85.co.uk/wp-content/uploads/2025/10/2-TONES-26-1.jpg
GEO:51.9528628;-0.2720485
X-APPLE-STRUCTURED-LOCATION;VALUE=URI;X-ADDRESS=Club 85 74 Whinbush Road Hitchin Hertfordshire SG5 1PZ United Kingdom;X-APPLE-RADIUS=500;X-TITLE=74 Whinbush Road:geo:-0.2720485,51.9528628
END:VEVENT
END:VCALENDAR