BEGIN:VCALENDAR
VERSION:2.0
PRODID:-//Club 85 - ECPv6.15.16//NONSGML v1.0//EN
CALSCALE:GREGORIAN
METHOD:PUBLISH
X-ORIGINAL-URL:https://club-85.co.uk
X-WR-CALDESC:Events for Club 85
REFRESH-INTERVAL;VALUE=DURATION:PT1H
X-Robots-Tag:noindex
X-PUBLISHED-TTL:PT1H
BEGIN:VTIMEZONE
TZID:Europe/London
BEGIN:DAYLIGHT
TZOFFSETFROM:+0000
TZOFFSETTO:+0100
TZNAME:BST
DTSTART:20250330T010000
END:DAYLIGHT
BEGIN:STANDARD
TZOFFSETFROM:+0100
TZOFFSETTO:+0000
TZNAME:GMT
DTSTART:20251026T010000
END:STANDARD
BEGIN:DAYLIGHT
TZOFFSETFROM:+0000
TZOFFSETTO:+0100
TZNAME:BST
DTSTART:20260329T010000
END:DAYLIGHT
BEGIN:STANDARD
TZOFFSETFROM:+0100
TZOFFSETTO:+0000
TZNAME:GMT
DTSTART:20261025T010000
END:STANDARD
BEGIN:DAYLIGHT
TZOFFSETFROM:+0000
TZOFFSETTO:+0100
TZNAME:BST
DTSTART:20270328T010000
END:DAYLIGHT
BEGIN:STANDARD
TZOFFSETFROM:+0100
TZOFFSETTO:+0000
TZNAME:GMT
DTSTART:20271031T010000
END:STANDARD
END:VTIMEZONE
BEGIN:VEVENT
DTSTART;TZID=Europe/London:20260208T180000
DTEND;TZID=Europe/London:20260208T223000
DTSTAMP:20260421T140424
CREATED:20251107T214217Z
LAST-MODIFIED:20260114T203451Z
UID:10000527-1770573600-1770589800@club-85.co.uk
SUMMARY:ADK & Hammerdown presents… SENTIENT/BROKEN CALLING/LEAVE NO WITNESS/BEFORE THE SIRENS!
DESCRIPTION:ADK & Hammerdown presents… SENTIENT/BROKEN CALLING/LEAVE NO WITNESS/BEFORE THE SIRENS! \nSENTIENT\n“Sentient are metal band based in Hertfordshire\, UK. Formed in 2018\, this four-piece group is known for their energetic performances and a distinctive sound\, blending noodly riffs and beefy breakdowns\, serving up delicious Heavy Spaghetti.” \nBROKEN CALLING\nBroken Calling\, formed in 2019\, are a metal band that draw influences from in Hardcore\, Metalcore and Nu Metal. they quickly gained traction with their first EP ” From The Ashes” accumulating positive reviews and being featured in Devolution Magazine. Since then\, they have gone on to release huge singles such as “Redemption”\, “Ghosts” and “S.I.C.K”\, which were played on BBC Radio 1 with Alyx Holcombe\, as well as a well-received cover of Kid Bookie’s “Liquor\, Sex\, Weed”. Following the addition of their second vocalist in 2023\, the band have released two singles ‘Virus’\, and ‘Unity’- a hard hitting Nu Metal anthem that is a statement of intent. Having supported established names such as Black Coast\, Seething Akira\, Wargasm\, Confessions of a Traitor and Hawxx\, They have torn their way through the underground scene\, and built their name as live band. broken calling have played the likes of Bloodstock Festival\, Coalition festival and mortal metal festival\, as well as their first ever European tour supporting Decline The Fall. They’ve also played coveted sets at Leo’s Red Lion in Gravesend\, Boston Music Rooms and Black Heart in Camden. \nLEAVE NO WITNESS\nLeave No Witness\, a promising metalcore band from the West Midlands\, formed in 2022. Leave No Witness have quickly made waves in the heavy music scene thanks to their crushing riffs\, commanding vocals\, powerful drums and impactful lyrics. After spending 2022 honing their sound\, Leave No Witness started gigging in 2023. In their first year of live performances\, they have already supported prominent acts like Atreyu\, Kill The Lights and Osiah. With a diverse musical influence and relentless drive\, Leave No Witness delivers a unique\, captivating metalcore sound. Their explosive live shows and thought-provoking lyrics have earned them a dedicated following. As they look ahead to the future\, Leave No Witness is poised to continue taking the heavy music world by storm in 2025 and beyond. Though a young band\, they have achieved impressive momentum and success in a short time. With the addition of a new second guitarist\, their ambition and talent\, the sky is the limit for this promising group from the West Midlands. \nBEFORE THE SIRENS\nBefore The Sirens bring a heavy sound with thumping riffs\, Nasty breakdowns and soaring vocal melodies.\nFor fans of Killswitch Engage\, Alter Bridge\, Breaking Benjamin & Metallica. \n  \nDOORS 6pm\nENTRY £8 advance (plus online booking fee)/£12 on the door. \n  \nAge: persons aged 16+ may attend without a chaperone provided they have photo ID – younger patrons can be signed in at the door and accompanied for the duration of the show by a responsible adult. \nEarplugs are available upon request (50p). \nDownstairs bar open until 11pm. \nWe are just a 5-minute stroll from the station.; like all our gigs this show finishes well in time for the last trains North and South to Cambridge\, Peterborough and London. \nFor full up to the minute listings please consider signing up to our mailing list for information on existing and upcoming gigs straight to you! \nAnd remember… Club 85 loves you! xo
URL:https://club-85.co.uk/event/adk-hammerdown-presents-sentient-broken-calling-leave-no-witness-before-the-sirens/
LOCATION:Club 85\, 74 Whinbush Road\, Hitchin\, Hertfordshire\, SG5 1PZ\, United Kingdom
ATTACH;FMTTYPE=image/jpeg:https://club-85.co.uk/wp-content/uploads/2025/10/SENTIENT.jpg
GEO:51.9528628;-0.2720485
X-APPLE-STRUCTURED-LOCATION;VALUE=URI;X-ADDRESS=Club 85 74 Whinbush Road Hitchin Hertfordshire SG5 1PZ United Kingdom;X-APPLE-RADIUS=500;X-TITLE=74 Whinbush Road:geo:-0.2720485,51.9528628
END:VEVENT
END:VCALENDAR