BEGIN:VCALENDAR
VERSION:2.0
PRODID:-//Club 85 - ECPv6.15.16//NONSGML v1.0//EN
CALSCALE:GREGORIAN
METHOD:PUBLISH
X-WR-CALNAME:Club 85
X-ORIGINAL-URL:https://club-85.co.uk
X-WR-CALDESC:Events for Club 85
REFRESH-INTERVAL;VALUE=DURATION:PT1H
X-Robots-Tag:noindex
X-PUBLISHED-TTL:PT1H
BEGIN:VTIMEZONE
TZID:Europe/London
BEGIN:DAYLIGHT
TZOFFSETFROM:+0000
TZOFFSETTO:+0100
TZNAME:BST
DTSTART:20250330T010000
END:DAYLIGHT
BEGIN:STANDARD
TZOFFSETFROM:+0100
TZOFFSETTO:+0000
TZNAME:GMT
DTSTART:20251026T010000
END:STANDARD
BEGIN:DAYLIGHT
TZOFFSETFROM:+0000
TZOFFSETTO:+0100
TZNAME:BST
DTSTART:20260329T010000
END:DAYLIGHT
BEGIN:STANDARD
TZOFFSETFROM:+0100
TZOFFSETTO:+0000
TZNAME:GMT
DTSTART:20261025T010000
END:STANDARD
BEGIN:DAYLIGHT
TZOFFSETFROM:+0000
TZOFFSETTO:+0100
TZNAME:BST
DTSTART:20270328T010000
END:DAYLIGHT
BEGIN:STANDARD
TZOFFSETFROM:+0100
TZOFFSETTO:+0000
TZNAME:GMT
DTSTART:20271031T010000
END:STANDARD
END:VTIMEZONE
BEGIN:VEVENT
DTSTART;TZID=Europe/London:20260424T193000
DTEND;TZID=Europe/London:20260424T193000
DTSTAMP:20260424T110117
CREATED:20251121T200711Z
LAST-MODIFIED:20251121T200711Z
UID:10000547-1777059000-1777059000@club-85.co.uk
SUMMARY:CHINA CRISIS!
DESCRIPTION:CHINA CRISIS!\n7.30pm | Friday 24.04.26 | Club 85\, Hitchin. \nChina Crisis are an English pop/rock band formed in 1979 in Kirkby\, near Liverpool\, Merseyside with a core of vocalist/keyboardist Gary Daly and guitarist Eddie Lundon. \nChina Crisis were originally assimilated in the batch of new wave Liverpool acts of the late 1970s and early 1980s\, led by OMD and also including The Teardrop Explodes\, A Flock of Seagulls and Frankie Goes to Hollywood. \nChina Crisis had huge success in the United Kingdom in the early 1980s with five Top 40 singles and three Top 40 albums\, as well as commercial success worldwide. The string of hit singles included African & White\, Christian\, Working with Fire and Steel\, Black Man Ray\, Wake up King in Catholic style & Wishful Thinking. \nTickets go on sale at 10am on Monday 24th November from SeeTickets and will be available 01/12 from the venue and H Town Rags in Hitchin\, or David’s Music in Letchworth! \n  \nDOORS 7.30pm\nENTRY £28.50 advance (plus online booking fee)/more on the door. \n  \nAge: persons aged 16+ may attend without a chaperone provided they have photo ID – younger patrons can be signed in at the door and accompanied for the duration of the show by a responsible adult. \nEarplugs are available upon request. \nDownstairs bar open until 1am. \nWe are just a 5-minute stroll from the station; like all our gigs this show finishes well in time for the last trains North and South to Cambridge\, Peterborough and London. \nFor full up to the minute listings please visit www.club-85.co.uk and consider signing up to our mailing list for information on existing and upcoming gigs straight to you! \nAnd remember… Club 85 loves you! xo
URL:https://club-85.co.uk/event/china-crisis/
LOCATION:Club 85\, 74 Whinbush Road\, Hitchin\, Hertfordshire\, SG5 1PZ\, United Kingdom
ATTACH;FMTTYPE=image/jpeg:https://club-85.co.uk/wp-content/uploads/2025/11/CHINA-26.jpg
GEO:51.9528628;-0.2720485
X-APPLE-STRUCTURED-LOCATION;VALUE=URI;X-ADDRESS=Club 85 74 Whinbush Road Hitchin Hertfordshire SG5 1PZ United Kingdom;X-APPLE-RADIUS=500;X-TITLE=74 Whinbush Road:geo:-0.2720485,51.9528628
END:VEVENT
END:VCALENDAR