BEGIN:VCALENDAR
VERSION:2.0
PRODID:-//Club 85 - ECPv6.15.16//NONSGML v1.0//EN
CALSCALE:GREGORIAN
METHOD:PUBLISH
X-WR-CALNAME:Club 85
X-ORIGINAL-URL:https://club-85.co.uk
X-WR-CALDESC:Events for Club 85
REFRESH-INTERVAL;VALUE=DURATION:PT1H
X-Robots-Tag:noindex
X-PUBLISHED-TTL:PT1H
BEGIN:VTIMEZONE
TZID:Europe/London
BEGIN:DAYLIGHT
TZOFFSETFROM:+0000
TZOFFSETTO:+0100
TZNAME:BST
DTSTART:20250330T010000
END:DAYLIGHT
BEGIN:STANDARD
TZOFFSETFROM:+0100
TZOFFSETTO:+0000
TZNAME:GMT
DTSTART:20251026T010000
END:STANDARD
BEGIN:DAYLIGHT
TZOFFSETFROM:+0000
TZOFFSETTO:+0100
TZNAME:BST
DTSTART:20260329T010000
END:DAYLIGHT
BEGIN:STANDARD
TZOFFSETFROM:+0100
TZOFFSETTO:+0000
TZNAME:GMT
DTSTART:20261025T010000
END:STANDARD
BEGIN:DAYLIGHT
TZOFFSETFROM:+0000
TZOFFSETTO:+0100
TZNAME:BST
DTSTART:20270328T010000
END:DAYLIGHT
BEGIN:STANDARD
TZOFFSETFROM:+0100
TZOFFSETTO:+0000
TZNAME:GMT
DTSTART:20271031T010000
END:STANDARD
END:VTIMEZONE
BEGIN:VEVENT
DTSTART;TZID=Europe/London:20260501T194500
DTEND;TZID=Europe/London:20260501T230000
DTSTAMP:20260423T110401
CREATED:20260104T131803Z
LAST-MODIFIED:20260104T132508Z
UID:10000565-1777664700-1777676400@club-85.co.uk
SUMMARY:Locust Furnace Presents... HELPLESS / HIGHER WALLS / T.R.E.S.T / LOCUSTS!
DESCRIPTION:Locust Furnace Presents… HELPLESS / HIGHER WALLS / T.R.E.S.T / LOCUSTS! \n£13+ | 7.45pm | Friday 01.05.2026 \nJoin us for a night of heavy metallic HC/math/crust at Club 85\, Hitchin on Friday 1st May! \n  \nHELPLESS\nFurious nihilistic mathy hardcore/grind from Plymouth will tear Club 85 a new one. Signed to majestic home of noise Church Road Records you’ll be hard pressed to find a more savage trio in the UK. \nHIGHER WALLS\nTechnical hardcore from London. The raging ferocity of HC meets jarring polyrhythms and odd time signatures. Have a mosh if your body can take the strain. \nT.R.E.S.T.\nCrusty hardcore from London with elements of punk. If you like things a bit more unrefined but still embracing the d-beat\, then these guys will be for you. \nLOCUSTS\nAggressive hardcore/crossover from Kent. Kicking things off with mosh friendly grooves. New EP ‘Lapsus Ab Inferno’ is out now! \n  \nDOORS 7.45pm\nENTRY £13 advance (plus online booking fee)/£15 on the door. \n  \nAge: persons aged 16+ may attend without a chaperone provided they have photo ID – younger patrons can be signed in at the door and accompanied for the duration of the show by a responsible adult. \nEarplugs are available upon request. \nDownstairs bar open until 11pm. \nWe are just a 5-minute stroll from the station; like all our gigs this show finishes well in time for the last trains North and South to Cambridge\, Peterborough and London. \nFor full up to the minute listings please consider signing up to our mailing list for information on existing and upcoming gigs straight to you! \nAnd remember… Club 85 loves you! xo
URL:https://club-85.co.uk/event/locust-furnace-presents-helpless-higher-walls-t-r-e-s-t-locusts/
LOCATION:Club 85\, 74 Whinbush Road\, Hitchin\, Hertfordshire\, SG5 1PZ\, United Kingdom
ATTACH;FMTTYPE=image/jpeg:https://club-85.co.uk/wp-content/uploads/2026/01/606884671_122150079104915474_491036249862472298_n.jpg
GEO:51.9528628;-0.2720485
X-APPLE-STRUCTURED-LOCATION;VALUE=URI;X-ADDRESS=Club 85 74 Whinbush Road Hitchin Hertfordshire SG5 1PZ United Kingdom;X-APPLE-RADIUS=500;X-TITLE=74 Whinbush Road:geo:-0.2720485,51.9528628
END:VEVENT
END:VCALENDAR