BEGIN:VCALENDAR
VERSION:2.0
PRODID:-//Club 85 - ECPv6.15.16//NONSGML v1.0//EN
CALSCALE:GREGORIAN
METHOD:PUBLISH
X-WR-CALNAME:Club 85
X-ORIGINAL-URL:https://club-85.co.uk
X-WR-CALDESC:Events for Club 85
REFRESH-INTERVAL;VALUE=DURATION:PT1H
X-Robots-Tag:noindex
X-PUBLISHED-TTL:PT1H
BEGIN:VTIMEZONE
TZID:Europe/London
BEGIN:DAYLIGHT
TZOFFSETFROM:+0000
TZOFFSETTO:+0100
TZNAME:BST
DTSTART:20250330T010000
END:DAYLIGHT
BEGIN:STANDARD
TZOFFSETFROM:+0100
TZOFFSETTO:+0000
TZNAME:GMT
DTSTART:20251026T010000
END:STANDARD
BEGIN:DAYLIGHT
TZOFFSETFROM:+0000
TZOFFSETTO:+0100
TZNAME:BST
DTSTART:20260329T010000
END:DAYLIGHT
BEGIN:STANDARD
TZOFFSETFROM:+0100
TZOFFSETTO:+0000
TZNAME:GMT
DTSTART:20261025T010000
END:STANDARD
BEGIN:DAYLIGHT
TZOFFSETFROM:+0000
TZOFFSETTO:+0100
TZNAME:BST
DTSTART:20270328T010000
END:DAYLIGHT
BEGIN:STANDARD
TZOFFSETFROM:+0100
TZOFFSETTO:+0000
TZNAME:GMT
DTSTART:20271031T010000
END:STANDARD
BEGIN:DAYLIGHT
TZOFFSETFROM:+0000
TZOFFSETTO:+0100
TZNAME:BST
DTSTART:20280326T010000
END:DAYLIGHT
BEGIN:STANDARD
TZOFFSETFROM:+0100
TZOFFSETTO:+0000
TZNAME:GMT
DTSTART:20281029T010000
END:STANDARD
END:VTIMEZONE
BEGIN:VEVENT
DTSTART;TZID=Europe/London:20261212T193000
DTEND;TZID=Europe/London:20261212T233000
DTSTAMP:20260419T191359
CREATED:20260304T162209Z
LAST-MODIFIED:20260304T162209Z
UID:10000693-1797103800-1797118200@club-85.co.uk
SUMMARY:SPECIAL KINDA MADNESS
DESCRIPTION:SPECIAL KINDA MADNESS7:30pm\, Sat 12th December\, Club 85\, Hitchin\n\nSpecial Kinda Madness return to CLUB 85 in Hitchin on Saturday 12th December following numerous sell out shows at the venue with their classic take on Madness and The Specials.\nHere’s the lowdown; SPECIAL KINDA MADNESS perform a truly authentic set from each band\, combining the phenomenally energetic stage presence of The Specials with the wonderful iconic tunes of the Madness ‘Nutty Boys’. Playing a set from each band and producing a show that will have the audience up and dancing from the off\, Special Kinda Madness will have everyone hankering after that exciting era of 2-Tone and ska.On 21st July 1979 at the Electric Ballroom in London\, the Specials played a gig with Madness\, Dexy’s Midnight Runners and Selecter. That’s a gig that all 2-Tone rude boys and rude girls would die to see\, and thought would never happen. The Specials and Madness on the same bill!\nWe know it will never happen now … but you can get the next best thing with Special Kinda Madness!2 Bands … 2-Tone … 1 Fantastic Night!\nThere is no support on the night as the band play 2 sets with the running order of Specials or Madness to be decided on the night. Doors open at 7:30pm with the band taking to the stage for their first set around 8.15pm.\n\nTickets are on sale from Seetickets \n  \nDOORS 7.30pm\nENTRY £16 advance (plus booking fees)/more on the door. \n  \nAge: persons aged 16+ may attend without a chaperone provided they have photo ID- younger patrons can be signed in at the door and accompanied for the duration of the show by a responsible adult. \nEarplugs are available upon request. \nDownstairs bar open until 1am. \nWe are just a 5-minute stroll from the station; like all our gigs this show finishes well in time for the last trains North and South to Cambridge\, Peterborough and London. \nFor full up to the minute listings please consider signing up to our mailing list for information on existing and upcoming gigs straight to you! \nAnd remember… Club 85 loves you! xo
URL:https://club-85.co.uk/event/special-kinda-madness-5/
LOCATION:Club 85\, 74 Whinbush Road\, Hitchin\, Hertfordshire\, SG5 1PZ\, United Kingdom
ATTACH;FMTTYPE=image/png:https://club-85.co.uk/wp-content/uploads/2026/03/image-scaled.png
GEO:51.9528628;-0.2720485
X-APPLE-STRUCTURED-LOCATION;VALUE=URI;X-ADDRESS=Club 85 74 Whinbush Road Hitchin Hertfordshire SG5 1PZ United Kingdom;X-APPLE-RADIUS=500;X-TITLE=74 Whinbush Road:geo:-0.2720485,51.9528628
END:VEVENT
BEGIN:VEVENT
DTSTART;TZID=Europe/London:20261215T183000
DTEND;TZID=Europe/London:20261215T193000
DTSTAMP:20260419T191359
CREATED:20260213T180639Z
LAST-MODIFIED:20260225T143733Z
UID:10000676-1797359400-1797363000@club-85.co.uk
SUMMARY:ZUMBA at Club 85
DESCRIPTION:Welcome to your weekly Zumba® Fitness Party at Hitchin’s most iconic independent live music venue – Club 85!\nJoin us for an immersive experience as you dance your heart out to global beats including Salsa\, Merengue\, Cumbia\, Reggaeton\, Afrobeats\, Bhangra\, Brazilian Funk\, Samba\, and much more!\nAll fitness levels are welcome but be prepared to challenge yourself… and remember your water bottle! \nDoors open at 6.15pm\n** REGISTER HERE **\nhttps://www.zumba.com/en-US/p/shona-sarai/1827869?utm_source=ig&utm_medium=social&utm_content=link_in_bio&fbclid=PAb21jcAPeH5tleHRuA2FlbQIxMQBzcnRjBmFwcF9pZA81NjcwNjczNDMzNTI0MjcAAaclxL3TBbxJtF-br6Fgy4m5w4lpiSDV1quL07lfFwBIY_ot4AmYM0IWjftqXw_aem_294GwlwgKKpnjxu43M8AmA \nAge: persons aged 16+ may attend without a chaperone provided they have photo ID – younger patrons can be signed in at the door and\naccompanied for the duration of the show by a responsible adult. \nEarplugs are available upon request. \nDownstairs bar open from noon. \nWe are just a 5-minute stroll from the train station. \nFor full up to the minute listings please visit www.club-85.co.uk [2]\nand consider signing up to our mailing list for information on existing\nand upcoming gigs straight to you! \nAnd remember… Club 85 loves you! xo
URL:https://club-85.co.uk/event/zumba-at-club-85-2/2026-12-15/
LOCATION:Club 85\, 74 Whinbush Road\, Hitchin\, Hertfordshire\, SG5 1PZ\, United Kingdom
ATTACH;FMTTYPE=image/jpeg:https://club-85.co.uk/wp-content/uploads/2026/02/image-3.jpeg
GEO:51.9528628;-0.2720485
X-APPLE-STRUCTURED-LOCATION;VALUE=URI;X-ADDRESS=Club 85 74 Whinbush Road Hitchin Hertfordshire SG5 1PZ United Kingdom;X-APPLE-RADIUS=500;X-TITLE=74 Whinbush Road:geo:-0.2720485,51.9528628
END:VEVENT
BEGIN:VEVENT
DTSTART;TZID=Europe/London:20261218T193000
DTEND;TZID=Europe/London:20261218T233000
DTSTAMP:20260419T191359
CREATED:20260304T161601Z
LAST-MODIFIED:20260304T161601Z
UID:10000692-1797622200-1797636600@club-85.co.uk
SUMMARY:MORETALLICA : THE METALLICA TRIBUTE
DESCRIPTION:MORETALLICA (Metallica Tribute)7:30pm\, FRI 18th December Club 85\, Hitchin\n\nIn 2026\, Moretallica hit the road with their boldest theme yet: a tour marking three massive Metallica milestones celebrating 40 years of Master of Puppets\, 30 years of Load\, and 10 years of Hardwired… to Self-Destruct. Expect the biggest\, boldest setlist yet-packed with fan favourites\, deep cuts\, and timeless anthems!\nMoretallica is the UK’s premier Metallica tribute band\, delivering the closest experience to the real thing with unmatched energy\, authenticity\, and passion.\nFormed in 2012\, Moretallica is built on a foundation of musical excellence and a deep respect for Metallica’s legacy. With 70+ years of combined live experience across Europe and the UK\, the band has earned a reputation for being the most authentic and exciting Metallica tribute on the circuit.\nPerforming with the same gear as Metallica and known for their explosive stage energy\, a Moretallica show is the most hard-hitting\, high-octane Metallica tribute show in the UK.\n\nTickets on sale now from Seetickets\n  \nDOORS 7.30pm\nENTRY £15 advance (plus booking fees)/more on the door. \n  \nAge: persons aged 16+ may attend without a chaperone provided they have photo ID- younger patrons can be signed in at the door and accompanied for the duration of the show by a responsible adult. \nEarplugs are available upon request. \nDownstairs bar open until 1am. \nWe are just a 5-minute stroll from the station; like all our gigs this show finishes well in time for the last trains North and South to Cambridge\, Peterborough and London. \nFor full up to the minute listings please consider signing up to our mailing list for information on existing and upcoming gigs straight to you! \nAnd remember… Club 85 loves you! xo
URL:https://club-85.co.uk/event/moretallica-the-metallica-tribute/
LOCATION:Club 85\, 74 Whinbush Road\, Hitchin\, Hertfordshire\, SG5 1PZ\, United Kingdom
ATTACH;FMTTYPE=image/jpeg:https://club-85.co.uk/wp-content/uploads/2026/03/image-scaled.jpeg
GEO:51.9528628;-0.2720485
X-APPLE-STRUCTURED-LOCATION;VALUE=URI;X-ADDRESS=Club 85 74 Whinbush Road Hitchin Hertfordshire SG5 1PZ United Kingdom;X-APPLE-RADIUS=500;X-TITLE=74 Whinbush Road:geo:-0.2720485,51.9528628
END:VEVENT
BEGIN:VEVENT
DTSTART;TZID=Europe/London:20270105T183000
DTEND;TZID=Europe/London:20270105T193000
DTSTAMP:20260419T191359
CREATED:20260213T180639Z
LAST-MODIFIED:20260225T143733Z
UID:10000679-1799173800-1799177400@club-85.co.uk
SUMMARY:ZUMBA at Club 85
DESCRIPTION:Welcome to your weekly Zumba® Fitness Party at Hitchin’s most iconic independent live music venue – Club 85!\nJoin us for an immersive experience as you dance your heart out to global beats including Salsa\, Merengue\, Cumbia\, Reggaeton\, Afrobeats\, Bhangra\, Brazilian Funk\, Samba\, and much more!\nAll fitness levels are welcome but be prepared to challenge yourself… and remember your water bottle! \nDoors open at 6.15pm\n** REGISTER HERE **\nhttps://www.zumba.com/en-US/p/shona-sarai/1827869?utm_source=ig&utm_medium=social&utm_content=link_in_bio&fbclid=PAb21jcAPeH5tleHRuA2FlbQIxMQBzcnRjBmFwcF9pZA81NjcwNjczNDMzNTI0MjcAAaclxL3TBbxJtF-br6Fgy4m5w4lpiSDV1quL07lfFwBIY_ot4AmYM0IWjftqXw_aem_294GwlwgKKpnjxu43M8AmA \nAge: persons aged 16+ may attend without a chaperone provided they have photo ID – younger patrons can be signed in at the door and\naccompanied for the duration of the show by a responsible adult. \nEarplugs are available upon request. \nDownstairs bar open from noon. \nWe are just a 5-minute stroll from the train station. \nFor full up to the minute listings please visit www.club-85.co.uk [2]\nand consider signing up to our mailing list for information on existing\nand upcoming gigs straight to you! \nAnd remember… Club 85 loves you! xo
URL:https://club-85.co.uk/event/zumba-at-club-85-2/2027-01-05/
LOCATION:Club 85\, 74 Whinbush Road\, Hitchin\, Hertfordshire\, SG5 1PZ\, United Kingdom
ATTACH;FMTTYPE=image/jpeg:https://club-85.co.uk/wp-content/uploads/2026/02/image-3.jpeg
GEO:51.9528628;-0.2720485
X-APPLE-STRUCTURED-LOCATION;VALUE=URI;X-ADDRESS=Club 85 74 Whinbush Road Hitchin Hertfordshire SG5 1PZ United Kingdom;X-APPLE-RADIUS=500;X-TITLE=74 Whinbush Road:geo:-0.2720485,51.9528628
END:VEVENT
BEGIN:VEVENT
DTSTART;TZID=Europe/London:20270112T183000
DTEND;TZID=Europe/London:20270112T193000
DTSTAMP:20260419T191359
CREATED:20260213T180639Z
LAST-MODIFIED:20260225T143733Z
UID:10000680-1799778600-1799782200@club-85.co.uk
SUMMARY:ZUMBA at Club 85
DESCRIPTION:Welcome to your weekly Zumba® Fitness Party at Hitchin’s most iconic independent live music venue – Club 85!\nJoin us for an immersive experience as you dance your heart out to global beats including Salsa\, Merengue\, Cumbia\, Reggaeton\, Afrobeats\, Bhangra\, Brazilian Funk\, Samba\, and much more!\nAll fitness levels are welcome but be prepared to challenge yourself… and remember your water bottle! \nDoors open at 6.15pm\n** REGISTER HERE **\nhttps://www.zumba.com/en-US/p/shona-sarai/1827869?utm_source=ig&utm_medium=social&utm_content=link_in_bio&fbclid=PAb21jcAPeH5tleHRuA2FlbQIxMQBzcnRjBmFwcF9pZA81NjcwNjczNDMzNTI0MjcAAaclxL3TBbxJtF-br6Fgy4m5w4lpiSDV1quL07lfFwBIY_ot4AmYM0IWjftqXw_aem_294GwlwgKKpnjxu43M8AmA \nAge: persons aged 16+ may attend without a chaperone provided they have photo ID – younger patrons can be signed in at the door and\naccompanied for the duration of the show by a responsible adult. \nEarplugs are available upon request. \nDownstairs bar open from noon. \nWe are just a 5-minute stroll from the train station. \nFor full up to the minute listings please visit www.club-85.co.uk [2]\nand consider signing up to our mailing list for information on existing\nand upcoming gigs straight to you! \nAnd remember… Club 85 loves you! xo
URL:https://club-85.co.uk/event/zumba-at-club-85-2/2027-01-12/
LOCATION:Club 85\, 74 Whinbush Road\, Hitchin\, Hertfordshire\, SG5 1PZ\, United Kingdom
ATTACH;FMTTYPE=image/jpeg:https://club-85.co.uk/wp-content/uploads/2026/02/image-3.jpeg
GEO:51.9528628;-0.2720485
X-APPLE-STRUCTURED-LOCATION;VALUE=URI;X-ADDRESS=Club 85 74 Whinbush Road Hitchin Hertfordshire SG5 1PZ United Kingdom;X-APPLE-RADIUS=500;X-TITLE=74 Whinbush Road:geo:-0.2720485,51.9528628
END:VEVENT
BEGIN:VEVENT
DTSTART;TZID=Europe/London:20270119T183000
DTEND;TZID=Europe/London:20270119T193000
DTSTAMP:20260419T191359
CREATED:20260213T180639Z
LAST-MODIFIED:20260225T143733Z
UID:10000681-1800383400-1800387000@club-85.co.uk
SUMMARY:ZUMBA at Club 85
DESCRIPTION:Welcome to your weekly Zumba® Fitness Party at Hitchin’s most iconic independent live music venue – Club 85!\nJoin us for an immersive experience as you dance your heart out to global beats including Salsa\, Merengue\, Cumbia\, Reggaeton\, Afrobeats\, Bhangra\, Brazilian Funk\, Samba\, and much more!\nAll fitness levels are welcome but be prepared to challenge yourself… and remember your water bottle! \nDoors open at 6.15pm\n** REGISTER HERE **\nhttps://www.zumba.com/en-US/p/shona-sarai/1827869?utm_source=ig&utm_medium=social&utm_content=link_in_bio&fbclid=PAb21jcAPeH5tleHRuA2FlbQIxMQBzcnRjBmFwcF9pZA81NjcwNjczNDMzNTI0MjcAAaclxL3TBbxJtF-br6Fgy4m5w4lpiSDV1quL07lfFwBIY_ot4AmYM0IWjftqXw_aem_294GwlwgKKpnjxu43M8AmA \nAge: persons aged 16+ may attend without a chaperone provided they have photo ID – younger patrons can be signed in at the door and\naccompanied for the duration of the show by a responsible adult. \nEarplugs are available upon request. \nDownstairs bar open from noon. \nWe are just a 5-minute stroll from the train station. \nFor full up to the minute listings please visit www.club-85.co.uk [2]\nand consider signing up to our mailing list for information on existing\nand upcoming gigs straight to you! \nAnd remember… Club 85 loves you! xo
URL:https://club-85.co.uk/event/zumba-at-club-85-2/2027-01-19/
LOCATION:Club 85\, 74 Whinbush Road\, Hitchin\, Hertfordshire\, SG5 1PZ\, United Kingdom
ATTACH;FMTTYPE=image/jpeg:https://club-85.co.uk/wp-content/uploads/2026/02/image-3.jpeg
GEO:51.9528628;-0.2720485
X-APPLE-STRUCTURED-LOCATION;VALUE=URI;X-ADDRESS=Club 85 74 Whinbush Road Hitchin Hertfordshire SG5 1PZ United Kingdom;X-APPLE-RADIUS=500;X-TITLE=74 Whinbush Road:geo:-0.2720485,51.9528628
END:VEVENT
END:VCALENDAR