BEGIN:VCALENDAR
VERSION:2.0
PRODID:-//Club 85 - ECPv6.15.20//NONSGML v1.0//EN
CALSCALE:GREGORIAN
METHOD:PUBLISH
X-ORIGINAL-URL:https://club-85.co.uk
X-WR-CALDESC:Events for Club 85
REFRESH-INTERVAL;VALUE=DURATION:PT1H
X-Robots-Tag:noindex
X-PUBLISHED-TTL:PT1H
BEGIN:VTIMEZONE
TZID:Europe/London
BEGIN:DAYLIGHT
TZOFFSETFROM:+0000
TZOFFSETTO:+0100
TZNAME:BST
DTSTART:20230326T010000
END:DAYLIGHT
BEGIN:STANDARD
TZOFFSETFROM:+0100
TZOFFSETTO:+0000
TZNAME:GMT
DTSTART:20231029T010000
END:STANDARD
BEGIN:DAYLIGHT
TZOFFSETFROM:+0000
TZOFFSETTO:+0100
TZNAME:BST
DTSTART:20240331T010000
END:DAYLIGHT
BEGIN:STANDARD
TZOFFSETFROM:+0100
TZOFFSETTO:+0000
TZNAME:GMT
DTSTART:20241027T010000
END:STANDARD
BEGIN:DAYLIGHT
TZOFFSETFROM:+0000
TZOFFSETTO:+0100
TZNAME:BST
DTSTART:20250330T010000
END:DAYLIGHT
BEGIN:STANDARD
TZOFFSETFROM:+0100
TZOFFSETTO:+0000
TZNAME:GMT
DTSTART:20251026T010000
END:STANDARD
END:VTIMEZONE
BEGIN:VEVENT
DTSTART;TZID=Europe/London:20240705T194500
DTEND;TZID=Europe/London:20240705T233000
DTSTAMP:20260425T183028
CREATED:20230722T173329Z
LAST-MODIFIED:20240616T175111Z
UID:10000314-1720208700-1720222200@club-85.co.uk
SUMMARY:*SOLD OUT* THE SMYTHS – 40TH Anniversary of The Smiths / Hatful Of Hollow + Best Of Set.
DESCRIPTION:The Smyths are back on tour for 2024 – and are returning to Club 85 in Hitchin on Friday 5th April following a SOLD OUT out show in 2023. \nThe new tour is a celebration of the classic release of their self-titled debut album THE SMITHS and it’s vinyl accomplice HATFUL OF HOLLOW compilation which featured outakes\, radio sessions\, b-sides and standalone singles but is often considered some if the bands finest work . \nBetween these two albums the band produced some of the greatest tracks THE SMITHS ever produced including Reel Around The Fountain\, Hand In Glove\, Still Ill\, What Difference Does it Make & This Charming Man\, Handsome Devil\, William\, It Was Really Nothing\, How Soon Is Now\, Heaven Knows I’m Miserable Now\, Back to the Ole House. \nAlongside revisiting tracks off these great albums the band will also play a ‘Best Of’ set with tracks all across the classic Smiths back catalogue. \nTickets priced £17 are on sale from Seetickets from Monday 31st July and also available from local outlets. \n No refunds will be given for incorrectly booked tickets. \nAge: 16+ with photo ID – younger patrons can be signed in at the door and accompanied for the duration of the show by a responsible adult.\nEarplugs are available upon request (50p).\nDownstairs bar open until 1am.\nLike all our gigs this show finishes well in time for the last trains North and South to Cambridge/Peterborough and London and we are just a 5 minute stroll from the station.\nFor full up to the minute listings please visit www.club-85.co.uk and consider signing up to our mailing list for information on existing and upcoming gigs straight to you!\nAnd remember… Club 85 loves you! xo
URL:https://club-85.co.uk/event/the-smyths-40th-anniversary-of-the-smiths-hatful-of-hollow-best-of-set/
LOCATION:Club 85\, 74 Whinbush Road\, Hitchin\, Hertfordshire\, SG5 1PZ\, United Kingdom
ATTACH;FMTTYPE=image/png:https://club-85.co.uk/wp-content/uploads/2023/07/the-smyths.png
GEO:51.9528628;-0.2720485
X-APPLE-STRUCTURED-LOCATION;VALUE=URI;X-ADDRESS=Club 85 74 Whinbush Road Hitchin Hertfordshire SG5 1PZ United Kingdom;X-APPLE-RADIUS=500;X-TITLE=74 Whinbush Road:geo:-0.2720485,51.9528628
END:VEVENT
BEGIN:VEVENT
DTSTART;TZID=Europe/London:20240720T190000
DTEND;TZID=Europe/London:20240720T233000
DTSTAMP:20260425T183028
CREATED:20240530T171007Z
LAST-MODIFIED:20240530T171007Z
UID:10000400-1721502000-1721518200@club-85.co.uk
SUMMARY:The Grandfather of Metal's Heavy Metal Banger FREE ENTRY
DESCRIPTION:The Grandfather of Metal is hosting a FREE ENTRY Heavy Metal Banger to celebrate his retirement.\nFeaturing Neverworld\, Helgrind\, Spectral Darkwave and The Mighty Wraith. \n\nDoors: 7pm \nAge: 16+ with photo ID – younger patrons can be signed in at the door and accompanied for the duration of the show by a responsible adult.\nEarplugs are available upon request (50p).\nDownstairs bar open until 1am.\nLike all our gigs this show finishes well in time for the last trains North and South to Cambridge/Peterborough and London and we are just a 5 minute stroll from the station.\nFor full up to the minute listings please visit www.club-85.co.uk and consider signing up to our mailing list for information on existing and upcoming gigs straight to you!\nAnd remember… Club 85 loves you! xo
URL:https://club-85.co.uk/event/the-grandfather-of-metals-heavy-metal-banger-free-entry/
LOCATION:Club 85\, 74 Whinbush Road\, Hitchin\, Hertfordshire\, SG5 1PZ\, United Kingdom
ATTACH;FMTTYPE=image/png:https://club-85.co.uk/wp-content/uploads/2024/05/neverworld.png
GEO:51.9528628;-0.2720485
X-APPLE-STRUCTURED-LOCATION;VALUE=URI;X-ADDRESS=Club 85 74 Whinbush Road Hitchin Hertfordshire SG5 1PZ United Kingdom;X-APPLE-RADIUS=500;X-TITLE=74 Whinbush Road:geo:-0.2720485,51.9528628
END:VEVENT
BEGIN:VEVENT
DTSTART;TZID=Europe/London:20240721T184500
DTEND;TZID=Europe/London:20240721T230000
DTSTAMP:20260425T183028
CREATED:20240418T152422Z
LAST-MODIFIED:20240717T191821Z
UID:10000386-1721587500-1721602800@club-85.co.uk
SUMMARY:*POSTPONED! NEW DATE NOVEMBER 10TH*  STRINGS ON FIRE An Evening With Violinist Caroline Owen And 6 Piece Showband
DESCRIPTION:*POSTPONED! NEW DATE NOVEMBER 10th* \nSTRINGS ON FIRE\nAn Evening With Violinist Caroline Owen And 6 Piece Showband \n\n\n\nWith a career spanning more than 15 years as a soloist\, recording artist\, touring musician and headline act\, Caroline has been making a big impact with her stunning performances  worldwide. \nNot just a violinist she  is truly a unique and innovative performer with blazing charisma and magical creative artistry.   \n​Caroline was the first violinist to study jazz at the prestigious Leeds College of Music  with international Cuban violinist Omar Puente.  She missed her graduation ceremony as she was performing in USA The Palace Theatre  a 6000 seater theatre for Spirit Productions. \n​In 2010 Caroline was invited to play in the ground breaking arena tour The War of the Worlds playing alongside a star studded cast of celebrities to sell-out crowds of 20\,000! One of the highlights included playing 5 string electric at the West End Dominion Theatre. Caroline loves being apart of this iconic show. \n​As a solo artist Caroline has performed across the globe including Milan\, USA\, Jordan\, Balearic and Canary Islands\, Rhodes\, Odessa\, Paris\, Norway\, Dublin\, Sorrento Italy..to name a few! \n​This is one show stopping violinist\, she has performed for numerous celebrities\, prestigious events and venues across the UK.  As a recording artist she is currently working on her debut album Fearless. \nTo date her extraordinary career has been nothing short of a rollercoaster ride with appearances on Heartbeat ITV\,  Cruising with the Stars\, BBC Radio\, ITV.  Milan Fashion week\, The Player of the Year Awards…She has even ran away with the famous Billy Smarts Circus for a 10 month UK Tour and is the worlds only knife throwing violin playing assistant! \n​Caroline performs on 1900  Pagani and The Hades Electric Violin.  \n\n\n\n \nFacbook: https://www.facebook.com/carolineviolinist \nWeb-sight: https://www.carolineviolinist.com \nDoors: 6:45pm \nTickets: £15 + 10% booking fee or £18 on the door.\nPlease scroll down this page to purchase tickets. \nAge: 16+ with photo ID – younger patrons can be signed in at the door and accompanied for the duration of the show by a responsible adult.\nEarplugs are available upon request (50p).\nDownstairs bar open until 11pm.\nLike all our gigs this show finishes well in time for the last trains North and South to Cambridge/Peterborough and London and we are just a 5 minute stroll from the station.\nFor full up to the minute listings please visit www.club-85.co.uk and consider signing up to our mailing list for information on existing and upcoming gigs straight to you!\nAnd remember… Club 85 loves you! xo
URL:https://club-85.co.uk/event/strings-on-fire-an-evening-with-violinist-caroline-owen-and-6-piece-showband/
LOCATION:Club 85\, 74 Whinbush Road\, Hitchin\, Hertfordshire\, SG5 1PZ\, United Kingdom
ATTACH;FMTTYPE=image/jpeg:https://club-85.co.uk/wp-content/uploads/2024/04/Image-15-04-2024-at-13.10.jpg
GEO:51.9528628;-0.2720485
X-APPLE-STRUCTURED-LOCATION;VALUE=URI;X-ADDRESS=Club 85 74 Whinbush Road Hitchin Hertfordshire SG5 1PZ United Kingdom;X-APPLE-RADIUS=500;X-TITLE=74 Whinbush Road:geo:-0.2720485,51.9528628
END:VEVENT
BEGIN:VEVENT
DTSTART;TZID=Europe/London:20240725T194500
DTEND;TZID=Europe/London:20240725T233000
DTSTAMP:20260425T183028
CREATED:20240714T191312Z
LAST-MODIFIED:20240714T191816Z
UID:10000409-1721936700-1721950200@club-85.co.uk
SUMMARY:RED KENNY/ MOTION/ MATTY RAM/ WHIPLASH
DESCRIPTION:RED KENNYRed Kenny’s sound has been evolving over the past two years and hasn’t yet settled. The 4 piece band from Hertfordshire have experimented with sounds including indie rock\, funk\, disco\, folk\, grunge ect. Despite being recognisable to the ear\, the band find the prospect of being inspired by other artists to make new sounds thrilling. As of 2022 they had played their fair share of gigs promoting their music\, that of which was their 2023 debut ep ‘Who Is Kenny?’ Followed by the 2023 single ‘Fold Again’. Red Kenny as a tight band continue to thrive and work hard on their upcoming releases. Stay tuned!\n\nMOTION\n\nMATTY RAM\nMatty Ram is a luton based indie rock solo act. Starting out in 2022\, Matt released his hit single ‘Pelly’ in celebration of Luton Town Football Club and found much success with it. His latest single ‘tennis courts’ follows suit with its upbeat indie rock sound!\n\nWHIPLASH\n\n\n\nTICKETS: £8 Adv / £10 Door\nTicket link: https://www.ticketweb.uk/event/red-kenny-motion-matty-ram-club-85-ticketsDoors: 7:45pmAge: 16+ with photo ID – younger patrons can be signed in at the door and accompanied for the duration of the show by a responsible adult.\nEarplugs are available upon request (50p).\nDownstairs bar open until 1am.\nLike all our gigs this show finishes well in time for the last trains North and South to Cambridge/Peterborough and London and we are just a 5 minute stroll from the station.\nFor full up to the minute listings please visit www.club-85.co.uk and consider signing up to our mailing list for information on existing and upcoming gigs straight to you!\nAnd remember… Club 85 loves you! xo
URL:https://club-85.co.uk/event/motion-matty-ram-red-kenny-whiplash/
LOCATION:Hertfordshire
ATTACH;FMTTYPE=image/png:https://club-85.co.uk/wp-content/uploads/2024/07/RedKennySquare.png
END:VEVENT
BEGIN:VEVENT
DTSTART;TZID=Europe/London:20240727T194500
DTEND;TZID=Europe/London:20240727T233000
DTSTAMP:20260425T183028
CREATED:20240512T182213Z
LAST-MODIFIED:20240512T182914Z
UID:10000395-1722109500-1722123000@club-85.co.uk
SUMMARY:BOOM IN THE DIAMOND INDUSTRY/ ARDENT KICKS/ DEATH HYMNS/ DJS
DESCRIPTION:FOR ONE NIGHT ONLY! \n\n\n\nThe legendary Boom in the Diamond Industry return to Club 85 for a final party! \n\n\n\nBOOM rised like a phoenix from the ashes of the mythical Fog Donkey in 2003\, embracing a catchy post-punk sound\, and touring nationwide throughout the noughties with bands such as Capdown\, Hundred Reasons\, Hell is For Heroes\, Adequate 7 and Douglas. They are as engrossing as they are danceable \n\n\n\nTheir album ‘Vibe City’ was released in 2010 and is available on all streaming platforms. \n\n\n\nJoining them will be local compatriots of the noughties scene\, Ardent Kicks\, like the ronseal of bands\, Ardent Kicks do exactly what they say on the tin\, bringing their fiery brand of bombastic post punk to Hitchin once more \n\n\n\nOpening the evening Death Hymns are a British indie rock band. Formed in 2024\, consisting of brothers mark and Paul\, drummer Sam and the soul of David lynch. Definitely one to watch we recommend arriving early to catch these guys in action \n\n\n\nDJs TBA to keep the vibes jumping \n\n\n\nAll proceeds go directly to the club to help fund their move when the current venue closes it’s doors at the end of the year \nTickets: £8 + 10% booking fee or £10 OTD\nPlease scroll down this page to purchase tickets.\nOn sale 13/05.24 @9am \nDoors: 7:45pm \nAge: 16+ with photo ID – younger patrons can be signed in at the door and accompanied for the duration of the show by a responsible adult.\nEarplugs are available upon request (50p).\nDownstairs bar open until 1am.\nLike all our gigs this show finishes well in time for the last trains North and South to Cambridge/Peterborough and London and we are just a 5 minute stroll from the station.\nFor full up to the minute listings please visit www.club-85.co.uk and consider signing up to our mailing list for information on existing and upcoming gigs straight to you!\nAnd remember… Club 85 loves you! xo
URL:https://club-85.co.uk/event/boom-in-the-diamond-industry-ardent-kicks-death-hymns-djs/
LOCATION:Club 85\, 74 Whinbush Road\, Hitchin\, Hertfordshire\, SG5 1PZ\, United Kingdom
ATTACH;FMTTYPE=image/png:https://club-85.co.uk/wp-content/uploads/2024/05/boom.png
GEO:51.9528628;-0.2720485
X-APPLE-STRUCTURED-LOCATION;VALUE=URI;X-ADDRESS=Club 85 74 Whinbush Road Hitchin Hertfordshire SG5 1PZ United Kingdom;X-APPLE-RADIUS=500;X-TITLE=74 Whinbush Road:geo:-0.2720485,51.9528628
END:VEVENT
END:VCALENDAR