BEGIN:VCALENDAR
VERSION:2.0
PRODID:-//Club 85 - ECPv6.15.20//NONSGML v1.0//EN
CALSCALE:GREGORIAN
METHOD:PUBLISH
X-ORIGINAL-URL:https://club-85.co.uk
X-WR-CALDESC:Events for Club 85
REFRESH-INTERVAL;VALUE=DURATION:PT1H
X-Robots-Tag:noindex
X-PUBLISHED-TTL:PT1H
BEGIN:VTIMEZONE
TZID:Europe/London
BEGIN:DAYLIGHT
TZOFFSETFROM:+0000
TZOFFSETTO:+0100
TZNAME:BST
DTSTART:20230326T010000
END:DAYLIGHT
BEGIN:STANDARD
TZOFFSETFROM:+0100
TZOFFSETTO:+0000
TZNAME:GMT
DTSTART:20231029T010000
END:STANDARD
BEGIN:DAYLIGHT
TZOFFSETFROM:+0000
TZOFFSETTO:+0100
TZNAME:BST
DTSTART:20240331T010000
END:DAYLIGHT
BEGIN:STANDARD
TZOFFSETFROM:+0100
TZOFFSETTO:+0000
TZNAME:GMT
DTSTART:20241027T010000
END:STANDARD
BEGIN:DAYLIGHT
TZOFFSETFROM:+0000
TZOFFSETTO:+0100
TZNAME:BST
DTSTART:20250330T010000
END:DAYLIGHT
BEGIN:STANDARD
TZOFFSETFROM:+0100
TZOFFSETTO:+0000
TZNAME:GMT
DTSTART:20251026T010000
END:STANDARD
END:VTIMEZONE
BEGIN:VEVENT
DTSTART;TZID=Europe/London:20240802T190000
DTEND;TZID=Europe/London:20240802T233000
DTSTAMP:20260425T170308
CREATED:20240702T181742Z
LAST-MODIFIED:20240702T183011Z
UID:10000407-1722625200-1722641400@club-85.co.uk
SUMMARY:Buried On Sunday\, The Rattlebacks\, Lowdown & Paradigm LIVE @ Club85
DESCRIPTION:As we all know\, the legendary Club 85 in Hitchin is closing down at the end of the year so\, we thought what better place to kick off the 2nd half of the year by bringing a HUGE lineup to that wonderful venue to bring some riffs to the lovely people of Hertfordshire! \nCo-headlining the night will be Buried On Sunday & The Rattlebacks who will be bringing heaviness & swagger respectively\, with support from hard-hitters Lowdown & Paradigm. \nBuried On Sunday\nhttps://www.facebook.com/BuriedOnSundayUK \nThe Rattlebacks\nhttps://www.facebook.com/therattlebacks \nLowdown\nhttps://www.facebook.com/lowdownuk \nParadigm\nhttps://www.facebook.com/ParadigmMetalOfficial \nTickets: £9 \nTicket link: https://www.therattlebacks.co.uk/product-page/buried-on-sunday-the-rattlebacks-lowdown-paradigm-live-club85 \nDoors: 7:30pm \n18+\nPlease remember your e-ticket! \nEarplugs are available upon request (50p).Downstairs bar open until 1am.Like all our gigs this show finishes well in time for the last trains North and South to Cambridge/Peterborough and Londonand we are just a 5 minute stroll from the station. \nFor full up to the minute listings please visit www.club-85.co.uk and consider signing up to our mailing list forinformation on existing and upcoming gigs straight to you!And remember… Club 85 loves you! xo
URL:https://club-85.co.uk/event/buried-on-sunday-the-rattlebacks-lowdown-paradigm-live-club85/
LOCATION:Club 85\, 74 Whinbush Road\, Hitchin\, Hertfordshire\, SG5 1PZ\, United Kingdom
ATTACH;FMTTYPE=image/png:https://club-85.co.uk/wp-content/uploads/2024/07/Rattlebacks.png
GEO:51.9528628;-0.2720485
X-APPLE-STRUCTURED-LOCATION;VALUE=URI;X-ADDRESS=Club 85 74 Whinbush Road Hitchin Hertfordshire SG5 1PZ United Kingdom;X-APPLE-RADIUS=500;X-TITLE=74 Whinbush Road:geo:-0.2720485,51.9528628
END:VEVENT
BEGIN:VEVENT
DTSTART;TZID=Europe/London:20240816T194500
DTEND;TZID=Europe/London:20240816T233000
DTSTAMP:20260425T170308
CREATED:20230923T192447Z
LAST-MODIFIED:20240326T142458Z
UID:10000337-1723837500-1723851000@club-85.co.uk
SUMMARY:THE 900 – The Tony Hawk Pro Skater Covers Band + Guests
DESCRIPTION:**Please note this show had been moved from Saturday 13th April\, all tickets remain valid for the new date**\n  \n  \nPicture this… It’s August 1999\, people are getting excited about Red and Blue Pills\, Star Wars have embarked on the first of their many prequel films\, frosted tips & Sea Monkeys are all the rage and the Dalek-esque tones of Dial-Up fill the airwaves and landlines… But none of that is important because Tony Hawk’s Pro Skater has just entered the world of video games with a Soundtrack that we simply weren’t ready for! \n  \nThe 900 are the UK’s first and only Tony Hawk’s Pro Skater cover band. Formed by their mutual understanding that no other soundtrack could ever top THPS\, The 900 gives you a reason for your back to hurt in the morning. With the approval of the Birdman himself they’re ready to kickflip into every big banger from THPS1 to American Wasteland. \n  \nSo roll back the years\, get in the pit and come thrash around to some of the best Punk Rock and Ska tracks from Tony Hawk’s legendary series featuring tracks from the likes of Rage Against The Machine\, Nirvana\, Dead Kennedys\, Millencolin\, Bodyjar\, Green Day\, Alien Ant Farm\, Refused\, Ramones\, AFI\, Johnny Cash\, Black Flag\, Misfits\, Adolescents\, Agent Orange\, Goldfinger\, Less Than Jake\, Flogging Molly\, No FX\, CKY\, Motorhead\, Suicidal Tendacies\, Papa Roach\, Bad Religion\, Fu Manchu\, System Of A Down\, Lagwagon\, My Chemical Romance\, Powerman 5000\, Queens of the Stone Age\, Swingin’ Utters\, Zebrahead\, Kiss and many more. \n  \nTickets priced £12 are on sale from Wednesday 27th September from Seetickets and available locally from Bar 85\, H Town Rags and Davids Music \nTicket Link: https://www.seetickets.com/event/the-900/club-85/ \nDoors: 7:45pm \nAge: 16+ (bring ID) Younger patrons can be signed in at the door and accompanied for the duration of the show by a responsible adult. \n\nEarplugs are available upon request (50p).\n\nDownstairs bar open until 1am.\n\nLike all our gigs this show finishes well in time for the last trains North and South to Cambridge/Peterborough and London and we are just a 5 minute stroll from the station.\n\nFor full up to the minute listings please visit www.club-85.co.uk and consider signing up to our mailing list for information on existing and upcoming gigs straight to you!\n\nAnd remember… Club 85 loves you! xo
URL:https://club-85.co.uk/event/the-900-the-tony-hawk-pro-skater-covers-band-guests/
LOCATION:Club 85\, 74 Whinbush Road\, Hitchin\, Hertfordshire\, SG5 1PZ\, United Kingdom
ATTACH;FMTTYPE=image/jpeg:https://club-85.co.uk/wp-content/uploads/2023/09/THE-900-Hitchin-16-Aug-Poster.jpg
GEO:51.9528628;-0.2720485
X-APPLE-STRUCTURED-LOCATION;VALUE=URI;X-ADDRESS=Club 85 74 Whinbush Road Hitchin Hertfordshire SG5 1PZ United Kingdom;X-APPLE-RADIUS=500;X-TITLE=74 Whinbush Road:geo:-0.2720485,51.9528628
END:VEVENT
BEGIN:VEVENT
DTSTART;TZID=Europe/London:20240817T194500
DTEND;TZID=Europe/London:20240817T233000
DTSTAMP:20260425T170308
CREATED:20240417T104952Z
LAST-MODIFIED:20240417T140625Z
UID:10000385-1723923900-1723937400@club-85.co.uk
SUMMARY:The Sambroso All Stars + Deadbeat DJs
DESCRIPTION:The Sambroso All Stars make their Club85 debut on Saturday 17th August!\n\nIs there a more iconic Cuban album than Buena Vista Social Club’s eponymous debut? Winning the Grammy for Best Traditional Tropical Latin Album\, it remains a high watermark not just for Cuban music but world music as a whole\, having been only one of two non-English speaking albums to be included in Rolling Stone’s 500 greatest albums of all time list.\n\nDoing this album any sort of justice is no easy task\, but there isn’t anyone better than Sambroso Noda\, the beating heart of London’s Cuban community and flourishing music scene. He has whipped up a bonafide ‘all star’ group of Cuban musicians who will pay their own unique and loving tribute to the landmark album.\n\n\nThe 7-piece all star band promise to mesmerise the crowd with their combination of Cuban Son\, Latin Jazz and Rumba\, from Cuba’s Golden era. \nOn Sale: Friday 19th April – 10am \nTicket link: https://www.seetickets.com/event/sambroso-all-stars-buena-vista-social-club/club-85/ \nDoors: 7:45pmpm \nAge: 16+ with photo ID – younger patrons can be signed in at the door and accompanied for the duration of the show by a responsible adult.\nEarplugs are available upon request (50p).\nDownstairs bar open until 1am.\nLike all our gigs this show finishes well in time for the last trains North and South to Cambridge/Peterborough and London and we are just a 5 minute stroll from the station.\nFor full up to the minute listings please visit www.club-85.co.uk and consider signing up to our mailing list for information on existing and upcoming gigs straight to you!\nAnd remember… Club 85 loves you! xo
URL:https://club-85.co.uk/event/the-sambroso-all-stars-deadbeat-djs/
LOCATION:Club 85\, 74 Whinbush Road\, Hitchin\, Hertfordshire\, SG5 1PZ\, United Kingdom
ATTACH;FMTTYPE=image/jpeg:https://club-85.co.uk/wp-content/uploads/2024/04/Sambroso-Allstars-Poster-Hitchin-copy.jpg
GEO:51.9528628;-0.2720485
X-APPLE-STRUCTURED-LOCATION;VALUE=URI;X-ADDRESS=Club 85 74 Whinbush Road Hitchin Hertfordshire SG5 1PZ United Kingdom;X-APPLE-RADIUS=500;X-TITLE=74 Whinbush Road:geo:-0.2720485,51.9528628
END:VEVENT
BEGIN:VEVENT
DTSTART;TZID=Europe/London:20240823T194500
DTEND;TZID=Europe/London:20240823T233000
DTSTAMP:20260425T170308
CREATED:20240320T183019Z
LAST-MODIFIED:20240320T183019Z
UID:10000379-1724442300-1724455800@club-85.co.uk
SUMMARY:The Devout (Depeche Mode Tribute)
DESCRIPTION:Making their debut at Club 85 on the 23rd August is The World’s premier Depeche Mode Tribute Act\, The Devout. \nThe Devout have brought the Depeche Mode experience to another level visually\, aurally and musically. The Devout’s show transports the audience back to a Depeche Mode concert\, at their peak with authentic reproductions of the songs together with astounding visuals\, that take the audience back to those great innovative tours. \nExpect to hear a selection of classic tracks right across the full back catalogue from Speak & Spell in the early days through to the last Mode classics with fan favourites\, singles and deep album cuts.. \nThe band members are made up of well known artists in their own right: \nReza Udhin (Killing Joke\, Inertia\, Black Volition)\nKeith Trigwell (Speak & Spell\, Form)\nBarclay Quarton (Audition winner for the role of Dave Gahan in The Devout) \nThis is the first and last chance you will get to see this band at CLUB 85 so if you fancy coming along grab a ticket sooner rather than later. \nTickets priced £15 are on sale from Seetickets from Thursday 21stMarch from Seetickets and available from the local outlets of Our Favourite Shop\, Bar 85 & Davids Music Letchworth. \nTicket link: https://www.seetickets.com/event/the-devout/club-85/2985828 \n\nDoors: 7:45pm \nAge: 16+ with photo ID – younger patrons can be signed in at the door and accompanied for the duration of the show by a responsible adult.\nEarplugs are available upon request (50p).\nDownstairs bar open until 11pm.\nLike all our gigs this show finishes well in time for the last trains North and South to Cambridge/Peterborough and London and we are just a 5 minute stroll from the station.\nFor full up to the minute listings please visit www.club-85.co.uk and consider signing up to our mailing list for information on existing and upcoming gigs straight to you!\nAnd remember… Club 85 loves you! xo
URL:https://club-85.co.uk/event/the-devout-depeche-mode-tribute/
LOCATION:Club 85\, 74 Whinbush Road\, Hitchin\, Hertfordshire\, SG5 1PZ\, United Kingdom
ATTACH;FMTTYPE=image/jpeg:https://club-85.co.uk/wp-content/uploads/2024/03/The-Devout-Hitchin-Poster.jpg
GEO:51.9528628;-0.2720485
X-APPLE-STRUCTURED-LOCATION;VALUE=URI;X-ADDRESS=Club 85 74 Whinbush Road Hitchin Hertfordshire SG5 1PZ United Kingdom;X-APPLE-RADIUS=500;X-TITLE=74 Whinbush Road:geo:-0.2720485,51.9528628
END:VEVENT
BEGIN:VEVENT
DTSTART;TZID=Europe/London:20240829T194500
DTEND;TZID=Europe/London:20240829T230000
DTSTAMP:20260425T170308
CREATED:20240817T193859Z
LAST-MODIFIED:20240817T193859Z
UID:10000411-1724960700-1724972400@club-85.co.uk
SUMMARY:WKTD/ THE GREENSANDS/ DEADBEAT BRACKET/ THE SKIVE
DESCRIPTION:Jucebox presents \nWKTD \n\nTHE GREENSANDS \n\nDEADBEAT BRACKET \n\nTHE SKIVE \nDoors: 7:45pm \nTicket link: https://www.universe.com/events/wktd-the-greensands-deadbeat-bracket-the-skive-tickets \n16+ (bring ID).Younger patrons can be signed in at the door and accompanied for the duration of the show by a responsible adult. \n\nEarplugs are available upon request (50p).Downstairs bar open until 1am.\nLike all our gigs this show finishes well in time for the last trains North and South to Cambridge/Peterborough and Londonand we are just a 5 minute stroll from the station.For full up to the minute listings please visit www.club-85.co.uk and consider signing up to our mailing list forinformation on existing and upcoming gigs straight to you!
URL:https://club-85.co.uk/event/wktd-the-greensands-deadbeat-bracket-the-skive/
LOCATION:Club 85\, 74 Whinbush Road\, Hitchin\, Hertfordshire\, SG5 1PZ\, United Kingdom
ATTACH;FMTTYPE=image/png:https://club-85.co.uk/wp-content/uploads/2024/08/452636768_18014820593590800_4578594007890231365_n.png
GEO:51.9528628;-0.2720485
X-APPLE-STRUCTURED-LOCATION;VALUE=URI;X-ADDRESS=Club 85 74 Whinbush Road Hitchin Hertfordshire SG5 1PZ United Kingdom;X-APPLE-RADIUS=500;X-TITLE=74 Whinbush Road:geo:-0.2720485,51.9528628
END:VEVENT
BEGIN:VEVENT
DTSTART;TZID=Europe/London:20240830T194500
DTEND;TZID=Europe/London:20240830T233000
DTSTAMP:20260425T170308
CREATED:20240429T162802Z
LAST-MODIFIED:20240830T143437Z
UID:10000391-1725047100-1725060600@club-85.co.uk
SUMMARY:Everest Queen/ The Grey/ Denali/ Men Of Munga
DESCRIPTION:All hail the riff! One more night of heavy riffs and atmospheric grooves\, featuring: \n\n\nEverest Queen – North Herts-based prog-sludge metallers\, previous co-winners of M2TM Hitchin who went down a storm at Bloodstock that year\, and have since gone on to play various other festivals across the country\, including last year’s Desertfest. They will be gracing the stage at 85 one last time\, playing tracks from current album ‘Murmurations’\, which you can check out at https://everestqueen.bandcamp.com/album/murmurations and other streaming platforms.https://www.facebook.com/everestqueenband \n\n\nThe Grey – Cambridge’s atmospheric post-metal trio and local favourites for the past few years – have a listen to their most recent album ‘Dead Fire’ at https://thegrey2.bandcamp.com/album/dead-fire.https://www.facebook.com/TheGreyUK \n\n\nDenali – The death-doom ‘supergroup’ which includes members of Countless Skies\, Everest Queen and Earthbound. Their debut EP is available at https://denalidoom.bandcamp.com/album/denali-ep.https://www.facebook.com/denalidoommetal \n\n\nMen Of Munga – A stoner-sludge quartet\, making their first 85 appearance – have a listen to their EP at https://menofmunga.bandcamp.com/album/ep.https://www.facebook.com/Men-Of-Munga-476802295781747 \n\nAdvance tickets £7.00 + booking fee\, or £9.00 on the doors.\nDoors 7:45pm\,16+ (bring ID). A ticket link will be available soon.\nYounger patrons can be signed in at the door and accompanied for the duration of the show by a responsible adult.Earplugs are available upon request (50p).Downstairs bar open until 1am.\nLike all our gigs this show finishes well in time for the last trains North and South to Cambridge/Peterborough and Londonand we are just a 5 minute stroll from the station.For full up to the minute listings please visit www.club-85.co.uk and consider signing up to our mailing list forinformation on existing and upcoming gigs straight to you!And remember… Club 85 loves you!
URL:https://club-85.co.uk/event/everest-queen-the-grey-denali-men-of-munga/
LOCATION:Club 85\, 74 Whinbush Road\, Hitchin\, Hertfordshire\, SG5 1PZ\, United Kingdom
ATTACH;FMTTYPE=image/png:https://club-85.co.uk/wp-content/uploads/2024/04/everestqueen2.png
GEO:51.9528628;-0.2720485
X-APPLE-STRUCTURED-LOCATION;VALUE=URI;X-ADDRESS=Club 85 74 Whinbush Road Hitchin Hertfordshire SG5 1PZ United Kingdom;X-APPLE-RADIUS=500;X-TITLE=74 Whinbush Road:geo:-0.2720485,51.9528628
END:VEVENT
END:VCALENDAR