BEGIN:VCALENDAR
VERSION:2.0
PRODID:-//Club 85 - ECPv6.15.20//NONSGML v1.0//EN
CALSCALE:GREGORIAN
METHOD:PUBLISH
X-ORIGINAL-URL:https://club-85.co.uk
X-WR-CALDESC:Events for Club 85
REFRESH-INTERVAL;VALUE=DURATION:PT1H
X-Robots-Tag:noindex
X-PUBLISHED-TTL:PT1H
BEGIN:VTIMEZONE
TZID:Europe/London
BEGIN:DAYLIGHT
TZOFFSETFROM:+0000
TZOFFSETTO:+0100
TZNAME:BST
DTSTART:20230326T010000
END:DAYLIGHT
BEGIN:STANDARD
TZOFFSETFROM:+0100
TZOFFSETTO:+0000
TZNAME:GMT
DTSTART:20231029T010000
END:STANDARD
BEGIN:DAYLIGHT
TZOFFSETFROM:+0000
TZOFFSETTO:+0100
TZNAME:BST
DTSTART:20240331T010000
END:DAYLIGHT
BEGIN:STANDARD
TZOFFSETFROM:+0100
TZOFFSETTO:+0000
TZNAME:GMT
DTSTART:20241027T010000
END:STANDARD
BEGIN:DAYLIGHT
TZOFFSETFROM:+0000
TZOFFSETTO:+0100
TZNAME:BST
DTSTART:20250330T010000
END:DAYLIGHT
BEGIN:STANDARD
TZOFFSETFROM:+0100
TZOFFSETTO:+0000
TZNAME:GMT
DTSTART:20251026T010000
END:STANDARD
END:VTIMEZONE
BEGIN:VEVENT
DTSTART;TZID=Europe/London:20240905T194500
DTEND;TZID=Europe/London:20240905T233000
DTSTAMP:20260425T152949
CREATED:20240326T143152Z
LAST-MODIFIED:20240326T143152Z
UID:10000380-1725565500-1725579000@club-85.co.uk
SUMMARY:THE LUKE COMBS EXPERIENCE
DESCRIPTION:Embark on a journey through heartland melodies and raw country storytelling with ‘The Luke Combs Experience’ – an electrifying tribute to one of country music’s brightest stars. Join us for an unforgettable evening as we celebrate the chart-topping hits and soul-stirring ballads of Luke Combs\, delivered with unmatched passion and authenticity.\n\nSing along to hits like: The Kind of Love We Make’\, ‘Beer Never Broke My Heart’ to ‘Beautiful Crazy’ and ‘Growin’ Up’\, ‘Gettin’ Old’ and ‘Fast Car’\n\nWhether you’re a country music fan or not\, we’re sure that you’ll be singing and dancing the night away.\n\nTickets are priced at £20 and are available from 10am on Thursday 28th March from See Tickets. \nDoors: 7:45pm \nAge: 16+ with photo ID – younger patrons can be signed in at the door and accompanied for the duration of the show by a responsible adult.\nEarplugs are available upon request (50p).\nDownstairs bar open until 11pm.\nLike all our gigs this show finishes well in time for the last trains North and South to Cambridge/Peterborough and London and we are just a 5 minute stroll from the station.\nFor full up to the minute listings please visit www.club-85.co.uk and consider signing up to our mailing list for information on existing and upcoming gigs straight to you!\nAnd remember… Club 85 loves you! xo
URL:https://club-85.co.uk/event/the-luke-combs-experience/
LOCATION:Club 85\, 74 Whinbush Road\, Hitchin\, Hertfordshire\, SG5 1PZ\, United Kingdom
ATTACH;FMTTYPE=image/jpeg:https://club-85.co.uk/wp-content/uploads/2024/03/Luke-Combs-HItchin-Poster.jpg
GEO:51.9528628;-0.2720485
X-APPLE-STRUCTURED-LOCATION;VALUE=URI;X-ADDRESS=Club 85 74 Whinbush Road Hitchin Hertfordshire SG5 1PZ United Kingdom;X-APPLE-RADIUS=500;X-TITLE=74 Whinbush Road:geo:-0.2720485,51.9528628
END:VEVENT
BEGIN:VEVENT
DTSTART;TZID=Europe/London:20240906T194500
DTEND;TZID=Europe/London:20240906T233000
DTSTAMP:20260425T152949
CREATED:20240526T162529Z
LAST-MODIFIED:20240726T201044Z
UID:10000397-1725651900-1725665400@club-85.co.uk
SUMMARY:*NEW DATE* Balstock Fundraiser!!! Raise The Devil/ World On Fire/ Black River Dogs/ Lullaby Riot
DESCRIPTION:One more time\, C85 will host a fundraiser for Balstock\, Hertfordshire’s biggest free music festival!https://balstock.co.uk/\n\n\nThe line-up will feature:\nRaise The Devil – The southern-tinged rockers with a dark edge\, who feature members of Cage Fight and Balstock’s founder G La Roche in their line-up. Check out last year’s singles ‘So Low’ and ‘Bitter Pills’ at https://open.spotify.com/artist/1zFlugzu43DBzGHhok1zfThttps://www.facebook.com/raisethedevil\n\n\nWorld On Fire – Synth-rockers from Hitchin\, 80s-style rock meets 90s-style rave that always gets the crowds moving. Check out their singles at https://open.spotify.com/artist/3gc5DRGDlUBOtEmNcCxskPhttps://www.facebook.com/bandworldonfire\n\n\n\nBlack River Dogs – A hard rock local trio\, whose new 6-track EP ‘Year Of The Dog’ can be streamed at https://open.spotify.com/album/39mSyjZq4hkZZQqpCwlsDh.https://www.facebook.com/BlackRiverDogs\n\n\nLullaby Riot – Old school punks from North Herts\, who despite only forming a couple of years ago\, already have a couple of EPs of material online – have listen at https://open.spotify.com/artist/2zlfsoq8WUeoDe3GfLZzhc.https://www.facebook.com/lullabyriotband\n\n\n\nTickets £7.00 + 10% booking fee or £9 on the door. \n\n\nDoors: 7:45pm. \n16+ (bring ID). \n\nYounger patrons can be signed in at the door and accompanied for the duration of the show by a responsible adult.Earplugs are available upon request (50p).Downstairs bar open until 1am.Like all our gigs this show finishes well in time for the last trains North and South to Cambridge/Peterborough and Londonand we are just a 5 minute stroll from the station.\nFor full up to the minute listings please visit www.club-85.co.uk and consider signing up to our mailing list forinformation on existing and upcoming gigs straight to you!And remember… Club 85 loves you! xo
URL:https://club-85.co.uk/event/balstock-fundraiser-raise-the-devil-world-on-fire-night-thieves-black-river-dogs-lullaby-riot/
LOCATION:Club 85\, 74 Whinbush Road\, Hitchin\, Hertfordshire\, SG5 1PZ\, United Kingdom
ATTACH;FMTTYPE=image/png:https://club-85.co.uk/wp-content/uploads/2024/05/balstock-fund-new.png
GEO:51.9528628;-0.2720485
X-APPLE-STRUCTURED-LOCATION;VALUE=URI;X-ADDRESS=Club 85 74 Whinbush Road Hitchin Hertfordshire SG5 1PZ United Kingdom;X-APPLE-RADIUS=500;X-TITLE=74 Whinbush Road:geo:-0.2720485,51.9528628
END:VEVENT
BEGIN:VEVENT
DTSTART;TZID=Europe/London:20240921T193000
DTEND;TZID=Europe/London:20240921T233000
DTSTAMP:20260425T152949
CREATED:20240209T191424Z
LAST-MODIFIED:20240919T181229Z
UID:10000250-1726947000-1726961400@club-85.co.uk
SUMMARY:*SOLD OUT* FLOYD UK.   *Rescheduled date from Friday 15th June*
DESCRIPTION:*rescheduled date from Friday 15th June\, all tickets remain valid\, if unable to attend please get a refund from the point of purchase* \n  \nFloyd UK have brought together some of the best musicians in the country to perform their incredible covers & renditions of the Pink Floyd classics. \nThis spellbinding band are dedicated to crafting Pink Floyd’s performances with careful attention to every note\, inflection\, expression and sound effect from instruments to vocals. \nIn addition to their refined musical performances\, there will be the best visual effects\, from multimedia and video to projection and lasers – to enhance the live experience. \nThe band will be revisiting a vast selection of the bands material with tracks played form The Wall\, Wish You Were Here\, Dark Side Of The Moon\, Meddle\, Animals and more. \nTickets priced £15 are on sale from Seetickets from Monday 11th December and available in person from Our Favourite Shop\, Bar85 Hitchin and Davids Book Shop Letchworth. \nTicket link: https://www.seetickets.com/event/floyd-uk/club-85/2848921 \nDoors: 7:30pm \nAge: 16+ with photo ID – younger patrons can be signed in at the door and accompanied for the duration of the show by a responsible adult.\nEarplugs are available upon request (50p).\nDownstairs bar open until 11pm.\nLike all our gigs this show finishes well in time for the last trains North and South to Cambridge/Peterborough and London and we are just a 5 minute stroll from the station.\nFor full up to the minute listings please visit www.club-85.co.uk and consider signing up to our mailing list for information on existing and upcoming gigs straight to you!\nAnd remember… Club 85 loves you! xo
URL:https://club-85.co.uk/event/floyd-uk-2/
LOCATION:Club 85\, 74 Whinbush Road\, Hitchin\, Hertfordshire\, SG5 1PZ\, United Kingdom
ATTACH;FMTTYPE=image/jpeg:https://club-85.co.uk/wp-content/uploads/2024/02/Floyd-Hitchin-Poster-copy.jpg
GEO:51.9528628;-0.2720485
X-APPLE-STRUCTURED-LOCATION;VALUE=URI;X-ADDRESS=Club 85 74 Whinbush Road Hitchin Hertfordshire SG5 1PZ United Kingdom;X-APPLE-RADIUS=500;X-TITLE=74 Whinbush Road:geo:-0.2720485,51.9528628
END:VEVENT
BEGIN:VEVENT
DTSTART;TZID=Europe/London:20240928T194500
DTEND;TZID=Europe/London:20240928T233000
DTSTAMP:20260425T152949
CREATED:20240826T180609Z
LAST-MODIFIED:20240826T180834Z
UID:10000413-1727552700-1727566200@club-85.co.uk
SUMMARY:JAZZ UP! presents…  AWAY FROM HOME
DESCRIPTION:JAZZ UP! presents… \nAWAY FROM HOME \nThe new season of Jazzup returns with a new young band! \nOver the years JazzUp is proud to have brought you the very best in both contemporary and classic jazz this country has to offer.\nAt the same time JazzUp prides itself in giving young players exposure and experience as they go on to become the professionals and stars of the next generation. \nThis night is precisely about that\, with the new kids on the block\, fresh from loads of gigging\, composing and recording\, taking centre stage. \nJazzUp regulars will also know that UK jazz is in a sustained and highly energised renaissance which is driven by youth\, diversity and originality. Away From Home are very much a part of it and typify the movement. \nThey are energetic\, youthful\, and occasionally gloriously wonky\, and this Leeds-based quintet unleashes its original swinging tunes with an acoustic rhythm section and bottom- heavy horns. Influenced by Mingus\, Phronesis & Don Ellis\, they bring rich tones and new ideas every time they play. \nLINE-UP \nBenji Arnold – Trombone/Vocals\nJamie Gallacher – Tenor Sax\nSean Blake – Double Bass\nIsaac Keech – Keys\nAngus Haygarth – Drums \nLed by ace trombonist Benji Arnold – new rising stars on the Leeds DIY x Alt-Jazz scene. \nEdgy jazz fusion straight outta Leeds. – DJ Lubi Jovanovic \nLINKS \n \n \n+ DJ Sten King \nOur resident JazzUP DJ Sten King delivers that unique JazzUp vibe. Sten is well known as a presenter of acclaimed hip hop radio shows such as ‘The Boom Bap Boutique’\, and has built a reputation as the DJ that the musicians love as much as the audience. \nTicket details \n£15 + 10% Booking fee standard price\n£12 + 10% Booking fee with JazzUp Loyalty Card \nOnline tickets available from: \nwww.club-85.co.uk\nwww.jazzupuk.com \nTickets may also be purchased on the door but please be aware that JazzUp can sometimes be very busy. \n16+ with photo ID – younger patrons can be signed in at the door by a responsible adult. \nLike all our gigs\, this show finishes well in time for the last trains North and South to Cambridge/Peterborough and London and we are just a 5 minute stroll from the station. \nMore JAZZ UP! details here: \nWEBSITE https://jazzupuk.com\nFACEBOOK https://www.facebook.com/JazzUpC85\nINSTAGRAM https://instagram.com/jazzuphitchin\nTWITTER @JazzUpHitchin \nAny further questions please contact robin@robincampbell.org \nJAZZ UP! is sponsored by:\nRobin Campbell Music – https://robincampbell.org/\nKeechdesign UK Ltd. – https://www.keechdesign.co.uk/
URL:https://club-85.co.uk/event/jazz-up-presents-away-from-home/
LOCATION:Club 85\, 74 Whinbush Road\, Hitchin\, Hertfordshire\, SG5 1PZ\, United Kingdom
ATTACH;FMTTYPE=image/png:https://club-85.co.uk/wp-content/uploads/2024/08/Away-from-home.png
GEO:51.9528628;-0.2720485
X-APPLE-STRUCTURED-LOCATION;VALUE=URI;X-ADDRESS=Club 85 74 Whinbush Road Hitchin Hertfordshire SG5 1PZ United Kingdom;X-APPLE-RADIUS=500;X-TITLE=74 Whinbush Road:geo:-0.2720485,51.9528628
END:VEVENT
END:VCALENDAR