BEGIN:VCALENDAR
VERSION:2.0
PRODID:-//Club 85 - ECPv6.15.16//NONSGML v1.0//EN
CALSCALE:GREGORIAN
METHOD:PUBLISH
X-ORIGINAL-URL:https://club-85.co.uk
X-WR-CALDESC:Events for Club 85
REFRESH-INTERVAL;VALUE=DURATION:PT1H
X-Robots-Tag:noindex
X-PUBLISHED-TTL:PT1H
BEGIN:VTIMEZONE
TZID:Europe/London
BEGIN:DAYLIGHT
TZOFFSETFROM:+0000
TZOFFSETTO:+0100
TZNAME:BST
DTSTART:20240331T010000
END:DAYLIGHT
BEGIN:STANDARD
TZOFFSETFROM:+0100
TZOFFSETTO:+0000
TZNAME:GMT
DTSTART:20241027T010000
END:STANDARD
BEGIN:DAYLIGHT
TZOFFSETFROM:+0000
TZOFFSETTO:+0100
TZNAME:BST
DTSTART:20250330T010000
END:DAYLIGHT
BEGIN:STANDARD
TZOFFSETFROM:+0100
TZOFFSETTO:+0000
TZNAME:GMT
DTSTART:20251026T010000
END:STANDARD
BEGIN:DAYLIGHT
TZOFFSETFROM:+0000
TZOFFSETTO:+0100
TZNAME:BST
DTSTART:20260329T010000
END:DAYLIGHT
BEGIN:STANDARD
TZOFFSETFROM:+0100
TZOFFSETTO:+0000
TZNAME:GMT
DTSTART:20261025T010000
END:STANDARD
END:VTIMEZONE
BEGIN:VEVENT
DTSTART;TZID=Europe/London:20250110T194500
DTEND;TZID=Europe/London:20250110T233000
DTSTAMP:20260423T110738
CREATED:20241218T182203Z
LAST-MODIFIED:20241218T182203Z
UID:10000449-1736538300-1736551800@club-85.co.uk
SUMMARY:LATINO NIGHT RETURNS TO CLUB 85!
DESCRIPTION:LATINO NIGHT RETURNS TO CLUB 85! Friday\, January 10th\, 2025 Club 85\, Hitchin \nTickets: £15 – Book now at the Club 85 website!\nGet ready for an electrifying evening as Francis Alejandro Cardoso brings his passion\, energy\, and talent back to the stage at Club 85! \nWHO IS FRANCIS ALEJANDRO CARDOSO?\nBritain’s Got Talent 2010 semifinalist with Dance Flavourz XFactor 2011 contestant Star of Come Dine with Me Couples 2016 Francis Alejandro Cardoso will dazzle you with his signature Latin moves\, captivate you with his sensational voice\, and get you moving to the beat like never before! \nWHAT’S IN STORE? \nLive Latin performances featuring salsa\, merengue\, samba\, bachata\, and more Fun\, interactive dance lessons for all levels—no experience needed! A night of music\, rhythm\, and vibrant energy that you’ll never forget \nDoors open at 7:45 PM\, so bring your friends\, your dancing shoes\, and your excitement for an unforgettable night filled with Latin beats and high-energy fun!\nTag your squad and book your tickets now—this is a night you don’t want to miss! Club 85 @franciscardoso1 | Graham Dullaghan Integrity Magazine @highlight LET’S DANCE THE NIGHT AWAY! \nAge: 16+ with photo ID – younger patrons can be signed in at the door and accompanied for the duration of the show by a responsible adult.\nEarplugs are available upon request (50p).\nDownstairs bar open until 1am.\nLike all our gigs this show finishes well in time for the last trains North and South to Cambridge/Peterborough and London and we are just a 5 minute stroll from the station.\nFor full up to the minute listings please visit www.club-85.co.uk and consider signing up to our mailing list for information on existing and upcoming gigs straight to you!\nAnd remember… Club 85 loves you! xo
URL:https://club-85.co.uk/event/latino-night-returns-to-club-85/
LOCATION:Club 85\, 74 Whinbush Road\, Hitchin\, Hertfordshire\, SG5 1PZ\, United Kingdom
ATTACH;FMTTYPE=image/jpeg:https://club-85.co.uk/wp-content/uploads/2024/12/aae50c55-6f7c-40b1-8a27-27a1b4a0ee83.jpg
GEO:51.9528628;-0.2720485
X-APPLE-STRUCTURED-LOCATION;VALUE=URI;X-ADDRESS=Club 85 74 Whinbush Road Hitchin Hertfordshire SG5 1PZ United Kingdom;X-APPLE-RADIUS=500;X-TITLE=74 Whinbush Road:geo:-0.2720485,51.9528628
END:VEVENT
BEGIN:VEVENT
DTSTART;TZID=Europe/London:20250111T193000
DTEND;TZID=Europe/London:20250111T233000
DTSTAMP:20260423T110738
CREATED:20241025T171734Z
LAST-MODIFIED:20241206T192816Z
UID:10000428-1736623800-1736638200@club-85.co.uk
SUMMARY:(SOLD OUT) A TRIBUTE TO AMY WINEHOUSE – Performed by SOUND OF LIONESS
DESCRIPTION:Formed in 2016\, SOUND OF LIONESS is an 8-piece tribute to AMY WINEHOUSE with the goal of paying an authentic homage to the music of the late Amy Winehouse. \nComplete with a full horn section (including Baritone sax and flute) and drawing inspiration from her incredible performances\, the band accurately recreates the live sound of Amy’s touring bands of the 2000s\, ranging from the jazz-inflection of the Frank era (2004) to the soul-drenched Mark Ronson style of the Back to Black years (2006-7). \nExpect to hear some of her greatest hits like: \nValerie\, Back to Black\, Tears Dry On Their Own\, Rehab\, Me & Mr. Jones\, Monkey Man\, Love Is A Losing Game\, Will You Still Love Me\, You Know I’m No Good\, Stronger Than Me\, \nWith the release of the Amy Winehouse biopic\, Back to Black\, coming up in April\, we’re sure this will be a popular show. \nTickets are on sale at £15 on Monday 28th October at 10am\, available online at See Tickets and local outlets of Bar 85\, H Town Wax and Rags and Davids Music Hitchin. \n  \nTicket link: https://www.seetickets.com/event/sound-of-lioness-a-tribute-to-amy-winehouse/club-85 \nDoors: 7:30pm \n\nAge: 16+ with photo ID – younger patrons can be signed in at the door and accompanied for the duration of the show by a responsible adult.\nEarplugs are available upon request (50p).\nDownstairs bar open until 11pm.\nLike all our gigs this show finishes well in time for the last trains North and South to Cambridge/Peterborough and London and we are just a 5 minute stroll from the station.\nFor full up to the minute listings please visit www.club-85.co.uk and consider signing up to our mailing list for information on existing and upcoming gigs straight to you!\nAnd remember… Club 85 loves you! xo
URL:https://club-85.co.uk/event/a-tribute-to-amy-winehouse-performed-by-sound-of-lioness/
LOCATION:Club 85\, 74 Whinbush Road\, Hitchin\, Hertfordshire\, SG5 1PZ\, United Kingdom
ATTACH;FMTTYPE=image/png:https://club-85.co.uk/wp-content/uploads/2024/10/Amy-Hitchin-Poster.png
GEO:51.9528628;-0.2720485
X-APPLE-STRUCTURED-LOCATION;VALUE=URI;X-ADDRESS=Club 85 74 Whinbush Road Hitchin Hertfordshire SG5 1PZ United Kingdom;X-APPLE-RADIUS=500;X-TITLE=74 Whinbush Road:geo:-0.2720485,51.9528628
END:VEVENT
BEGIN:VEVENT
DTSTART;TZID=Europe/London:20250118T194500
DTEND;TZID=Europe/London:20250118T233000
DTSTAMP:20260423T110738
CREATED:20241028T175417Z
LAST-MODIFIED:20250118T185322Z
UID:10000429-1737229500-1737243000@club-85.co.uk
SUMMARY:WHOLE LOTTA DC! (The Ultimate AC/DC Tribute) + Electric Black
DESCRIPTION:On Saturday 18th January we welcome back one of the UK’s finest AC/DC Tribute Bands back to Club 85 for their first show in over 2 years. \nWhole Lotta DC are an authentic representation of AC/DC\, a thundering rhythm section\, the unmistakable vocals & charisma of Brian and Angus’s searing lead work and naughty-boy antics recreate a live AC/DC show in stunning fashion.  From small music pubs to large festivals the band deliver a true AC/DC experience every time they play\, recreating that classic AC/DC sound using the same Sonor\, Gibson\, Gretsch and Musicman instruments and Marshall Cabs used by the band today. \nWHOLE LOTTA DC have played Club 85 numerous times now and have packed the venue out every time and we are expecting a busy night again. This time the band have some new canons and bigger production so expect another great show! \nWe can confirm some very special guests for this one as ELECTRIC BLACK have agreed to open-up proceedings.  The 4-piece are a blazing force in the world of British rock music. This electrifying band effortlessly fuses elements of classic rock\, hard rock and indie rock\, creating a sound that is uniquely their own. With a passion for delivering high-octane performances\, Electric Black are fast becoming known for their raw energy and captivating stage presence. Fronted by the charismatic lead vocalist and songwriter\, Ali Shiach mesmerizes audiences with his powerhouse vocals and soulful delivery. Ali’s dynamic range and emotional depth add a captivating layer to the band’s anthemic sound. \nTickets priced £13 are on sale now from Seetickets (subject to booking fee) from Tuesday 29th October and can be bought in person Bar 85\, Our Favourite Shop and Davids Music in Letchworth. \nTicket link: https://www.seetickets.com/event/whole-lotta-dc/club-85 \nDoors: 7:45pm \nAge: 16+ with photo ID – younger patrons can be signed in at the door and accompanied for the duration of the show by a responsible adult. \nEarplugs are available upon request (50p).\nDownstairs bar open until 11pm.\nLike all our gigs this show finishes well in time for the last trains North and South to Cambridge/Peterborough and London and we are just a 5 minute stroll from the station.\nFor full up to the minute listings please visit www.club-85.co.uk and consider signing up to our mailing list for information on existing and upcoming gigs straight to you!\nAnd remember… Club 85 loves you! xo
URL:https://club-85.co.uk/event/whole-lotta-dc-the-ultimate-ac-dc-tribute-electric-black/
LOCATION:Club 85\, 74 Whinbush Road\, Hitchin\, Hertfordshire\, SG5 1PZ\, United Kingdom
ATTACH;FMTTYPE=image/png:https://club-85.co.uk/wp-content/uploads/2024/10/Whole-Lotta-DC-Hitchin-Poster.png
GEO:51.9528628;-0.2720485
X-APPLE-STRUCTURED-LOCATION;VALUE=URI;X-ADDRESS=Club 85 74 Whinbush Road Hitchin Hertfordshire SG5 1PZ United Kingdom;X-APPLE-RADIUS=500;X-TITLE=74 Whinbush Road:geo:-0.2720485,51.9528628
END:VEVENT
BEGIN:VEVENT
DTSTART;TZID=Europe/London:20250131T193000
DTEND;TZID=Europe/London:20250131T233000
DTSTAMP:20260423T110738
CREATED:20241030T162727Z
LAST-MODIFIED:20241030T163058Z
UID:10000432-1738351800-1738366200@club-85.co.uk
SUMMARY:ION MAIDEN – A fully Charged Tribute to Iron Maiden
DESCRIPTION:Ion Maiden Formed in August 2018\, Ion Maiden was built around the core of four ex-members of some of the best Maiden tribute bands in the UK\, and with only one rehearsal their first gig was an instant success with Maiden fans. \nSince they exploded onto the scene the band have played Holland\, various clubs throughout the UK\, and London raising over £3\,000 towards the Legend that is the late Paul Di’Anno at the Camden Underworld\, who was blown away by the video footage that was sent to him in Croatia. \nMore recently they were honoured to be asked to open the “Birthplace of Iron Maiden” the Cart & Horses after its lengthy refurbishment\, with support from another Iron Maiden stars band\, Doug Sampson (Airforce) the original drummer of the soundhouse tapes. \nWith a new singer on board the band are now putting on some of the most authentic maiden shows you’ll see\, apart from the real Iron Maiden that is! \nNo strangers to Club 85 this is always a very busy night ! \nTickets priced £13 advance can be bought online from Seetickets from Friday 1st November and available from the local outlets of Bar 85\, H Town Wax and Rags and Davids Music Hitchin. \n14+ only. 14s to 16s must be accompanied by an adult. No refunds will be given for incorrectly booked tickets. \nTicket link: https://www.seetickets.com/event/ion-maiden/club-85/3218185 \nDoors: 7:30pm \nAge: 16+ with photo ID – younger patrons can be signed in at the door and accompanied for the duration of the show by a responsible adult. \n\nEarplugs are available upon request (50p).\nDownstairs bar open until 11pm.\nLike all our gigs this show finishes well in time for the last trains North and South to Cambridge/Peterborough and London and we are just a 5 minute stroll from the station.\nFor full up to the minute listings please visit www.club-85.co.uk and consider signing up to our mailing list for information on existing and upcoming gigs straight to you!\nAnd remember… Club 85 loves you! xo
URL:https://club-85.co.uk/event/ion-maiden-a-fully-charged-tribute-to-iron-maiden/
LOCATION:Club 85\, 74 Whinbush Road\, Hitchin\, Hertfordshire\, SG5 1PZ\, United Kingdom
ATTACH;FMTTYPE=image/png:https://club-85.co.uk/wp-content/uploads/2024/10/Ion-Maiden-Hitchin-Poster.png
GEO:51.9528628;-0.2720485
X-APPLE-STRUCTURED-LOCATION;VALUE=URI;X-ADDRESS=Club 85 74 Whinbush Road Hitchin Hertfordshire SG5 1PZ United Kingdom;X-APPLE-RADIUS=500;X-TITLE=74 Whinbush Road:geo:-0.2720485,51.9528628
END:VEVENT
END:VCALENDAR