BEGIN:VCALENDAR
VERSION:2.0
PRODID:-//Club 85 - ECPv6.15.16//NONSGML v1.0//EN
CALSCALE:GREGORIAN
METHOD:PUBLISH
X-ORIGINAL-URL:https://club-85.co.uk
X-WR-CALDESC:Events for Club 85
REFRESH-INTERVAL;VALUE=DURATION:PT1H
X-Robots-Tag:noindex
X-PUBLISHED-TTL:PT1H
BEGIN:VTIMEZONE
TZID:Europe/London
BEGIN:DAYLIGHT
TZOFFSETFROM:+0000
TZOFFSETTO:+0100
TZNAME:BST
DTSTART:20180325T010000
END:DAYLIGHT
BEGIN:STANDARD
TZOFFSETFROM:+0100
TZOFFSETTO:+0000
TZNAME:GMT
DTSTART:20181028T010000
END:STANDARD
BEGIN:DAYLIGHT
TZOFFSETFROM:+0000
TZOFFSETTO:+0100
TZNAME:BST
DTSTART:20190331T010000
END:DAYLIGHT
BEGIN:STANDARD
TZOFFSETFROM:+0100
TZOFFSETTO:+0000
TZNAME:GMT
DTSTART:20191027T010000
END:STANDARD
BEGIN:DAYLIGHT
TZOFFSETFROM:+0000
TZOFFSETTO:+0100
TZNAME:BST
DTSTART:20200329T010000
END:DAYLIGHT
BEGIN:STANDARD
TZOFFSETFROM:+0100
TZOFFSETTO:+0000
TZNAME:GMT
DTSTART:20201025T010000
END:STANDARD
END:VTIMEZONE
BEGIN:VEVENT
DTSTART;TZID=Europe/London:20191116T193000
DTEND;TZID=Europe/London:20191117T000000
DTSTAMP:20260424T202358
CREATED:20191026T130502Z
LAST-MODIFIED:20191026T130533Z
UID:10000055-1573932600-1573948800@club-85.co.uk
SUMMARY:Regnum Promotions present... VOICES / RED METHOD / SHRINES / JACKAL'S BACKBONE!
DESCRIPTION:Voices\, featuring members of Akercocke\, will perform live at Club 85\, Hitchin. They will be joined by the excellent Red Method\, Shrines and Jackals Backbone\, who recently progressed from M2TM Hitchin to perform at Bloodstock Festival \nVOICES\nwww.facebook.com/voiceslondon \nRED METHOD\nwww.facebook.com/RedMethodBand \nSHRINES\nwww.facebook.com/shrinesofficial \nJACKAL’S BACKBONE\nwww.facebook.com/jackalsbackbone \nEntry £8 in advance\, £10 on the door.\nDoors 7.30pm \nOnline tickets available from:\nwww.wegottickets.com/event/480756 \n16+ with photo ID – younger patrons can be signed in at the door and accompanied for the duration of the show by a responsible adult. \nEarplugs are available upon request (50p). \nDownstairs bar open until 11pm. \nLike all our gigs this show finishes well in time for the last trains North and South to Cambridge/Peterborough and London and we are just a 5 minute stroll from the station. \nFor full up to the minute listings please visit www.club-85.co.uk and consider signing up to our mailing list for information on existing and upcoming gigs straight to you! \nAnd remember… Club 85 loves you! xo
URL:https://club-85.co.uk/event/regnum-promotions-present-voices-red-method-shrines-jackals-backbone/
LOCATION:Club 85\, 74 Whinbush Road\, Hitchin\, Hertfordshire\, SG5 1PZ\, United Kingdom
CATEGORIES:Metal,Rock
GEO:51.9528628;-0.2720485
X-APPLE-STRUCTURED-LOCATION;VALUE=URI;X-ADDRESS=Club 85 74 Whinbush Road Hitchin Hertfordshire SG5 1PZ United Kingdom;X-APPLE-RADIUS=500;X-TITLE=74 Whinbush Road:geo:-0.2720485,51.9528628
END:VEVENT
END:VCALENDAR